| wilson1 |
Linux (openSUSE 11.1) / x86_64 | | | |
| [liverpool] |
Windows Server 2003 R2 (32-bit) / x64 | | | |
| gewurz |
Windows Server 2008 R2 Enterprise (64-bit) / x64 | | | |
| pelham |
Mac OS X Leopard (10.5.8) / i386 | | | |
|
|
| A [A] B C D E F G H I J K L M N O P Q R S T U V W X Y Z |
| ABarray 1.16.0 | Yongming Andrew Sun | OK | OK | OK |
| aCGH 1.26.0 | Peter Dimitrov | OK | OK | OK |
| ACME 2.4.0 | Sean Davis | OK | OK | OK |
| adSplit 1.18.0 | Claudio Lottaz | OK | OK | OK |
| affxparser 1.20.0 | Kasper Daniel Hansen | OK | OK | OK |
| affy 1.26.1 | Rafael A. Irizarry | OK | OK | OK |
| affycomp 1.24.0 | Rafael A. Irizarry | OK | OK | OK |
| AffyCompatible 1.8.0 | Martin Morgan | OK | OK | OK |
| affyContam 1.6.0 | V. Carey | OK | OK | OK |
| affycoretools 1.20.0 | James W. MacDonald | OK | WARNINGS | OK |
| AffyExpress 1.14.0 | Xuejun Arthur Li | OK | OK | OK |
| affyILM 1.0.0 | Myriam Kroll and Fabrice Berger | OK | OK | OK |
| affyio 1.16.0 | Benjamin Milo Bolstad | OK | OK | OK |
| affylmGUI 1.22.0 | Keith Satterley | OK | OK | OK |
| affyPara 1.8.0 | Markus Schmidberger | OK | OK | OK |
| affypdnn 1.22.0 | Laurent Gautier | OK | OK | OK |
| affyPLM 1.24.1 | Ben Bolstad | OK | WARNINGS | OK |
| affyQCReport 1.26.0 | Craig Parman | OK | OK | OK |
| AffyTiling 1.6.0 | Charles G. Danko | OK | OK | OK |
| Agi4x44PreProcess 1.8.0 | Pedro Lopez-Romero | OK | OK | OK |
| AgiMicroRna 1.2.0 | Pedro Lopez-Romero | OK | OK | OK |
| altcdfenvs 2.10.0 | Laurent Gautier | OK | OK | OK |
| annaffy 1.20.0 | Colin A. Smith | OK | OK | OK |
| annotate 1.26.1 | Biocore Team c/o BioC user list | OK | OK | OK |
| AnnotationDbi 1.10.2 | Biocore Team c/o BioC user list | OK | OK | OK |
| annotationTools 1.20.0 | Alexandre Kuhn | OK | OK | OK |
| apComplex 2.14.0 | Denise Scholtens | OK | OK | OK |
| aroma.light 1.16.1 | Henrik Bengtsson | OK | OK | OK |
| ArrayExpress 1.8.0 | Audrey Kauffmann | ERROR | skipped | skipped |
| arrayMvout 1.6.0 | V. Carey | OK | OK | OK |
| arrayQuality 1.26.0 | Agnes Paquet | OK | OK | OK |
| arrayQualityMetrics 2.6.0 | Audrey Kauffmann | OK | OK | OK |
| ArrayTools 1.8.0 | Arthur Li | OK | OK | OK |
|
| B A [B] C D E F G H I J K L M N O P Q R S T U V W X Y Z |
| BAC 1.8.0 | Raphael Gottardo | OK | OK | OK |
| BayesPeak 1.0.1 | Jonathan Cairns | OK | OK | OK |
| baySeq 1.2.0 | Thomas J. Hardcastle | OK | WARNINGS | OK |
| BCRANK 1.10.0 | Adam Ameur | OK | OK | OK |
| beadarray 1.16.0 | Mark Dunning | OK | OK | OK |
| beadarraySNP 1.14.0 | Jan Oosting | OK | OK | OK |
| BeadDataPackR 1.0.1 | Mike Smith | OK | OK | OK |
| betr 1.4.0 | Martin Aryee | OK | OK | OK |
| bgafun 1.10.0 | Iain Wallace | OK | OK | OK |
| BGmix 1.8.0 | Alex Lewin | OK | OK | OK |
| bgx 1.12.0 | Ernest Turro | OK | OK | OK |
| BicARE 1.6.0 | Pierre Gestraud | OK | OK | OK |
| Biobase 2.8.0 | Biocore Team c/o BioC user list | OK | OK | OK |
| BiocCaseStudies 1.10.0 | Biocore Team c/o BioC user list | OK | OK | OK |
| biocDatasets 1.4.0 | L. Gautier | OK | OK | OK |
| biocGraph 1.10.0 | Florian Hahne | OK | OK | OK |
| biocViews 1.16.2 | Biocore Team c/o BioC user list | OK | OK | OK |
| bioDist 1.20.0 | Biocore Team c/o BioC user list | OK | OK | OK |
| biomaRt 2.4.0 | Steffen Durinck | OK | OK | OK |
| BioMVCClass 1.16.0 | Elizabeth Whalen | OK | OK | OK |
| BioSeqClass 1.6.0 | Li Hong | OK | OK | OK |
| Biostrings 2.16.9 | H. Pages | OK | WARNINGS | OK |
| bridge 1.12.1 | Raphael Gottardo | OK | OK | OK |
| BSgenome 1.16.5 | H. Pages | OK | OK | OK |
| BufferedMatrix 1.12.0 | Benjamin Milo Bolstad | OK | OK | OK |
| BufferedMatrixMethods 1.12.0 | B. M. Bolstad | OK | OK | OK |
| BUS 1.4.0 | Yuanhua Liu | OK | OK | OK |
|
| C A B [C] D E F G H I J K L M N O P Q R S T U V W X Y Z |
| CALIB 1.14.0 | Hui Zhao | OK | OK | OK |
| CAMERA 1.4.3 | Carsten Kuhl | OK | ERROR | OK |
| Category 2.14.0 | Robert Gentleman | OK | OK | OK |
| cellHTS 1.18.0 | Ligia Bras | OK | OK | OK |
| cellHTS2 2.12.0 | Florian Hahne | OK | WARNINGS | OK |
| CGHbase 1.6.0 | Sjoerd Vosse | OK | OK | OK |
| CGHcall 2.8.0 | Mark van de Wiel | OK | OK | OK |
| cghMCR 1.6.0 | J. Zhang | OK | OK | OK |
| CGHnormaliter 1.2.0 | Bart P.P. van Houte | OK | OK | OK |
| CGHregions 1.6.0 | Mark van de Wiel | OK | OK | OK |
| charm 1.0.1 | Martin Aryee | OK | OK | OK |
| ChemmineR 1.8.0 | Y. Eddie Cao | OK | OK | OK |
| ChIPpeakAnno 1.4.2 | Lihua Julie Zhu | OK | OK | OK |
| chipseq 0.4.1 | Biocore Team c/o BioC user list | OK | OK | OK |
| ChIPseqR 1.2.0 | Peter Humburg | OK | OK | OK |
| ChIPsim 1.2.0 | Peter Humburg | OK | OK | OK |
| ChromHeatMap 1.2.0 | Tim F. Rayner | OK | OK | OK |
| clippda 1.2.0 | Stephen Nyangoma | OK | OK | OK |
| clusterStab 1.20.0 | James W. MacDonald | OK | OK | OK |
| CMA 1.6.0 | Christoph Bernau | OK | OK | OK |
| CNTools 1.4.0 | J. Zhang | OK | OK | OK |
| CNVtools 1.42.0 | Chris Barnes | OK | OK | OK |
| CoCiteStats 1.20.0 | R. Gentleman | OK | OK | OK |
| codelink 1.16.0 | Diego Diez | OK | OK | OK |
| ConsensusClusterPlus 1.0.1 | Matt Wilkerson | OK | OK | OK |
| convert 1.24.0 | Yee Hwa (Jean) Yang | OK | OK | OK |
| copa 1.16.0 | James W. MacDonald | OK | OK | OK |
| CORREP 1.14.0 | Dongxiao Zhu | OK | OK | OK |
| cosmo 1.14.0 | Oliver Bembom | OK | OK | OK |
| cosmoGUI 1.14.0 | Oliver Bembom | OK | OK | OK |
| crlmm 1.6.6 | Benilton S Carvalho , Robert Scharpf , Matt Ritchie | OK | OK | OK |
| CSAR 1.0.0 | Jose M Muino | OK | OK | OK |
| ctc 1.22.0 | Antoine Lucas | OK | OK | OK |
| cycle 1.2.0 | Matthias Futschik | OK | OK | OK |
|
| D A B C [D] E F G H I J K L M N O P Q R S T U V W X Y Z |
| daMA 1.20.0 | Jobst Landgrebe | OK | OK | OK |
| DAVIDQuery 1.8.1 | Roger Day | OK | OK | OK |
| ddCt 1.2.0 | Jitao David Zhang | OK | OK | OK |
| DEDS 1.22.0 | Yuanyuan Xiao | OK | OK | OK |
| DEGseq 1.2.2 | Likun Wang | OK | OK | OK |
| DESeq 1.0.6 | Simon Anders | OK | WARNINGS | OK |
| DFP 1.6.0 | Rodrigo Alvarez-Glez | OK | OK | OK |
| diffGeneAnalysis 1.30.0 | Choudary Jagarlamudi | OK | OK | OK |
| DNAcopy 1.22.1 | Venkatraman E. Seshan | OK | OK | OK |
| domainsignatures 1.8.0 | Florian Hahne | OK | OK | OK |
| dualKS 1.8.0 | Eric J. Kort | OK | OK | OK |
| dyebias 1.6.0 | Philip Lijnzaad | OK | OK | OK |
| DynDoc 1.26.0 | Biocore Team c/o BioC user list | OK | OK | OK |
|
| E A B C D [E] F G H I J K L M N O P Q R S T U V W X Y Z |
| EBarrays 2.12.0 | Ming Yuan | OK | OK | OK |
| EBImage 3.4.0 | Gregoire Pau | OK | OK | OK |
| ecolitk 1.20.0 | Laurent Gautier | OK | OK | OK |
| edd 1.26.0 | Vince Carey | OK | OK | OK |
| edgeR 1.6.15 | Mark Robinson , Davis McCarthy , Gordon Smyth | OK | OK | OK |
| eisa 1.0.0 | Gabor Csardi | OK | OK | OK |
| exonmap 2.6.1 | Crispin Miller | OK | OK | OK |
| explorase 1.12.0 | Michael Lawrence | OK | OK | OK |
| ExpressionView 1.1.0 | Gabor Csardi | OK | OK | OK |
| externalVector 1.14.0 | Biocore Team c/o BioC user list | OK | OK | OK |
|
| F A B C D E [F] G H I J K L M N O P Q R S T U V W X Y Z |
| factDesign 1.24.0 | Denise Scholtens | OK | OK | OK |
| fbat 1.12.0 | The R Genetics Project | OK | OK | OK |
| fdrame 1.20.0 | Effi Kenigsberg | OK | OK | OK |
| flagme 1.4.0 | Mark Robinson | OK | OK | OK |
| flowClust 2.6.0 | Raphael Gottardo | OK | WARNINGS | OK |
| flowCore 1.14.1 | F. Hahne | OK | OK | OK |
| flowFlowJo 1.6.0 | John J. Gosink | OK | OK | OK |
| flowFP 1.4.0 | Herb Holyst | OK | OK | OK |
| flowMeans 1.0.1 | Nima Aghaeepour | OK | OK | OK |
| flowMerge 1.2.1 | Greg Finak | OK | OK | OK |
| flowQ 1.8.0 | F. Hahne | OK | OK | OK |
| flowStats 1.6.0 | Florian Hahne and Chao-Jen Wong | OK | OK | OK |
| flowTrans 1.0.0 | Greg Finak | OK | OK | OK |
| flowUtils 1.8.0 | Nishant Gopalakrishnan | OK | OK | OK |
| flowViz 1.12.0 | Florian Hahne | OK | OK | OK |
| frma 1.0.0 | Matthew N. McCall | OK | OK | OK |
| frmaTools 1.0.0 | Matthew N. McCall | OK | OK | OK |
|
| G A B C D E F [G] H I J K L M N O P Q R S T U V W X Y Z |
| gaga 1.8.0 | David Rossell | OK | OK | OK |
| gaggle 1.16.0 | Dan Tenenbaum | OK | OK | OK |
| gcrma 2.20.0 | Z. Wu | OK | OK | OK |
| genArise 1.24.0 | IFC Development Team | OK | OK | OK |
| gene2pathway 1.6.0 | Marc Johannes | OK | OK | OK |
| GeneAnswers 1.4.2 | Gang Feng and Pan Du | OK | OK | OK |
| genefilter 1.30.0 | Biocore Team c/o BioC user list | OK | OK | OK |
| GeneMeta 1.20.0 | Biocore Team c/o BioC user list | OK | OK | OK |
| geneplotter 1.26.0 | Biocore Team c/o BioC user list | OK | OK | OK |
| GeneR 2.18.1 | Y. d'Aubenton-Carafa | OK | OK | OK |
| geneRecommender 1.20.0 | Greg Hather | OK | OK | OK |
| GeneRegionScan 1.4.0 | Lasse Folkersen | OK | OK | OK |
| GeneRfold 1.6.0 | Antoine Lucas | N O T S U P P O R T E D |
| GeneSelectMMD 1.4.0 | Weiliang Qiu | OK | OK | OK |
| GeneSelector 2.4.0 | Martin Slawski | OK | OK | OK |
| GeneSpring 2.22.0 | Thon de Boer | OK | OK | OK |
| GeneticsBase 1.14.0 | The R Genetics Project | OK | WARNINGS | OK |
| GeneticsDesign 1.16.0 | The R Genetics Project | OK | OK | OK |
| GeneticsPed 1.10.0 | David Henderson | OK | OK | OK |
| GeneTraffic 1.20.0 | Daniel Iordan | OK | OK | OK |
| genoCN 1.0.0 | Wei Sun | OK | OK | OK |
| GenomeGraphs 1.8.0 | Steffen Durinck | OK | OK | OK |
| genomeIntervals 1.4.0 | Julien Gagneur | OK | OK | OK |
| genomes 1.4.0 | Chris Stubben | OK | OK | OK |
| GenomicFeatures 1.0.10 | Biocore Team c/o BioC user list | OK | ERROR | OK |
| GenomicRanges 1.0.9 | Biocore Team c/o BioC user list | OK | OK | OK |
| Genominator 1.2.0 | James Bullard | ERROR | skipped | skipped |
| GEOmetadb 1.8.0 | Jack Zhu | OK | OK | OK |
| GEOquery 2.13.7 | Sean Davis | OK | OK | OK |
| GEOsubmission 1.0.0 | Alexandre Kuhn | OK | OK | OK |
| GGBase 3.8.0 | Vince Carey | OK | OK | OK |
| GGtools 3.6.1 | Vince Carey | OK | OK | OK |
| girafe 1.0.0 | J. Toedling | OK | OK | OK |
| GLAD 2.10.0 | Philippe Hupe | OK | OK | OK |
| GlobalAncova 3.16.0 | R. Meister | OK | OK | OK |
| globaltest 5.2.0 | Jelle Goeman | OK | OK | OK |
| goProfiles 1.10.0 | Alex Sanchez | OK | OK | OK |
| GOSemSim 1.6.8 | Guangchuang Yu | OK | OK | OK |
| goseq 1.0.3 | Matthew Young | OK | OK | OK |
| GOstats 2.14.0 | Robert Gentleman | OK | OK | OK |
| goTools 1.22.0 | Agnes Paquet | OK | OK | OK |
| gpls 1.20.0 | Biocore Team c/o BioC user list | OK | OK | OK |
| graph 1.26.0 | Seth Falcon | OK | WARNINGS | OK |
| GraphAlignment 1.10.0 | Joern P. Meier | OK | OK | OK |
| GraphAT 1.20.0 | Thomas LaFramboise | OK | OK | OK |
| GSEABase 1.10.0 | Biocore Team c/o BioC user list | OK | OK | OK |
| GSEAlm 1.8.0 | Assaf Oron | OK | OK | OK |
| GSRI 1.0.0 | Julian Gehring | OK | OK | OK |
|
| H A B C D E F G [H] I J K L M N O P Q R S T U V W X Y Z |
| Harshlight 1.18.0 | Maurizio Pellegrino | OK | OK | OK |
| Heatplus 1.18.0 | Alexander Ploner | OK | OK | OK |
| HELP 1.6.0 | Reid F. Thompson | OK | OK | OK |
| HEM 1.20.0 | HyungJun Cho | OK | OK | OK |
| hexbin 1.22.0 | Nicholas Lewin-Koh | OK | OK | OK |
| HilbertVis 1.6.0 | Simon Anders | OK | OK | OK |
| HilbertVisGUI 1.6.0 | Simon Anders | OK | WARNINGS | OK |
| hopach 2.8.0 | Katherine S. Pollard | OK | OK | OK |
| HTqPCR 1.2.0 | Heidi Dvinge | OK | OK | OK |
| hyperdraw 1.0.0 | Paul Murrell | OK | OK | OK |
| hypergraph 1.20.0 | Robert Gentleman | OK | OK | OK |
|
| I A B C D E F G H [I] J K L M N O P Q R S T U V W X Y Z |
| Icens 1.20.0 | Biocore Team c/o BioC user list | OK | OK | OK |
| iChip 1.0.0 | Qianxing Mo | OK | OK | OK |
| idiogram 1.24.0 | Karl J. Dykema | OK | OK | OK |
| iFlow 2.2.0 | Kyongryun Lee | OK | OK | OK |
| impute 1.22.0 | Balasubramanian Narasimhan | OK | OK | OK |
| IRanges 1.6.17 | Biocore Team c/o BioC user list | OK | WARNINGS | OK |
| ITALICS 2.8.0 | Guillem Rigaill | OK | OK | OK |
| iterativeBMA 1.6.0 | Ka Yee Yeung | OK | OK | OK |
| iterativeBMAsurv 1.6.0 | Ka Yee Yeung | OK | OK | OK |
|
| K A B C D E F G H I J [K] L M N O P Q R S T U V W X Y Z |
| KCsmart 2.6.0 | Jorma de Ronde | OK | OK | OK |
| KEGGgraph 1.4.0 | Jitao David Zhang | OK | OK | OK |
| keggorthology 2.0.1 | VJ Carey | OK | OK | OK |
| KEGGSOAP 1.22.0 | Robert Gentleman | OK | OK | OK |
|
| L A B C D E F G H I J K [L] M N O P Q R S T U V W X Y Z |
| lapmix 1.14.0 | Yann Ruffieux | OK | OK | OK |
| LBE 1.16.0 | Cyril Dalmasso | OK | OK | OK |
| limma 3.4.5 | Gordon Smyth | OK | OK | OK |
| limmaGUI 1.24.0 | Keith Satterley | OK | OK | OK |
| LiquidAssociation 1.2.0 | Yen-Yi Ho | OK | OK | OK |
| LMGene 2.4.0 | Blythe Durbin-Johnson | OK | OK | OK |
| logicFS 1.18.0 | Holger Schwender | OK | OK | OK |
| logitT 1.6.0 | Tobias Guennel | OK | OK | OK |
| LPE 1.22.0 | Nitin Jain | OK | OK | OK |
| LPEadj 1.8.0 | Carl Murie | OK | OK | OK |
| lumi 1.14.0 | Pan Du | OK | OK | OK |
|
| M A B C D E F G H I J K L [M] N O P Q R S T U V W X Y Z |
| maanova 1.18.0 | Keith Sheppard | OK | OK | OK |
| macat 1.22.0 | Joern Toedling | OK | OK | OK |
| maCorrPlot 1.18.0 | Alexander Ploner | OK | OK | OK |
| maDB 1.20.0 | Johannes Rainer | N O T S U P P O R T E D |
| made4 1.22.0 | Aedin Culhane | OK | OK | OK |
| maigesPack 1.12.0 | Gustavo H. Esteves | OK | OK | OK |
| makecdfenv 1.26.0 | James W. MacDonald | OK | OK | OK |
| makePlatformDesign 1.12.0 | Benilton Carvalho | OK | OK | OK |
| MANOR 1.20.0 | Pierre Neuvial | OK | OK | OK |
| MantelCorr 1.18.0 | Brian Steinmeyer | OK | OK | OK |
| marray 1.26.0 | Yee Hwa (Jean) Yang | OK | OK | OK |
| maSigPro 1.20.0 | Ana Conesa | OK | OK | OK |
| MassArray 1.0.0 | Reid F. Thompson | OK | OK | OK |
| MassSpecWavelet 1.14.0 | Pan Du | OK | OK | OK |
| matchprobes 1.20.0 | Biocore Team c/o BioC user list | OK | OK | OK |
| mBPCR 1.2.0 | P.M.V. Rancoita | OK | OK | OK |
| MCRestimate 2.4.0 | Marc Johannes | OK | OK | OK |
| mdqc 1.10.0 | Gabriela Cohen-Freue | OK | OK | OK |
| MeasurementError.cor 1.20.0 | Beiying Ding | OK | OK | OK |
| MEDME 1.8.0 | Mattia Pelizzola | OK | OK | OK |
| MergeMaid 2.20.0 | Xiaogang Zhong | OK | OK | OK |
| metaArray 1.24.0 | Hyungwon Choi | OK | OK | OK |
| metahdep 1.6.0 | John R. Stevens | OK | OK | OK |
| methVisual 1.0.1 | Arie Zackay | OK | OK | OK |
| methylumi 1.3.3 | Sean Davis | OK | OK | OK |
| Mfuzz 2.6.0 | Matthias Futschik | OK | OK | OK |
| MiChip 1.2.0 | Jonathon Blake | OK | OK | OK |
| microRNA 1.6.1 | Chao-Jen Wong | OK | OK | OK |
| minet 2.4.0 | Patrick E. Meyer | OK | OK | OK |
| MiPP 1.20.0 | Sukwoo Kim | OK | OK | OK |
| miRNApath 1.8.0 | James M. Ward | OK | OK | OK |
| MLInterfaces 1.28.0 | V. Carey | OK | OK | OK |
| MotIV 1.1.3 | Eloi Mercier , Raphael Gottardo | OK | OK | OK |
| multiscan 1.8.0 | Mizanur Khondoker | OK | OK | OK |
| multtest 2.4.0 | Katherine S. Pollard | OK | OK | OK |
| MVCClass 1.22.0 | Elizabeth Whalen | OK | OK | OK |
|
| N A B C D E F G H I J K L M [N] O P Q R S T U V W X Y Z |
| nem 2.12.0 | Christian Bender | OK | OK | OK |
| nnNorm 2.12.0 | Adi Laurentiu Tarca | OK | OK | OK |
| nudge 1.14.0 | N. Dean | OK | OK | OK |
|
| O A B C D E F G H I J K L M N [O] P Q R S T U V W X Y Z |
| occugene 1.8.0 | Oliver Will | OK | OK | OK |
| OCplus 1.22.0 | Alexander Ploner | OK | OK | OK |
| oligo 1.12.2 | Benilton Carvalho | OK | OK | OK |
| oligoClasses 1.10.0 | Benilton Carvalho and Robert Scharpf | OK | OK | OK |
| OLIN 1.26.0 | Matthias Futschik | OK | OK | OK |
| OLINgui 1.22.0 | Matthias Futschik | OK | OK | OK |
| oneChannelGUI 1.14.6 | Raffaele A Calogero | OK | OK | OK |
| ontoTools 1.26.0 | Vince Carey | OK | OK | OK |
| OrderedList 1.20.0 | Claudio Lottaz | OK | OK | OK |
| OutlierD 1.12.0 | Sukwoo Kim | OK | OK | OK |
|
| P A B C D E F G H I J K L M N O [P] Q R S T U V W X Y Z |
| pamr 1.46.0 | Rob Tibshirani | OK | OK | OK |
| PAnnBuilder 1.12.0 | Li Hong | OK | OK | OK |
| panp 1.18.0 | Peter Warren | OK | OK | OK |
| parody 1.6.0 | VJ Carey | OK | OK | OK |
| pathRender 1.16.0 | Li Long | OK | OK | OK |
| pcaMethods 1.30.0 | Wolfram Stacklies | OK | OK | OK |
| pcot2 1.16.0 | Sarah Song | OK | OK | OK |
| PCpheno 1.10.0 | Nolwenn Le Meur | OK | OK | OK |
| pdInfoBuilder 1.12.0 | Benilton Carvalho | OK | OK | OK |
| pdmclass 1.20.0 | James W. MacDonald | OK | OK | OK |
| PGSEA 1.18.0 | Karl Dykema | OK | OK | OK |
| pgUtils 1.20.0 | Johannes Rainer | N O T S U P P O R T E D |
| pickgene 1.20.0 | Brian S. Yandell | OK | OK | OK |
| PICS 1.0.6 | Arnaud Droit , Xuekui Zhang , Raphael Gottardo | OK | WARNINGS | OK |
| pint 1.0.0 | Olli-Pekka Huovilainen | OK | OK | OK |
| pkgDepTools 1.14.0 | Seth Falcon | OK | OK | OK |
| plateCore 1.6.0 | Errol Strain | OK | OK | OK |
| plgem 1.20.1 | Norman Pavelka | OK | OK | OK |
| plier 1.18.0 | Crispin Miller | OK | OK | OK |
| PLPE 1.8.0 | Soo-heang Eo | OK | OK | OK |
| plw 1.8.0 | Magnus Astrand | OK | OK | OK |
| ppiStats 1.14.0 | Tony Chiang | OK | OK | OK |
| prada 1.24.0 | Florian Hahne | OK | OK | OK |
| preprocessCore 1.10.0 | Benjamin Milo Bolstad | OK | OK | OK |
| PROcess 1.24.0 | Xiaochun Li | OK | OK | OK |
| PROMISE 1.0.0 | Xueyuan Cao | OK | OK | OK |
| puma 2.0.0 | Richard Pearson , Li Zhang | OK | OK | OK |
|
| Q A B C D E F G H I J K L M N O P [Q] R S T U V W X Y Z |
| qpcrNorm 1.6.0 | Jessica Mar | OK | OK | OK |
| qpgraph 1.4.1 | Robert Castelo | OK | OK | OK |
| quantsmooth 1.14.0 | Jan Oosting | OK | OK | OK |
| qvalue 1.22.0 | John D. Storey | OK | OK | OK |
|
| R A B C D E F G H I J K L M N O P Q [R] S T U V W X Y Z |
| rama 1.22.1 | Raphael Gottardo | OK | OK | OK |
| RankProd 2.20.0 | Fangxin Hong | OK | OK | OK |
| RbcBook1 1.16.0 | Vince Carey | OK | OK | OK |
| RBGL 1.24.0 | Li Long | OK | WARNINGS | OK |
| RBioinf 1.8.0 | Robert Gentleman | OK | OK | OK |
| rbsurv 2.6.0 | Soo-heang Eo | OK | OK | OK |
| Rdbi 1.22.0 | Jianhua Zhang | OK | OK | OK |
| RdbiPgSQL 1.22.0 | Jianhua Zhang | N O T S U P P O R T E D |
| Rdisop 1.8.0 | Steffen Neumann | OK | OK | OK |
| reb 1.24.0 | Karl J. Dykema | OK | OK | OK |
| RefPlus 1.18.0 | Kai-Ming Chang | OK | OK | OK |
| Resourcerer 1.22.0 | Jianhua Zhang | OK | OK | OK |
| rflowcyt 1.20.0 | N. LeMeur | OK | OK | OK |
| rGADEM 1.0.1 | Arnaud Droit | OK | OK | OK |
| Rgraphviz 1.26.0 | Kasper Hansen | OK | OK | OK |
| rHVDM 1.14.0 | Martino Barenco | OK | OK | OK |
| Ringo 1.12.0 | J. Toedling | OK | OK | OK |
| RLMM 1.10.0 | Nusrat Rabbee | OK | OK | OK |
| RMAGEML 2.22.0 | Steffen Durinck | N O T S U P P O R T E D |
| Rmagpie 1.4.0 | Camille Maumet | OK | OK | OK |
| rMAT 2.4.2 | Arnaud Droit and Raphael Gottardo | OK | OK | OK |
| RmiR 1.4.0 | Francesco Favero | OK | OK | OK |
| RNAither 1.8.1 | Nora Rieber | OK | OK | OK |
| ROC 1.24.1 | Vince Carey | OK | OK | OK |
| Rolexa 1.4.0 | Jacques Rougemont | OK | OK | OK |
| RPA 1.4.0 | Leo Lahti | OK | OK | OK |
| RpsiXML 1.8.0 | Jitao David Zhang | OK | OK | OK |
| Rredland 1.14.0 | VJ Carey | N O T S U P P O R T E D |
| Rsamtools 1.0.8 | Biocore Team c/o BioC user list | OK | OK | OK |
| rsbml 2.6.0 | Michael Lawrence | OK | OK | OK |
| RTCA 1.2.0 | Jitao David Zhang | OK | OK | OK |
| RTools4TB 1.4.0 | Aurelie Bergon | OK | OK | OK |
| rtracklayer 1.8.1 | Michael Lawrence | OK | WARNINGS | OK |
| Rtreemix 1.10.0 | Jasmina Bogojeska | OK | OK | OK |
| Ruuid 1.26.0 | Biocore Team c/o BioC user list | OK | OK | OK |
| RWebServices 1.12.0 | Martin Morgan | N O T S U P P O R T E D |
|
| S A B C D E F G H I J K L M N O P Q R [S] T U V W X Y Z |
| safe 2.8.0 | William T. Barry | OK | OK | OK |
| sagenhaft 1.18.0 | Tim Beissbarth | OK | OK | OK |
| SAGx 1.22.0 | Per Broberg, | OK | OK | OK |
| SamSPECTRAL 1.1.6 | Habil Zare | TIMEOUT | skipped | skipped |
| SBMLR 1.44.0 | Tomas Radivoyevitch | OK | OK | OK |
| ScISI 1.20.0 | Tony Chiang | OK | OK | OK |
| segmentSeq 1.0.1 | Thomas J. Hardcastle | OK | WARNINGS | OK |
| seqLogo 1.14.0 | Oliver Bembom | OK | OK | OK |
| ShortRead 1.6.2 | Biocore Team c/o BioC user list | OK | OK | OK |
| siggenes 1.22.0 | Holger Schwender | OK | OK | OK |
| sigPathway 1.16.0 | Weil Lai | OK | OK | OK |
| SIM 1.16.0 | Maarten van Iterson | OK | OK | OK |
| simpleaffy 2.24.0 | Crispin Miller | OK | OK | OK |
| simulatorAPMS 1.20.0 | Tony Chiang | OK | OK | OK |
| sizepower 1.18.0 | Weiliang Qiu | OK | OK | OK |
| SJava 0.74.0 | Martin Morgan | N O T S U P P O R T E D |
| SLGI 1.8.0 | Nolwenn Le Meur | OK | OK | OK |
| SLqPCR 1.14.0 | Matthias Kohl | OK | OK | OK |
| SMAP 1.12.0 | Robin Andersson | OK | OK | OK |
| snapCGH 1.18.0 | John Marioni | OK | OK | OK |
| SNPchip 1.12.0 | Robert Scharpf | OK | OK | OK |
| snpMatrix 1.12.0 | David Clayton | OK | OK | OK |
| SpeCond 1.2.0 | Florence Cavalli | OK | OK | OK |
| SPIA 1.6.0 | Adi Laurentiu Tarca | OK | OK | OK |
| spikeLI 2.8.0 | Enrico Carlon | OK | OK | OK |
| spkTools 1.4.0 | Matthew N McCall | OK | OK | OK |
| splicegear 1.20.0 | Laurent Gautier | OK | OK | OK |
| splots 1.14.0 | Wolfgang Huber | OK | OK | OK |
| spotSegmentation 1.22.0 | Chris Fraley | OK | OK | OK |
| SRAdb 1.2.1 | Jack Zhu | OK | WARNINGS | OK |
| sscore 1.20.0 | Richard Kennedy | OK | OK | OK |
| ssize 1.22.0 | Gregory R. Warnes | OK | OK | OK |
| SSPA 1.4.0 | Maarten van Iterson | OK | OK | OK |
| Starr 1.4.4 | Benedikt Zacher | OK | WARNINGS | OK |
| stepNorm 1.20.0 | Yuanyuan Xiao | OK | OK | OK |
|
| T A B C D E F G H I J K L M N O P Q R S [T] U V W X Y Z |
| TargetSearch 1.4.2 | Alvaro Cuadros-Inostroza | OK | OK | OK |
| tigre 1.2.1 | Antti Honkela | OK | OK | OK |
| tilingArray 1.26.0 | Zhenyu Xu | OK | OK | OK |
| timecourse 1.20.0 | Yu Chuan Tai | OK | OK | OK |
| tkWidgets 1.26.0 | J. Zhang | OK | OK | OK |
| topGO 1.16.2 | Adrian Alexa | OK | OK | OK |
| tspair 1.6.0 | Jeffrey T. Leek | OK | OK | OK |
| twilight 1.24.0 | Stefanie Scheid | OK | OK | OK |
| TypeInfo 1.14.0 | Duncan Temple Lang | OK | OK | OK |
|
| V A B C D E F G H I J K L M N O P Q R S T U [V] W X Y Z |
| VanillaICE 1.10.0 | Robert Scharpf | OK | OK | OK |
| vbmp 1.16.0 | Nicola Lama | OK | OK | OK |
| vsn 3.16.0 | Wolfgang Huber | OK | OK | OK |
|
| W A B C D E F G H I J K L M N O P Q R S T U V [W] X Y Z |
| weaver 1.14.0 | Seth Falcon | OK | OK | OK |
| webbioc 1.20.0 | Colin A. Smith | OK | OK | OK |
| widgetTools 1.26.0 | Jianhua Zhang | OK | OK | OK |
|
| X A B C D E F G H I J K L M N O P Q R S T U V W [X] Y Z |
| xcms 1.22.1 | Colin A. Smith | OK | OK | OK |
| XDE 1.8.0 | Robert Scharpf | OK | OK | OK |
| xmapbridge 1.6.0 | Tim Yates | OK | OK | OK |
| xmapcore 1.2.8 | Tim Yates | N O T S U P P O R T E D |
| xps 1.8.3 | Christian Stratowa | OK | OK | OK |
|
| Y A B C D E F G H I J K L M N O P Q R S T U V W X [Y] Z |
| yaqcaffy 1.8.0 | Laurent Gatto | OK | OK | OK |