* installing *source* package 'flowCore' ...
Using auto-selected zip option '--use-zip-data'
** libs
making DLL ...
gcc -I"E:/biocbld/bbs-2.6-bioc/R/include" -O3 -Wall -std=gnu99 -c biexponential.c -o biexponential.o
gcc -I"E:/biocbld/bbs-2.6-bioc/R/include" -O3 -Wall -std=gnu99 -c inPolygon.c -o inPolygon.o
gcc -I"E:/biocbld/bbs-2.6-bioc/R/include" -O3 -Wall -std=gnu99 -c inPolytope.c -o inPolytope.o
gcc -I"E:/biocbld/bbs-2.6-bioc/R/include" -O3 -Wall -std=gnu99 -c init.c -o init.o
gcc -shared -s -static-libgcc -o flowCore.dll tmp.def biexponential.o inPolygon.o inPolytope.o init.o -LE:/biocbld/bbs-2.6-bioc/R/bin -lR
installing to E:/biocbld/bbs-2.6-bioc/meat/flowCore.buildbin-libdir/flowCore/libs
... done
** R
** data
** inst
** preparing package for lazy loading
Welcome to Bioconductor
Vignettes contain introductory material. To view, type
'openVignette()'. To cite Bioconductor, see
'citation("Biobase")' and for packages 'citation(pkgname)'.
Loading required package: robustbase
Loading required package: pcaPP
Loading required package: mvtnorm
Scalable Robust Estimators with High Breakdown Point (version 1.1-00)
** help
*** installing help indices
** building package indices ...
** testing if installed package can be loaded
* MD5 sums
packaged installation of 'flowCore' as flowCore_1.14.1.zip
* DONE (flowCore)