Back to the "Multiple platform build/check report" | A B [C] D E F G H I J K L M N O P Q R S T U V W X Y Z |
Package 77/389 | Hostname | OS / Arch | BUILD | CHECK | BUILD BIN | ||||
ChromHeatMap 1.2.0 Tim F. Rayner
| wilson1 | Linux (openSUSE 11.1) / x86_64 | OK | OK | |||||
liverpool | Windows Server 2003 R2 (32-bit) / x64 | OK | OK | [ OK ] | |||||
gewurz | Windows Server 2008 R2 Enterprise (64-bit) / x64 | OK | OK | OK | |||||
pelham | Mac OS X Leopard (10.5.8) / i386 | OK | OK | OK |
Package: ChromHeatMap |
Version: 1.2.0 |
Command: E:\biocbld\bbs-2.6-bioc\R\bin\R.exe CMD INSTALL --build --library=ChromHeatMap.buildbin-libdir ChromHeatMap_1.2.0.tar.gz |
StartedAt: 2010-10-04 20:47:33 -0700 (Mon, 04 Oct 2010) |
EndedAt: 2010-10-04 20:47:48 -0700 (Mon, 04 Oct 2010) |
EllapsedTime: 15.1 seconds |
RetCode: 0 |
Status: OK |
PackageFile: ChromHeatMap_1.2.0.zip |
PackageFileSize: 406.1 KiB |
* installing *source* package 'ChromHeatMap' ... ** R ** data ** inst ** preparing package for lazy loading Loading required package: AnnotationDbi Loading required package: Biobase Welcome to Bioconductor Vignettes contain introductory material. To view, type 'openVignette()'. To cite Bioconductor, see 'citation("Biobase")' and for packages 'citation(pkgname)'. Loading required package: org.Hs.eg.db Loading required package: DBI ** help *** installing help indices ** building package indices ... ** testing if installed package can be loaded * MD5 sums packaged installation of 'ChromHeatMap' as ChromHeatMap_1.2.0.zip * DONE (ChromHeatMap)