* installing *source* package 'BayesPeak' ...
Using auto-selected zip option '--use-zip-data'
** libs
making DLL ...
gcc -I"E:/biocbld/bbs-2.6-bioc/R/include" -O3 -Wall -std=gnu99 -c bayespeak.c -o bayespeak.o
gcc -shared -s -static-libgcc -o BayesPeak.dll tmp.def bayespeak.o -LE:/biocbld/bbs-2.6-bioc/R/bin -lR
installing to E:/biocbld/bbs-2.6-bioc/meat/BayesPeak.buildbin-libdir/BayesPeak/libs
... done
** R
** data
** inst
** preparing package for lazy loading
Attaching package: 'IRanges'
The following object(s) are masked from 'package:base':
Map, cbind, mapply, order, paste, pmax, pmax.int, pmin, pmin.int,
rbind, rep.int, table
** help
*** installing help indices
** building package indices ...
** testing if installed package can be loaded
* MD5 sums
packaged installation of 'BayesPeak' as BayesPeak_1.0.1.zip
* DONE (BayesPeak)