* checking for file 'gaggle/DESCRIPTION' ... OK
* preparing 'gaggle':
* checking DESCRIPTION meta-information ... OK
* installing the package to re-build vignettes
* installing *source* package 'gaggle' ...
** R
** inst
** preparing package for lazy loading
** help
*** installing help indices
** building package indices ...
** testing if installed package can be loaded
onLoad -- libname: E:/biocbld/bbs-2.6-bioc/tmpdir/Rinst699683657 pkgname: gaggle
path to jar: E:/biocbld/bbs-2.6-bioc/tmpdir/Rinst699683657/gaggle/jars/gaggleRShell.jar
script: gaggle.R $Revision: 3504 $ $Date: 2008-09-22 10:45:45 -0700 (Mon, 22 Sep 2008) $
os version: Windows 2003
jvm version: 1.6.0_16
* DONE (gaggle)
* creating vignettes ... OK
* removing junk files
* checking for LF line-endings in source and make files
* checking for empty or unneeded directories
* building 'gaggle_1.16.0.tar.gz'