* installing *source* package 'qpgraph' ...
Using auto-selected zip option '--use-zip-data'
**********************************************
WARNING: this package has a configure script
It probably needs manual configuration
**********************************************
** libs
making DLL ...
gcc -I"E:/biocbld/bbs-2.6-bioc/R/include" -O3 -Wall -std=gnu99 -c cliquer.c -o cliquer.o
gcc -I"E:/biocbld/bbs-2.6-bioc/R/include" -O3 -Wall -std=gnu99 -c graph.c -o graph.o
gcc -I"E:/biocbld/bbs-2.6-bioc/R/include" -O3 -Wall -std=gnu99 -c qpgraph.c -o qpgraph.o
gcc -I"E:/biocbld/bbs-2.6-bioc/R/include" -O3 -Wall -std=gnu99 -c reorder.c -o reorder.o
gcc -shared -s -static-libgcc -o qpgraph.dll tmp.def cliquer.o graph.o qpgraph.o reorder.o -LE:/biocbld/bbs-2.6-bioc/R/bin -lRlapack -LE:/biocbld/bbs-2.6-bioc/R/bin -lRblas -LE:/biocbld/bbs-2.6-bioc/R/bin -lR
installing to E:/biocbld/bbs-2.6-bioc/meat/qpgraph.buildbin-libdir/qpgraph/libs
... done
** R
** data
** inst
** preparing package for lazy loading
Welcome to Bioconductor
Vignettes contain introductory material. To view, type
'openVignette()'. To cite Bioconductor, see
'citation("Biobase")' and for packages 'citation(pkgname)'.
** help
*** installing help indices
** building package indices ...
** testing if installed package can be loaded
* MD5 sums
packaged installation of 'qpgraph' as qpgraph_1.4.1.zip
* DONE (qpgraph)