Back to the "Multiple platform build/check report" | A B C [D] E F G H I J K L M N O P Q R S T U V W X Y Z |
Package 95/389 | Hostname | OS / Arch | BUILD | CHECK | BUILD BIN | ||||
daMA 1.20.0 Jobst Landgrebe
| wilson1 | Linux (openSUSE 11.1) / x86_64 | OK | OK | |||||
liverpool | Windows Server 2003 R2 (32-bit) / x64 | OK | OK | [ OK ] | |||||
gewurz | Windows Server 2008 R2 Enterprise (64-bit) / x64 | OK | OK | OK | |||||
pelham | Mac OS X Leopard (10.5.8) / i386 | OK | OK | OK |
Package: daMA |
Version: 1.20.0 |
Command: E:\biocbld\bbs-2.6-bioc\R\bin\R.exe CMD INSTALL --build --library=daMA.buildbin-libdir daMA_1.20.0.tar.gz |
StartedAt: 2010-10-04 20:48:44 -0700 (Mon, 04 Oct 2010) |
EndedAt: 2010-10-04 20:48:55 -0700 (Mon, 04 Oct 2010) |
EllapsedTime: 10.7 seconds |
RetCode: 0 |
Status: OK |
PackageFile: daMA_1.20.0.zip |
PackageFileSize: 4.048 MiB |
* installing *source* package 'daMA' ... Using auto-selected zip option '--use-zip-data' ** R ** data ** preparing package for lazy loading ** help *** installing help indices ** building package indices ... ** testing if installed package can be loaded * MD5 sums packaged installation of 'daMA' as daMA_1.20.0.zip * DONE (daMA)