Back to the "Multiple platform build/check report" | A B C D E F G H I J K L [M] N O P Q R S T U V W X Y Z |
Package 245/389 | Hostname | OS / Arch | BUILD | CHECK | BUILD BIN | ||||
microRNA 1.6.1 Chao-Jen Wong
| wilson1 | Linux (openSUSE 11.1) / x86_64 | OK | OK | |||||
liverpool | Windows Server 2003 R2 (32-bit) / x64 | OK | OK | [ OK ] | |||||
gewurz | Windows Server 2008 R2 Enterprise (64-bit) / x64 | OK | OK | OK | |||||
pelham | Mac OS X Leopard (10.5.8) / i386 | OK | OK | OK |
Package: microRNA |
Version: 1.6.1 |
Command: E:\biocbld\bbs-2.6-bioc\R\bin\R.exe CMD INSTALL --build --library=microRNA.buildbin-libdir microRNA_1.6.1.tar.gz |
StartedAt: 2010-10-04 21:02:02 -0700 (Mon, 04 Oct 2010) |
EndedAt: 2010-10-04 21:02:21 -0700 (Mon, 04 Oct 2010) |
EllapsedTime: 19.4 seconds |
RetCode: 0 |
Status: OK |
PackageFile: microRNA_1.6.1.zip |
PackageFileSize: 9.683 MiB |
* installing *source* package 'microRNA' ... Using auto-selected zip option '--use-zip-data' ** R ** data ** inst ** preparing package for lazy loading ** help *** installing help indices ** building package indices ... ** testing if installed package can be loaded * MD5 sums packaged installation of 'microRNA' as microRNA_1.6.1.zip * DONE (microRNA)