* checking for file 'RpsiXML/DESCRIPTION' ... OK
* preparing 'RpsiXML':
* checking DESCRIPTION meta-information ... OK
* installing the package to re-build vignettes
* installing *source* package 'RpsiXML' ...
** R
** inst
** preparing package for lazy loading
Loading required package: AnnotationDbi
Loading required package: Biobase
Welcome to Bioconductor
Vignettes contain introductory material. To view, type
'openVignette()'. To cite Bioconductor, see
'citation("Biobase")' and for packages 'citation(pkgname)'.
Attaching package: 'XML'
The following object(s) are masked from 'package:graph':
addNode
Attaching package: 'hypergraph'
The following object(s) are masked from 'package:AnnotationDbi':
head, tail
The following object(s) are masked from 'package:utils':
head, tail
Defining type "environment" as a superclass via class ".environment"
** help
*** installing help indices
** building package indices ...
** testing if installed package can be loaded
* DONE (RpsiXML)
* creating vignettes ... OK
* removing junk files
* checking for LF line-endings in source and make files
* checking for empty or unneeded directories
WARNING: directory 'RpsiXML/tests/unitTests' is empty
* building 'RpsiXML_1.8.0.tar.gz'