* installing *source* package 'BGmix' ...
** libs
making DLL ...
g++ -I"E:/biocbld/bbs-2.6-bioc/R/include" -I ../boostIncl -DUSING_R -O2 -Wall -c BGmix_main.cpp -o BGmix_main.o
g++ -I"E:/biocbld/bbs-2.6-bioc/R/include" -I ../boostIncl -DUSING_R -O2 -Wall -c rundir.cpp -o rundir.o
g++ -I"E:/biocbld/bbs-2.6-bioc/R/include" -I ../boostIncl -DUSING_R -O2 -Wall -c updates_BGmix.cpp -o updates_BGmix.o
g++ -shared -s -static-libgcc -o BGmix.dll tmp.def BGmix_main.o rundir.o updates_BGmix.o -LE:/biocbld/bbs-2.6-bioc/R/bin -lR
installing to E:/biocbld/bbs-2.6-bioc/meat/BGmix.buildbin-libdir/BGmix/libs
... done
** R
** data
** inst
** preparing package for lazy loading
KernSmooth 2.23 loaded
Copyright M. P. Wand 1997-2009
** help
*** installing help indices
** building package indices ...
** testing if installed package can be loaded
* MD5 sums
packaged installation of 'BGmix' as BGmix_1.8.0.zip
* DONE (BGmix)