* installing *source* package 'GeneR' ...
** libs
making DLL ...
g++ -I"E:/biocbld/bbs-2.6-bioc/R/include" -O2 -Wall -c GeneR_glob.cc -o GeneR_glob.o
g++ -I"E:/biocbld/bbs-2.6-bioc/R/include" -O2 -Wall -c GeneR_seq.cc -o GeneR_seq.o
g++ -I"E:/biocbld/bbs-2.6-bioc/R/include" -O2 -Wall -c complementaire.cc -o complementaire.o
g++ -I"E:/biocbld/bbs-2.6-bioc/R/include" -O2 -Wall -c compoSeq.cc -o compoSeq.o
g++ -I"E:/biocbld/bbs-2.6-bioc/R/include" -O2 -Wall -c dnaRna.cc -o dnaRna.o
g++ -I"E:/biocbld/bbs-2.6-bioc/R/include" -O2 -Wall -c libIndex.cc -o libIndex.o
g++ -I"E:/biocbld/bbs-2.6-bioc/R/include" -O2 -Wall -c libStrings.cc -o libStrings.o
g++ -I"E:/biocbld/bbs-2.6-bioc/R/include" -O2 -Wall -c makeIndex.cc -o makeIndex.o
g++ -I"E:/biocbld/bbs-2.6-bioc/R/include" -O2 -Wall -c masked.cc -o masked.o
g++ -I"E:/biocbld/bbs-2.6-bioc/R/include" -O2 -Wall -c misc.cc -o misc.o
misc.cc: In function 'SEXPREC* str_to_nbstr(SEXPREC*, SEXPREC*)':
misc.cc:31: warning: 'multiple' may be used uninitialized in this function
misc.cc:30: warning: 'ans' may be used uninitialized in this function
g++ -I"E:/biocbld/bbs-2.6-bioc/R/include" -O2 -Wall -c readEmblDescript.cc -o readEmblDescript.o
g++ -I"E:/biocbld/bbs-2.6-bioc/R/include" -O2 -Wall -c readIndex.cc -o readIndex.o
g++ -I"E:/biocbld/bbs-2.6-bioc/R/include" -O2 -Wall -c readLocation.cc -o readLocation.o
g++ -I"E:/biocbld/bbs-2.6-bioc/R/include" -O2 -Wall -c readSeqEmbl.cc -o readSeqEmbl.o
g++ -I"E:/biocbld/bbs-2.6-bioc/R/include" -O2 -Wall -c readSeqFasta.cc -o readSeqFasta.o
g++ -I"E:/biocbld/bbs-2.6-bioc/R/include" -O2 -Wall -c readSeqGbk.cc -o readSeqGbk.o
g++ -I"E:/biocbld/bbs-2.6-bioc/R/include" -O2 -Wall -c seqManip.cc -o seqManip.o
gcc -I"E:/biocbld/bbs-2.6-bioc/R/include" -O3 -Wall -std=gnu99 -c strcasestr.c -o strcasestr.o
g++ -I"E:/biocbld/bbs-2.6-bioc/R/include" -O2 -Wall -c translate.cc -o translate.o
g++ -I"E:/biocbld/bbs-2.6-bioc/R/include" -O2 -Wall -c upperSeq.cc -o upperSeq.o
g++ -I"E:/biocbld/bbs-2.6-bioc/R/include" -O2 -Wall -c vecteurs.cc -o vecteurs.o
g++ -I"E:/biocbld/bbs-2.6-bioc/R/include" -O2 -Wall -c writeFasta.cc -o writeFasta.o
g++ -shared -s -static-libgcc -o GeneR.dll tmp.def GeneR_glob.o GeneR_seq.o complementaire.o compoSeq.o dnaRna.o libIndex.o libStrings.o makeIndex.o masked.o misc.o readEmblDescript.o readIndex.o readLocation.o readSeqEmbl.o readSeqFasta.o readSeqGbk.o seqManip.o strcasestr.o translate.o upperSeq.o vecteurs.o writeFasta.o -LE:/biocbld/bbs-2.6-bioc/R/bin -lR
installing to E:/biocbld/bbs-2.6-bioc/meat/GeneR.buildbin-libdir/GeneR/libs
... done
** R
** demo
** inst
** preparing package for lazy loading
** help
*** installing help indices
** building package indices ...
** testing if installed package can be loaded
* MD5 sums
packaged installation of 'GeneR' as GeneR_2.18.1.zip
* DONE (GeneR)