* installing *source* package 'BCRANK' ...
Using auto-selected zip option '--use-zip-data'
** libs
making DLL ...
gcc -I"E:/biocbld/bbs-2.6-bioc/R/include" -O3 -Wall -std=gnu99 -c init.c -o init.o
gcc -I"E:/biocbld/bbs-2.6-bioc/R/include" -O3 -Wall -std=gnu99 -c match_consensus.c -o match_consensus.o
gcc -shared -s -static-libgcc -o BCRANK.dll tmp.def init.o match_consensus.o -LE:/biocbld/bbs-2.6-bioc/R/bin -lR
installing to E:/biocbld/bbs-2.6-bioc/meat/BCRANK.buildbin-libdir/BCRANK/libs
... done
** R
** data
** inst
** preparing package for lazy loading
Creating a new generic function for "plot" in "BCRANK"
** help
*** installing help indices
** building package indices ...
** testing if installed package can be loaded
* MD5 sums
packaged installation of 'BCRANK' as BCRANK_1.10.0.zip
* DONE (BCRANK)