Back to the "Multiple platform build/check report" | A B [C] D E F G H I J K L M N O P Q R S T U V W X Y Z |
Package 86/389 | Hostname | OS / Arch | BUILD | CHECK | BUILD BIN | ||||
convert 1.24.0 Yee Hwa (Jean) Yang
| wilson1 | Linux (openSUSE 11.1) / x86_64 | OK | OK | |||||
liverpool | Windows Server 2003 R2 (32-bit) / x64 | OK | OK | [ OK ] | |||||
gewurz | Windows Server 2008 R2 Enterprise (64-bit) / x64 | OK | OK | OK | |||||
pelham | Mac OS X Leopard (10.5.8) / i386 | OK | OK | OK |
Package: convert |
Version: 1.24.0 |
Command: E:\biocbld\bbs-2.6-bioc\R\bin\R.exe CMD INSTALL --build --library=convert.buildbin-libdir convert_1.24.0.tar.gz |
StartedAt: 2010-10-04 20:48:06 -0700 (Mon, 04 Oct 2010) |
EndedAt: 2010-10-04 20:48:12 -0700 (Mon, 04 Oct 2010) |
EllapsedTime: 5.8 seconds |
RetCode: 0 |
Status: OK |
PackageFile: convert_1.24.0.zip |
PackageFileSize: 77.51 KiB |
* installing *source* package 'convert' ... ** R ** inst ** preparing package for lazy loading Welcome to Bioconductor Vignettes contain introductory material. To view, type 'openVignette()'. To cite Bioconductor, see 'citation("Biobase")' and for packages 'citation(pkgname)'. ** help *** installing help indices ** building package indices ... ** testing if installed package can be loaded * MD5 sums packaged installation of 'convert' as convert_1.24.0.zip * DONE (convert)