| Back to the "Multiple platform build/check report" | A B [C] D E F G H I J K L M N O P Q R S T U V W X Y Z |
| Package 83/389 | Hostname | OS / Arch | BUILD | CHECK | BUILD BIN | ||||
| CoCiteStats 1.20.0 R. Gentleman
| wilson1 | Linux (openSUSE 11.1) / x86_64 | OK | OK | |||||
| liverpool | Windows Server 2003 R2 (32-bit) / x64 | [ OK ] | OK | OK | |||||
| gewurz | Windows Server 2008 R2 Enterprise (64-bit) / x64 | OK | OK | OK | |||||
| pelham | Mac OS X Leopard (10.5.8) / i386 | OK | OK | OK |
| Package: CoCiteStats |
| Version: 1.20.0 |
| Command: chmod a+r CoCiteStats -R && E:\biocbld\bbs-2.6-bioc\R\bin\R.exe CMD build CoCiteStats |
| StartedAt: 2010-10-04 14:01:26 -0700 (Mon, 04 Oct 2010) |
| EndedAt: 2010-10-04 14:01:31 -0700 (Mon, 04 Oct 2010) |
| EllapsedTime: 4.5 seconds |
| RetCode: 0 |
| Status: OK |
| PackageFile: CoCiteStats_1.20.0.tar.gz |
| PackageFileSize: 5.253 KiB |
* checking for file 'CoCiteStats/DESCRIPTION' ... OK * preparing 'CoCiteStats': * checking DESCRIPTION meta-information ... OK * removing junk files * checking for LF line-endings in source and make files * checking for empty or unneeded directories * building 'CoCiteStats_1.20.0.tar.gz'