* installing *source* package 'GeneRegionScan' ...
Using auto-selected zip option '--use-zip-data'
** R
** data
** exec
** inst
** preparing package for lazy loading
Welcome to Bioconductor
Vignettes contain introductory material. To view, type
'openVignette()'. To cite Bioconductor, see
'citation("Biobase")' and for packages 'citation(pkgname)'.
Loading required package: IRanges
Attaching package: 'IRanges'
The following object(s) are masked from 'package:Biobase':
updateObject
The following object(s) are masked from 'package:base':
Map, cbind, mapply, order, paste, pmax, pmax.int, pmin, pmin.int,
rbind, rep.int, table
** help
*** installing help indices
** building package indices ...
** testing if installed package can be loaded
* MD5 sums
packaged installation of 'GeneRegionScan' as GeneRegionScan_1.4.0.zip
* DONE (GeneRegionScan)