* checking for file 'CSAR/DESCRIPTION' ... OK
* preparing 'CSAR':
* checking DESCRIPTION meta-information ... OK
* cleaning src
* installing the package to re-build vignettes
* installing *source* package 'CSAR' ...
** libs
making DLL ...
gcc -I"E:/biocbld/bbs-2.6-bioc/R/include" -O3 -Wall -std=gnu99 -c CSAR.c -o CSAR.o
gcc -shared -s -static-libgcc -o CSAR.dll tmp.def CSAR.o -LE:/biocbld/bbs-2.6-bioc/R/bin -lR
installing to E:/biocbld/bbs-2.6-bioc/tmpdir/Rinst749680020/CSAR/libs
... done
** R
** data
** moving datasets to lazyload DB
** inst
** preparing package for lazy loading
** help
*** installing help indices
** building package indices ...
** testing if installed package can be loaded
* DONE (CSAR)
* creating vignettes ... OK
* cleaning src
* removing junk files
* checking for LF line-endings in source and make files
* checking for empty or unneeded directories
* building 'CSAR_1.0.0.tar.gz'