Back to the "Multiple platform build/check report" | A B C D E F G H I J K L [M] N O P Q R S T U V W X Y Z |
Package 251/389 | Hostname | OS / Arch | BUILD | CHECK | BUILD BIN | ||||
multiscan 1.8.0 Mizanur Khondoker
| wilson1 | Linux (openSUSE 11.1) / x86_64 | OK | OK | |||||
liverpool | Windows Server 2003 R2 (32-bit) / x64 | OK | OK | [ OK ] | |||||
gewurz | Windows Server 2008 R2 Enterprise (64-bit) / x64 | OK | OK | OK | |||||
pelham | Mac OS X Leopard (10.5.8) / i386 | OK | OK | OK |
Package: multiscan |
Version: 1.8.0 |
Command: E:\biocbld\bbs-2.6-bioc\R\bin\R.exe CMD INSTALL --build --library=multiscan.buildbin-libdir multiscan_1.8.0.tar.gz |
StartedAt: 2010-10-04 21:02:26 -0700 (Mon, 04 Oct 2010) |
EndedAt: 2010-10-04 21:02:33 -0700 (Mon, 04 Oct 2010) |
EllapsedTime: 7.5 seconds |
RetCode: 0 |
Status: OK |
PackageFile: multiscan_1.8.0.zip |
PackageFileSize: 467.1 KiB |
* installing *source* package 'multiscan' ... ** libs making DLL ... gcc -I"E:/biocbld/bbs-2.6-bioc/R/include" -O3 -Wall -std=gnu99 -c multiscan.c -o multiscan.o gcc -shared -s -static-libgcc -o multiscan.dll tmp.def multiscan.o -LE:/biocbld/bbs-2.6-bioc/R/bin -lR installing to E:/biocbld/bbs-2.6-bioc/meat/multiscan.buildbin-libdir/multiscan/libs ... done ** R ** data ** inst ** preparing package for lazy loading ** help *** installing help indices ** building package indices ... ** testing if installed package can be loaded *** Loaded multiscan Version 1.8.0 *** Type 'vignette("multiscan")' to view the package vignette. * MD5 sums packaged installation of 'multiscan' as multiscan_1.8.0.zip * DONE (multiscan)