This page was generated on 2020-04-14 17:46:31 -0400 (Tue, 14 Apr 2020).
| malbec1 |
Linux (Ubuntu 18.04.4 LTS) / x86_64 | | | | |
|
| ABAData 1.16.0 | Steffi Grote | OK | OK | OK |  |
| adductData 1.2.0 | Josie Hayes | OK | OK | OK |  |
| affycompData 1.24.0 | Harris Jaffee | OK | OK | OK |  |
| affydata 1.34.0 | Harris Jaffee | OK | OK | WARNINGS |  |
| Affyhgu133A2Expr 1.22.0 | Zhicheng Ji | OK | OK | OK |  |
| Affyhgu133aExpr 1.24.0 | Zhicheng Ji | OK | OK | OK |  |
| Affyhgu133Plus2Expr 1.20.0 | Zhicheng Ji | OK | OK | OK |  |
| AffymetrixDataTestFiles 0.24.0 | Henrik Bengtsson | OK | OK | OK |  |
| Affymoe4302Expr 1.24.0 | Zhicheng Ji | OK | OK | OK |  |
| airway 1.6.0 | Michael Love | OK | OK | OK |  |
| ALL 1.28.0 | Robert Gentleman | OK | OK | OK |  |
allenpvc 1.4.0 | Diogo P. P. Branco | OK | OK | WARNINGS |  |
| ALLMLL 1.26.0 | B. M. Bolstad | OK | OK | OK |  |
| alpineData 1.12.0 | Michael Love | OK | OK | OK |  |
| AmpAffyExample 1.26.0 | Rafael A. Irizarry | OK | OK | WARNINGS |  |
| AneuFinderData 1.14.0 | Aaron Taudt | OK | OK | WARNINGS |  |
| antiProfilesData 1.22.0 | Hector Corrada Bravo | OK | OK | OK |  |
| aracne.networks 1.12.0 | Federico M. Giorgi , Mariano Alvarez | OK | OK | WARNINGS |  |
| ARRmData 1.22.0 | Jean-Philippe Fortin | OK | OK | OK |  |
| AshkenazimSonChr21 1.16.0 | Who to complain to | OK | OK | OK |  |
| ASICSdata 1.6.0 | Gaƫlle Lefort | OK | OK | OK |  |
| AssessORFData 1.4.0 | Deepank Korandla | OK | OK | OK |  |
| bcellViper 1.22.0 | Mariano Javier Alvarez | OK | OK | OK |  |
| beadarrayExampleData 1.24.0 | Mark Dunning | OK | OK | OK |  |
| BeadArrayUseCases 1.24.0 | Mike Smith | OK | OK | OK |  |
| benchmarkfdrData2019 1.0.0 | Stephanie Hicks | OK | OK | OK |  |
| beta7 1.24.0 | Jean Yang | OK | OK | WARNINGS |  |
| biotmleData 1.10.0 | Nima Hejazi | OK | OK | OK |  |
| biscuiteerData 1.0.0 | "Tim Triche, Jr." | OK | OK | OK |  |
| bladderbatch 1.24.0 | Jeffrey T. Leek | OK | OK | WARNINGS |  |
| blimaTestingData 1.6.0 | Vojtech Kulvait | OK | OK | OK |  |
| BloodCancerMultiOmics2017 1.6.4 | Malgorzata Oles | OK | OK | OK |  |
| bodymapRat 1.2.0 | Stephanie Hicks | OK | OK | OK |  |
| brainImageRdata 1.4.0 | Sara Linker | OK | OK | OK |  |
| breakpointRdata 1.4.0 | David Porubsky | OK | OK | OK |  |
| breastCancerMAINZ 1.24.0 | Markus Schroeder , Benjamin Haibe-Kains | OK | OK | WARNINGS |  |
| breastCancerNKI 1.24.0 | Markus Schroeder , Benjamin Haibe-Kains | OK | OK | WARNINGS |  |
| breastCancerTRANSBIG 1.24.0 | Markus Schroeder , Benjamin Haibe-Kains | OK | OK | WARNINGS |  |
| breastCancerUNT 1.24.0 | Markus Schroeder , Benjamin Haibe-Kains | OK | OK | WARNINGS |  |
| breastCancerUPP 1.24.0 | Markus Schroeder , Benjamin Haibe-Kains | OK | OK | WARNINGS |  |
| breastCancerVDX 1.24.0 | Markus Schroeder , Benjamin Haibe-Kains | OK | OK | WARNINGS |  |
| brgedata 1.8.0 | Carlos Ruiz-Arenas | OK | OK | WARNINGS |  |
| bronchialIL13 1.24.0 | Vince Carey | OK | OK | OK |  |
| bsseqData 0.24.0 | Kasper Daniel Hansen | OK | OK | OK |  |
| cancerdata 1.24.0 | Daniel Kosztyla | OK | OK | OK |  |
| CardinalWorkflows 1.18.0 | Kylie A. Bemis | OK | OK | OK |  |
| ccdata 1.12.0 | Alex Pickering | OK | OK | WARNINGS |  |
| CCl4 1.24.0 | Audrey Kauffmann | OK | OK | WARNINGS |  |
| ccTutorial 1.24.0 | Joern Toedling | OK | OK | OK |  |
| celarefData 1.4.0 | Sarah Williams | OK | OK | OK |  |
| CellMapperData 1.12.0 | Brad Nelms | OK | OK | OK |  |
| ceu1kg 0.24.0 | VJ Carey | OK | OK | OK |  |
| ceu1kgv 0.28.0 | VJ Carey | OK | OK | OK |  |
| ceuhm3 0.24.0 | VJ Carey | OK | OK | OK |  |
| cgdv17 0.24.0 | VJ Carey | OK | OK | OK |  |
| ChAMPdata 2.18.0 | Yuan Tian | OK | OK | OK |  |
charmData 1.22.0 | Martin Aryee | ERROR | OK | ERROR | |
| ChIC.data 1.6.0 | Carmen Maria Livi | OK | OK | OK |  |
| ChimpHumanBrainData 1.24.0 | Sean Davis | OK | OK | OK |  |
| chipenrich.data 2.10.0 | Raymond G. Cavalcante | OK | OK | OK |  |
| ChIPexoQualExample 1.10.0 | Rene Welch | OK | OK | OK |  |
| chipseqDBData 1.2.0 | Aaron Lun | OK | OK | OK |  |
| ChIPXpressData 1.24.0 | George Wu | OK | OK | WARNINGS |  |
| chromstaRData 1.12.0 | Aaron Taudt | OK | OK | OK |  |
| CLL 1.26.0 | Robert Gentleman | OK | OK | OK |  |
| CLLmethylation 1.6.1 | Malgorzata Oles , Andreas Mock | OK | OK | OK |  |
| CluMSIDdata 1.2.0 | Tobias Depke | OK | OK | OK |  |
| cMap2data 1.22.0 | J. Saez-Rodriguez | OK | OK | OK |  |
| cnvGSAdata 1.22.0 | Joseph Lugo | OK | OK | WARNINGS |  |
| COHCAPanno 1.22.0 | Charles Warden | OK | OK | OK |  |
| colonCA 1.28.0 | W Sylvia Merk | OK | OK | WARNINGS |  |
| CONFESSdata 1.14.0 | Diana LOW | OK | OK | OK |  |
| ConnectivityMap 1.22.0 | Paul Shannon | OK | OK | OK |  |
| COPDSexualDimorphism.data 1.22.0 | J Fah Sathirapongsasuti | OK | OK | WARNINGS |  |
| CopyhelpeR 1.18.0 | Oscar Krijgsman | OK | OK | OK |  |
| CopyNeutralIMA 1.4.0 | Xavier Pastor Hostench | OK | OK | OK |  |
| COSMIC.67 1.22.0 | Julian Gehring | OK | OK | OK |  |
| CRCL18 1.6.0 | Claudio Isella | OK | OK | OK |  |
| curatedAdipoChIP 1.2.0 | Mahmoud Ahmed | OK | OK | OK |  |
| curatedAdipoRNA 1.2.0 | Mahmoud Ahmed | OK | OK | OK |  |
| curatedBladderData 1.22.0 | Markus Riester | OK | OK | OK |  |
| curatedBreastData 2.14.0 | Katie Planey | OK | OK | OK |  |
| curatedCRCData 2.18.0 | Princy Parsana | OK | OK | OK |  |
| curatedMetagenomicData 1.16.1 | Lucas Schiffer | OK | OK | OK |  |
| curatedOvarianData 1.24.0 | Levi Waldron | OK | OK | OK |  |
| curatedTCGAData 1.8.1 | Marcel Ramos | OK | OK | WARNINGS |  |
| DAPARdata 1.16.0 | Samuel Wieczorek | OK | OK | WARNINGS |  |
| davidTiling 1.26.0 | Wolfgang Huber | OK | OK | WARNINGS |  |
| depmap 1.0.0 | Laurent Gatto | OK | OK | OK |  |
| derfinderData 2.4.0 | Leonardo Collado-Torres | OK | OK | WARNINGS |  |
| DeSousa2013 1.22.0 | Xin Wang | OK | OK | OK |  |
| diffloopdata 1.14.0 | Caleb Lareau | OK | OK | OK |  |
| diggitdata 1.18.0 | Mariano Javier Alvarez | OK | OK | OK |  |
| DLBCL 1.26.0 | Marcus Dittrich | OK | OK | WARNINGS |  |
| DmelSGI 1.18.0 | Bernd Fischer | OK | OK | OK |  |
| DMRcatedata 2.2.1 | Tim Peters | OK | OK | OK |  |
| DonaPLLP2013 1.24.0 | Joseph D. Barry | OK | OK | OK |  |
| DREAM4 1.22.0 | Paul Shannon | OK | OK | WARNINGS |  |
| dressCheck 0.24.0 | Vincent Carey | OK | OK | OK |  |
| DrugVsDiseasedata 1.22.0 | J. Saez-Rodriguez | OK | OK | OK |  |
| dsQTL 0.24.0 | VJ Carey | OK | OK | OK |  |
| DuoClustering2018 1.4.0 | Angelo Duò | OK | OK | OK |  |
| DvDdata 1.22.0 | J. Saez-Rodriguez | OK | OK | OK |  |
| dyebiasexamples 1.26.0 | Philip Lijnzaad | OK | OK | WARNINGS |  |
| EatonEtAlChIPseq 0.24.0 | Patrick Aboyoun | OK | OK | WARNINGS |  |
| ecoliLeucine 1.26.0 | Laurent Gautier | OK | OK | WARNINGS |  |
| EGSEAdata 1.14.0 | Monther Alhamdoosh | OK | OK | OK |  |
| ELMER.data 2.10.0 | Tiago Chedraoui Silva | OK | OK | OK |  |
| estrogen 1.32.0 | Wolfgang Huber | OK | OK | OK |  |
| etec16s 1.14.0 | Joseph N. Paulson | OK | OK | OK |  |
| faahKO 1.26.0 | Colin A. Smith | OK | OK | OK |  |
| fabiaData 1.24.0 | Sepp Hochreiter | OK | OK | OK |  |
facopy.annot 1.6.0 | David Mosen-Ansorena | OK | OK | WARNINGS |  |
| facsDorit 1.28.0 | Florian Hahne | OK | OK | OK |  |
| FANTOM3and4CAGE 1.22.0 | Vanja Haberle | OK | OK | OK |  |
| ffpeExampleData 1.24.0 | Levi Waldron | OK | OK | OK |  |
| fibroEset 1.28.0 | Sylvia Merk | OK | OK | WARNINGS |  |
| FIs 1.14.0 | Herbert Braselmann | OK | OK | OK |  |
| fission 1.6.0 | Michael Love | OK | OK | OK |  |
| Fletcher2013a 1.22.0 | Mauro Castro | OK | OK | OK |  |
| Fletcher2013b 1.22.0 | Mauro Castro | OK | OK | OK |  |
| flowFitExampleData 1.22.0 | Davide Rambaldi | OK | OK | OK |  |
| flowPloidyData 1.12.0 | Tyler Smith | OK | OK | OK |  |
| FlowSorted.Blood.450k 1.24.0 | Andrew E Jaffe | OK | OK | OK |  |
| FlowSorted.Blood.EPIC 1.4.1 | Lucas A. Salas | OK | OK | OK |  |
| FlowSorted.CordBlood.450k 1.14.0 | Shan V. Andrews | OK | OK | OK |  |
| FlowSorted.CordBloodCombined.450k 1.2.1 | Lucas A. Salas | OK | OK | OK |  |
| FlowSorted.CordBloodNorway.450k 1.12.0 | kristina gervin | OK | OK | OK |  |
| FlowSorted.DLPFC.450k 1.22.0 | Andrew E Jaffe | OK | OK | OK |  |
| flowWorkspaceData 2.22.0 | Mike Jiang | OK | OK | OK |  |
| frmaExampleData 1.22.0 | Matthew N. McCall | OK | OK | WARNINGS |  |
| FunciSNP.data 1.22.0 | Simon G. Coetzee | OK | OK | OK |  |
| furrowSeg 1.14.0 | Joseph Barry | OK | OK | WARNINGS |  |
| gageData 2.24.0 | Weijun Luo | OK | OK | OK |  |
| gaschYHS 1.24.0 | Vince Carey | OK | OK | OK |  |
| gatingMLData 2.26.0 | J. Spidlen | OK | OK | OK |  |
| gcspikelite 1.24.0 | Mark Robinson | OK | OK | WARNINGS |  |
| geneLenDataBase 1.22.0 | Matthew Young , Nadia Davidson | OK | OK | WARNINGS |  |
| genomationData 1.18.0 | Vedran Franke | OK | OK | OK |  |
| GeuvadisTranscriptExpr 1.14.0 | Malgorzata Nowicka | OK | OK | OK |  |
| geuvPack 1.18.0 | VJ Carey | OK | OK | OK |  |
| geuvStore2 1.16.0 | VJ Carey | OK | OK | WARNINGS |  |
| GGdata 1.24.0 | VJ Carey | OK | OK | OK |  |
| GIGSEAdata 1.4.0 | Shijia Zhu | OK | OK | OK |  |
| golubEsets 1.28.0 | Vince Carey | OK | OK | OK |  |
| grndata 1.18.0 | Pau Bellot | OK | OK | OK |  |
| GSBenchMark 1.6.0 | Bahman Afsari | OK | OK | OK |  |
| GSE62944 1.14.0 | Bioconductor Package Maintainer | OK | OK | OK |  |
| gskb 1.18.0 | Valerie Bares | OK | OK | OK |  |
| GSVAdata 1.22.0 | Robert Castelo | OK | OK | OK |  |
| GWASdata 1.24.0 | Stephanie Gogarten , Adrienne Stilp | OK | OK | OK |  |
| h5vcData 2.6.0 | Paul Theodor Pyl | OK | OK | OK |  |
| hapmap100khind 1.28.0 | Benilton Carvalho | OK | OK | OK |  |
| hapmap100kxba 1.28.0 | Benilton Carvalho | OK | OK | OK |  |
| hapmap500knsp 1.28.0 | Benilton Carvalho | OK | OK | OK |  |
| hapmap500ksty 1.28.0 | Benilton Carvalho | OK | OK | OK |  |
| hapmapsnp5 1.28.0 | Benilton Carvalho | OK | OK | OK |  |
| hapmapsnp6 1.28.0 | Benilton Carvalho | OK | OK | OK |  |
| harbChIP 1.24.0 | VJ Carey | OK | OK | OK |  |
| HarmanData 1.14.0 | Jason Ross | OK | OK | OK |  |
| HarmonizedTCGAData 1.8.0 | Tianle Ma | OK | OK | OK |  |
| HCAData 1.2.0 | Federico Marini | OK | OK | OK |  |
| HD2013SGI 1.26.0 | Bernd Fischer | OK | OK | OK |  |
| HDCytoData 1.6.6 | Lukas M. Weber | OK | OK | OK |  |
| healthyFlowData 1.24.0 | Ariful Azad | OK | OK | OK |  |
| HEEBOdata 1.24.0 | Agnes Paquet | OK | OK | WARNINGS |  |
| HelloRangesData 1.12.0 | Michael Lawrence | OK | OK | OK |  |
| hgu133abarcodevecs 1.24.0 | Matthew N. McCall | OK | OK | OK |  |
| hgu133plus2barcodevecs 1.24.0 | Matthew N. McCall | OK | OK | OK |  |
| hgu133plus2CellScore 1.6.0 | Nancy Mah | OK | OK | OK |  |
| hgu2beta7 1.26.0 | Bioconductor Package Maintainer | OK | OK | WARNINGS |  |
| HiCDataHumanIMR90 1.6.0 | Nicolas Servant | OK | OK | OK |  |
| HiCDataLymphoblast 1.22.0 | Borbala Mifsud | OK | OK | OK |  |
| Hiiragi2013 1.22.0 | Andrzej Oles | OK | OK | OK |  |
| HIVcDNAvantWout03 1.26.0 | Chris Fraley | OK | OK | WARNINGS |  |
| HMP16SData 1.6.0 | Lucas Schiffer | OK | OK | OK |  |
| HMP2Data 1.0.0 | John Stansfield | OK | OK | OK |  |
| hmyriB36 1.22.0 | Vincent Carey | OK | OK | OK |  |
| HSMMSingleCell 1.6.0 | Cole Trapnell | OK | OK | WARNINGS |  |
| HumanAffyData 1.12.0 | Brad Nelms | OK | OK | OK |  |
| humanStemCell 0.26.0 | R. Gentleman | OK | OK | WARNINGS |  |
| IHWpaper 1.14.0 | Nikos Ignatiadis | OK | OK | OK |  |
| Illumina450ProbeVariants.db 1.22.0 | Tiffany Morris | OK | OK | OK |  |
| IlluminaDataTestFiles 1.24.0 | Kasper Daniel Hansen | OK | OK | OK |  |
| ITALICSData 2.24.0 | Guillem Rigaill | OK | OK | WARNINGS |  |
| Iyer517 1.28.0 | Vince Carey | OK | OK | OK |  |
| JASPAR2014 1.22.0 | Ge Tan | OK | OK | OK |  |
| JASPAR2016 1.14.0 | Ge Tan | OK | OK | OK |  |
| JctSeqData 1.16.0 | Stephen Hartley | OK | OK | OK |  |
| KEGGandMetacoreDzPathwaysGEO 1.6.0 | Gaurav Bhatti | OK | OK | OK |  |
| KEGGdzPathwaysGEO 1.24.0 | Gaurav Bhatti | OK | OK | OK |  |
| kidpack 1.28.0 | Wolfgang Huber | OK | OK | WARNINGS |  |
| KOdata 1.12.0 | Shana White | OK | OK | OK |  |
| leeBamViews 1.22.0 | VJ Carey | OK | OK | OK |  |
| leukemiasEset 1.22.0 | Sara Aibar | OK | OK | OK |  |
| LiebermanAidenHiC2009 0.24.0 | Felix Klein | OK | OK | WARNINGS |  |
| ListerEtAlBSseq 1.18.0 | Kamal Kishore | OK | OK | WARNINGS |  |
| lumiBarnes 1.26.0 | Pan Du | OK | OK | WARNINGS |  |
| LungCancerACvsSCCGEO 1.22.0 | Adi Laurentiu Tarca | OK | OK | OK |  |
| LungCancerLines 0.24.0 | Cory Barr | OK | OK | OK |  |
| lungExpression 0.24.0 | Robert Scharpf | OK | OK | OK |  |
| lydata 1.12.0 | Alex Pickering | OK | OK | OK |  |
| M3DExampleData 1.12.0 | Tallulah Andrews | OK | OK | WARNINGS |  |
| macrophage 1.2.0 | Michael Love | OK | OK | OK |  |
| mammaPrintData 1.22.0 | Luigi Marchionni | OK | OK | OK |  |
| mAPKLData 1.18.0 | Argiris Sakellariou | OK | OK | WARNINGS |  |
| maqcExpression4plex 1.30.0 | Benilton Carvalho | OK | OK | OK |  |
| MAQCsubset 1.24.0 | VJ Carey | OK | OK | OK |  |
| MAQCsubsetAFX 1.24.0 | Laurent Gatto | OK | OK | OK |  |
| MAQCsubsetILM 1.24.0 | Laurent Gatto | OK | OK | OK |  |
| mCSEAdata 1.6.0 | Jordi Martorell MarugƔn | OK | OK | OK |  |
| mcsurvdata 1.4.0 | Adria Caballe Mestres | OK | OK | OK |  |
| MEDIPSData 1.22.0 | Lukas Chavez | OK | OK | OK |  |
| MEEBOdata 1.24.0 | Agnes Paquet | OK | OK | WARNINGS |  |
| MetaGxBreast 1.6.0 | Michael Zon | OK | OK | OK |  |
| MetaGxOvarian 1.6.1 | Michael Zon | OK | OK | WARNINGS |  |
| MetaGxPancreas 1.6.0 | Michael Zon | OK | OK | OK |  |
| metaMSdata 1.22.0 | Ron Wehrens | OK | OK | OK |  |
| MethylAidData 1.18.0 | M. van Iterson | OK | OK | OK |  |
| methyvimData 1.8.0 | Nima Hejazi | OK | OK | OK |  |
| microRNAome 1.8.0 | Matthew N. McCall | OK | OK | OK |  |
| MIGSAdata 1.10.0 | Juan C. Rodriguez | OK | OK | OK |  |
| minfiData 0.32.0 | Kasper Daniel Hansen | OK | OK | OK |  |
| minfiDataEPIC 1.12.0 | Kasper Daniel Hansen | OK | OK | OK |  |
| minionSummaryData 1.16.0 | Mike Smith | OK | OK | OK |  |
| miRcompData 1.16.0 | Matthew N. McCall | OK | OK | OK |  |
| miRNATarget 1.24.0 | Y-h. Taguchi | OK | OK | OK |  |
| mitoODEdata 1.22.0 | Gregoire Pau | OK | OK | OK |  |
| MMAPPR2data 1.0.0 | Jonathon Hill | OK | OK | OK |  |
| MMDiffBamSubset 1.22.0 | Gabriele Schweikert | OK | OK | OK |  |
| MOFAdata 1.2.0 | Britta Velten | OK | OK | OK |  |
| mosaicsExample 1.24.0 | Dongjun Chung | OK | OK | OK |  |
| mouse4302barcodevecs 1.24.0 | Matthew N. McCall | OK | OK | OK |  |
| MouseGastrulationData 1.0.0 | Jonathan Griffiths | OK | OK | OK |  |
| msd16s 1.6.0 | Joseph N. Paulson | OK | OK | OK |  |
| msdata 0.26.0 | Steffen Neumann , Laurent Gatto | OK | OK | OK |  |
| MSMB 1.4.0 | Wolfgang Huber | OK | OK | WARNINGS |  |
| msPurityData 1.14.0 | Thomas N. Lawson | OK | OK | OK |  |
| msqc1 1.14.0 | Christian Panse | OK | OK | OK |  |
| MSstatsBioData 1.8.0 | Meena Choi | OK | OK | OK |  |
| mtbls2 1.16.0 | Steffen Neumann | OK | OK | OK |  |
| MTseekerData 1.4.0 | Tim Triche, Jr. | OK | OK | ERROR | |
| MUGAExampleData 1.6.0 | Daniel Gatti | OK | OK | OK |  |
| Mulder2012 0.26.0 | Xin Wang | OK | OK | OK |  |
| muscData 1.0.0 | Helena L. Crowell | OK | OK | OK |  |
| mvoutData 1.22.0 | VJ Carey | OK | OK | OK |  |
| nanotubes 1.2.0 | Malte Thodberg | OK | OK | OK |  |
| NCIgraphData 1.22.0 | Laurent Jacob | OK | OK | WARNINGS |  |
| NestLink 1.2.0 | Christian Panse | OK | OK | OK |  |
| Neve2006 0.24.0 | VJ Carey | OK | OK | OK |  |
| NGScopyData 1.6.0 | Xiaobei Zhao | OK | OK | OK |  |
| oct4 1.2.0 | Michael Love | OK | OK | OK |  |
| OMICsPCAdata 1.4.0 | Subhadeep Das | OK | OK | OK |  |
| OnassisJavaLibs 1.8.0 | Eugenia Galeota | OK | OK | OK |  |
| parathyroidSE 1.24.0 | Michael Love | OK | OK | OK |  |
| pasilla 1.14.0 | Alejandro Reyes | OK | OK | OK |  |
| pasillaBamSubset 0.24.0 | Hervé Pagès | OK | OK | OK |  |
| PasillaTranscriptExpr 1.14.0 | Malgorzata Nowicka | OK | OK | OK |  |
| PathNetData 1.22.0 | Jason B. Smith | OK | OK | OK |  |
| pathprintGEOData 1.16.0 | Sokratis Kariotis | OK | OK | WARNINGS |  |
| pcaGoPromoter.Hs.hg19 1.22.0 | Morten Hansen | OK | OK | OK |  |
| pcaGoPromoter.Mm.mm9 1.22.0 | Morten Hansen | OK | OK | OK |  |
| pcaGoPromoter.Rn.rn4 1.22.0 | Morten Hansen, | OK | OK | OK |  |
| PCHiCdata 1.14.0 | Paula Freire-Pritchett | OK | OK | OK |  |
| pcxnData 2.8.0 | Sokratis Kariotis | OK | OK | WARNINGS |  |
| pd.atdschip.tiling 0.24.0 | Kristof De Beuf | OK | OK | WARNINGS |  |
| pepDat 1.6.0 | Renan Sauteraud | OK | OK | OK |  |
| PepsNMRData 1.4.0 | Manon Martin | OK | OK | OK |  |
| PhyloProfileData 1.0.0 | Vinh Tran | OK | OK | OK |  |
| plasFIA 1.14.0 | Alexis Delabriere | OK | OK | OK |  |
| ppiData 0.24.0 | Bioconductor Package Maintainer | OK | OK | WARNINGS |  |
| prebsdata 1.22.0 | Karolis Uziela | OK | OK | OK |  |
| PREDAsampledata 0.26.0 | Francesco Ferrari | OK | OK | OK |  |
| ProData 1.24.0 | Xiaochun Li | OK | OK | OK |  |
| pRolocdata 1.24.0 | Laurent Gatto | OK | OK | OK |  |
| prostateCancerCamcap 1.14.0 | Mark Dunning | OK | OK | OK |  |
| prostateCancerGrasso 1.14.0 | Mark Dunning | OK | OK | OK |  |
| prostateCancerStockholm 1.14.0 | Mark Dunning | OK | OK | OK |  |
| prostateCancerTaylor 1.14.0 | Mark Dunning | OK | OK | OK |  |
| prostateCancerVarambally 1.14.0 | Mark Dunning | OK | OK | OK |  |
| PtH2O2lipids 1.12.0 | James Collins | OK | OK | WARNINGS |  |
| pumadata 2.22.0 | Xuejun liu | OK | OK | OK |  |
| PWMEnrich.Dmelanogaster.background 4.20.0 | Robert Stojnic | OK | OK | WARNINGS |  |
| PWMEnrich.Hsapiens.background 4.20.0 | Robert Stojnic | OK | OK | WARNINGS |  |
| PWMEnrich.Mmusculus.background 4.20.0 | Robert Stojnic | OK | OK | OK |  |
| pwrEWAS.data 1.0.0 | Stefan Graw | OK | OK | OK |  |
| QDNAseq.hg19 1.16.0 | Daoud Sie | OK | OK | OK |  |
| QDNAseq.mm10 1.16.0 | Daoud Sie | OK | OK | OK |  |
| qPLEXdata 1.4.0 | Kamal Kishore Developer | OK | OK | WARNINGS |  |
| QUBICdata 1.14.0 | Yu Zhang | OK | OK | OK |  |
| rcellminerData 2.8.0 | Augustin Luna , Vinodh Rajapakse | OK | OK | WARNINGS |  |
| RcisTarget.hg19.motifDBs.cisbpOnly.500bp 1.6.0 | Sara Aibar | OK | OK | OK |  |
| ReactomeGSA.data 1.0.0 | Johannes Griss | OK | OK | OK |  |
| RegParallel 1.4.0 | Kevin Blighe | OK | ERROR | skipped | |
| restfulSEData 1.8.0 | Bioconductor Package Maintainer | OK | OK | OK |  |
| RforProteomics 1.24.0 | Laurent Gatto | OK | OK | WARNINGS |  |
| RGMQLlib 1.6.0 | Simone Pallotta | OK | OK | OK |  |
| rheumaticConditionWOLLBOLD 1.24.0 | Alejandro Quiroz-Zarate | OK | OK | OK |  |
| RIPSeekerData 1.22.0 | Alejandro Reyes | OK | OK | WARNINGS |  |
| RITANdata 1.10.0 | Michael Zimmermann | OK | OK | OK |  |
| RMassBankData 1.24.0 | Michael Stravs, Emma Schymanski | OK | OK | OK |  |
| RNAinteractMAPK 1.24.0 | Bernd Fischer | OK | OK | OK |  |
| RNAmodR.Data 1.0.0 | Felix G.M. Ernst | OK | OK | OK |  |
| RNAseqData.HNRNPC.bam.chr14 0.24.0 | Hervé Pagès | OK | OK | OK |  |
| RNASeqRData 1.4.0 | Kuan-Hao Chao | OK | OK | OK |  |
| RnaSeqSampleSizeData 1.18.0 | Shilin Zhao | OK | OK | OK |  |
| RnBeads.hg19 1.18.0 | RnBeadsAnnotationCreator | OK | OK | WARNINGS |  |
| RnBeads.hg38 1.18.0 | RnBeadsAnnotationCreator | OK | OK | OK |  |
| RnBeads.mm10 1.18.0 | RnBeadsAnnotationCreator | OK | OK | OK |  |
| RnBeads.mm9 1.18.0 | RnBeadsAnnotationCreator | OK | OK | WARNINGS |  |
| RnBeads.rn5 1.18.0 | RnBeadsAnnotationCreator | OK | OK | OK |  |
| RRBSdata 1.6.0 | Katja Hebestreit | OK | OK | OK |  |
| rRDPData 1.6.0 | Michael Hahsler | OK | OK | OK |  |
| RTCGA.clinical 20151101.16.0 | Marcin Kosinski | OK | OK | OK |  |
| RTCGA.CNV 1.14.0 | Marcin Kosinski | OK | OK | OK |  |
| RTCGA.methylation 1.14.0 | Marcin Kosinski | OK | OK | OK |  |
| RTCGA.miRNASeq 1.14.0 | Marcin Kosinski | OK | OK | OK |  |
| RTCGA.mRNA 1.14.0 | Marcin Kosinski | OK | OK | OK |  |
| RTCGA.mutations 20151101.16.0 | Marcin Kosinski | OK | OK | OK |  |
| RTCGA.PANCAN12 1.14.0 | Marcin Kosinski | OK | OK | OK |  |
| RTCGA.rnaseq 20151101.16.0 | Marcin Kosinski | OK | OK | OK |  |
| RTCGA.RPPA 1.14.0 | Marcin Kosinski | OK | OK | OK |  |
| RUVnormalizeData 1.6.0 | Laurent Jacob | OK | OK | OK |  |
| sampleClassifierData 1.10.0 | Khadija El Amrani | OK | OK | OK |  |
| SBGNview.data 1.0.0 | Xiaoxi Dong | OK | OK | OK |  |
| SCLCBam 1.18.0 | Oscar Krijgsman | OK | OK | OK |  |
| scRNAseq 2.0.2 | Davide Risso | OK | OK | WARNINGS |  |
| seq2pathway.data 1.18.0 | Xinan Holly Yang | OK | OK | OK |  |
| seqc 1.20.0 | Yang Liao and Wei Shi | OK | OK | OK |  |
| seqCNA.annot 1.22.0 | David Mosen-Ansorena | OK | OK | OK |  |
| serumStimulation 1.22.0 | Morten Hansen, | OK | OK | OK |  |
| sesameData 1.4.0 | Wanding Zhou | OK | OK | OK |  |
| seventyGeneData 1.22.0 | Luigi Marchionni | OK | OK | OK |  |
| shinyMethylData 1.6.0 | Jean-Philippe Fortin | OK | OK | OK |  |
| signatureSearchData 1.0.0 | Yuzhu Duan | OK | OK | OK |  |
| simpIntLists 1.22.0 | Kircicegi Korkmaz | OK | OK | WARNINGS |  |
| Single.mTEC.Transcriptomes 1.14.0 | Alejandro Reyes | OK | OK | OK |  |
| SNAData 1.32.0 | Denise Scholtens | OK | OK | OK |  |
| SNAGEEdata 1.22.0 | David Venet | OK | OK | OK |  |
| SNPhoodData 1.16.0 | Christian Arnold | OK | OK | OK |  |
| SomatiCAData 1.24.0 | Mengjie Chen | OK | OK | WARNINGS |  |
| SomaticCancerAlterations 1.22.0 | Julian Gehring | OK | OK | WARNINGS |  |
| SpikeIn 1.28.0 | Rafael A. Irizarry | OK | OK | WARNINGS |  |
| SpikeInSubset 1.26.0 | Rafael A. Irizarry | OK | OK | WARNINGS |  |
| stemHypoxia 1.22.0 | Cristobal Fresno | OK | OK | OK |  |
| stjudem 1.26.0 | Joern Toedling | OK | OK | OK |  |
| SVM2CRMdata 1.18.0 | Guidantonio Malagoli Tagliazucchi | OK | OK | WARNINGS |  |
| synapterdata 1.24.0 | Laurent Gatto | OK | OK | OK |  |
| systemPipeRdata 1.14.2 | Thomas Girke | OK | OK | OK |  |
| TabulaMurisData 1.4.0 | Charlotte Soneson | OK | OK | OK |  |
| TargetScoreData 1.22.0 | Yue Li | OK | OK | OK |  |
| TargetSearchData 1.24.0 | Alvaro Cuadros-Inostroza | OK | OK | OK |  |
| tartare 1.0.0 | Christian Panse | OK | OK | OK |  |
| TBX20BamSubset 1.22.0 | D. Bindreither | OK | OK | OK |  |
| TCGAbiolinksGUI.data 1.6.0 | Tiago Chedraoui Silva | OK | OK | OK |  |
| TCGAcrcmiRNA 1.6.0 | Claudio Isella | OK | OK | OK |  |
| TCGAcrcmRNA 1.6.0 | Claudio Isella | OK | OK | OK |  |
| TCGAMethylation450k 1.22.0 | Sean Davis | OK | OK | OK |  |
| tcgaWGBSData.hg19 1.4.0 | Divy Kangeyan | OK | OK | OK |  |
| TCGAWorkflowData 1.10.0 | Tiago Chedraoui Silva | OK | OK | WARNINGS |  |
| TENxBrainData 1.6.0 | Bioconductor Package Maintainer | OK | OK | OK |  |
| TENxBUSData 1.0.0 | Lambda Moses | OK | OK | OK |  |
| TENxPBMCData 1.4.0 | Stephanie Hicks | OK | OK | OK |  |
| TimerQuant 1.16.0 | Joseph Barry | OK | OK | OK |  |
| tinesath1cdf 1.24.0 | Tine Casneuf | OK | OK | WARNINGS |  |
| tinesath1probe 1.24.0 | Tine Casneuf | OK | OK | WARNINGS |  |
| tissueTreg 1.6.0 | Charles Imbusch | OK | OK | OK |  |
| tofsimsData 1.14.0 | Lorenz Gerber | OK | OK | OK |  |
| topdownrdata 1.8.0 | Sebastian Gibb | OK | OK | OK |  |
| tweeDEseqCountData 1.24.0 | Juan R Gonzalez | OK | OK | OK |  |
| tximportData 1.14.0 | Michael Love | OK | OK | OK |  |
| VariantToolsData 1.10.0 | Michael Lawrence | OK | OK | WARNINGS |  |
| vulcandata 1.8.0 | Federico M. Giorgi | OK | OK | OK |  |
| waveTilingData 1.22.0 | Kristof De Beuf | OK | OK | WARNINGS |  |
| WES.1KG.WUGSC 1.18.0 | Yuchao Jiang | OK | OK | OK |  |
| XhybCasneuf 1.24.0 | Tineke Casneuf | OK | OK | WARNINGS |  |
| yeastCC 1.26.0 | Sandrine Dudoit | OK | OK | WARNINGS |  |
| yeastExpData 0.32.0 | R. Gentleman | OK | OK | WARNINGS |  |
| yeastGSData 0.24.0 | R. Gentleman | OK | OK | WARNINGS |  |
| yeastNagalakshmi 1.22.0 | Bioconductor Package Maintainer | OK | OK | OK |  |
| yeastRNASeq 0.24.0 | J. Bullard | OK | OK | WARNINGS |  |
| yri1kgv 0.28.0 | VJ Carey | OK | OK | OK |  |
| yriMulti 0.16.0 | VJ Carey | OK | OK | WARNINGS |  |
| zebrafishRNASeq 1.6.0 | Davide Risso | OK | OK | OK |  |