| Back to Build/check report for BioC 3.10 experimental data |
This page was generated on 2020-04-14 17:46:18 -0400 (Tue, 14 Apr 2020).
| Package 134/384 | Hostname | OS / Arch | INSTALL | BUILD | CHECK | ||||||
| gageData 2.24.0 Weijun Luo
| malbec1 | Linux (Ubuntu 18.04.4 LTS) / x86_64 | OK | OK | [ OK ] |
| Package: gageData |
| Version: 2.24.0 |
| Command: /home/biocbuild/bbs-3.10-bioc/R/bin/R CMD check --install=check:gageData.install-out.txt --library=/home/biocbuild/bbs-3.10-bioc/R/library --no-vignettes --timings gageData_2.24.0.tar.gz |
| StartedAt: 2020-04-14 13:01:15 -0400 (Tue, 14 Apr 2020) |
| EndedAt: 2020-04-14 13:01:57 -0400 (Tue, 14 Apr 2020) |
| EllapsedTime: 42.0 seconds |
| RetCode: 0 |
| Status: OK |
| CheckDir: gageData.Rcheck |
| Warnings: 0 |
##############################################################################
##############################################################################
###
### Running command:
###
### /home/biocbuild/bbs-3.10-bioc/R/bin/R CMD check --install=check:gageData.install-out.txt --library=/home/biocbuild/bbs-3.10-bioc/R/library --no-vignettes --timings gageData_2.24.0.tar.gz
###
##############################################################################
##############################################################################
* using log directory ‘/home/biocbuild/bbs-3.10-data-experiment/meat/gageData.Rcheck’
* using R version 3.6.3 (2020-02-29)
* using platform: x86_64-pc-linux-gnu (64-bit)
* using session charset: UTF-8
* using option ‘--no-vignettes’
* checking for file ‘gageData/DESCRIPTION’ ... OK
* checking extension type ... Package
* this is package ‘gageData’ version ‘2.24.0’
* checking package namespace information ... OK
* checking package dependencies ... OK
* checking if this is a source package ... OK
* checking if there is a namespace ... OK
* checking for hidden files and directories ... OK
* checking for portable file names ... OK
* checking for sufficient/correct file permissions ... OK
* checking whether package ‘gageData’ can be installed ... OK
* checking installed package size ... NOTE
installed size is 10.8Mb
sub-directories of 1Mb or more:
data 10.7Mb
* checking package directory ... OK
* checking DESCRIPTION meta-information ... OK
* checking top-level files ... OK
* checking for left-over files ... OK
* checking index information ... OK
* checking package subdirectories ... OK
* checking whether the package can be loaded ... OK
* checking whether the package can be loaded with stated dependencies ... OK
* checking whether the package can be unloaded cleanly ... OK
* checking whether the namespace can be loaded with stated dependencies ... OK
* checking whether the namespace can be unloaded cleanly ... OK
* checking Rd files ... OK
* checking Rd metadata ... OK
* checking Rd cross-references ... OK
* checking for missing documentation entries ... OK
* checking for code/documentation mismatches ... OK
* checking Rd \usage sections ... OK
* checking Rd contents ... OK
* checking for unstated dependencies in examples ... OK
* checking contents of ‘data’ directory ... OK
* checking data for non-ASCII characters ... OK
* checking data for ASCII and uncompressed saves ... OK
* checking examples ... OK
Examples with CPU or elapsed time > 5s
user system elapsed
hnrnp.cnts 9.192 0.064 9.261
* checking PDF version of manual ... OK
* DONE
Status: 1 NOTE
See
‘/home/biocbuild/bbs-3.10-data-experiment/meat/gageData.Rcheck/00check.log’
for details.
gageData.Rcheck/00install.out
############################################################################## ############################################################################## ### ### Running command: ### ### /home/biocbuild/bbs-3.10-bioc/R/bin/R CMD INSTALL gageData ### ############################################################################## ############################################################################## * installing to library ‘/home/biocbuild/bbs-3.10-bioc/R/library’ * installing *source* package ‘gageData’ ... ** using staged installation ** data ** help *** installing help indices ** building package indices ** testing if installed package can be loaded from temporary location ** testing if installed package can be loaded from final location ** testing if installed package keeps a record of temporary installation path * DONE (gageData)
gageData.Rcheck/gageData-Ex.timings
| name | user | system | elapsed | |
| bmp6 | 3.184 | 0.120 | 3.384 | |
| genesets | 3.740 | 0.020 | 3.829 | |
| gse16873.full | 1.908 | 0.064 | 1.973 | |
| hnrnp.cnts | 9.192 | 0.064 | 9.261 | |
| sc.gene | 0.024 | 0.004 | 0.029 | |