Back to Build/check report for BioC 3.10 experimental data |
This page was generated on 2020-04-14 17:46:30 -0400 (Tue, 14 Apr 2020).
Package 177/384 | Hostname | OS / Arch | INSTALL | BUILD | CHECK | ||||||
HMP2Data 1.0.0 John Stansfield
| malbec1 | Linux (Ubuntu 18.04.4 LTS) / x86_64 | OK | [ OK ] | OK |
Package: HMP2Data |
Version: 1.0.0 |
Command: /home/biocbuild/bbs-3.10-bioc/R/bin/R CMD build --keep-empty-dirs --no-resave-data HMP2Data |
StartedAt: 2020-04-14 12:30:13 -0400 (Tue, 14 Apr 2020) |
EndedAt: 2020-04-14 12:31:51 -0400 (Tue, 14 Apr 2020) |
EllapsedTime: 97.4 seconds |
RetCode: 0 |
Status: OK |
PackageFile: HMP2Data_1.0.0.tar.gz |
PackageFileSize: 5.047 MiB |
############################################################################## ############################################################################## ### ### Running command: ### ### /home/biocbuild/bbs-3.10-bioc/R/bin/R CMD build --keep-empty-dirs --no-resave-data HMP2Data ### ############################################################################## ############################################################################## * checking for file ‘HMP2Data/DESCRIPTION’ ... OK * preparing ‘HMP2Data’: * checking DESCRIPTION meta-information ... OK * installing the package to build vignettes * creating vignettes ... OK * checking for LF line-endings in source and make files and shell scripts * checking for empty or unneeded directories * looking to see if a ‘data/datalist’ file should be added * building ‘HMP2Data_1.0.0.tar.gz’