| Back to Build/check report for BioC 3.10 experimental data |
This page was generated on 2020-04-14 17:46:30 -0400 (Tue, 14 Apr 2020).
| Package 33/384 | Hostname | OS / Arch | INSTALL | BUILD | CHECK | ||||||
| bodymapRat 1.2.0 Stephanie Hicks
| malbec1 | Linux (Ubuntu 18.04.4 LTS) / x86_64 | OK | [ OK ] | OK |
| Package: bodymapRat |
| Version: 1.2.0 |
| Command: /home/biocbuild/bbs-3.10-bioc/R/bin/R CMD build --keep-empty-dirs --no-resave-data bodymapRat |
| StartedAt: 2020-04-14 12:28:28 -0400 (Tue, 14 Apr 2020) |
| EndedAt: 2020-04-14 12:29:08 -0400 (Tue, 14 Apr 2020) |
| EllapsedTime: 40.0 seconds |
| RetCode: 0 |
| Status: OK |
| PackageFile: bodymapRat_1.2.0.tar.gz |
| PackageFileSize: 285.6 KiB |
############################################################################## ############################################################################## ### ### Running command: ### ### /home/biocbuild/bbs-3.10-bioc/R/bin/R CMD build --keep-empty-dirs --no-resave-data bodymapRat ### ############################################################################## ############################################################################## * checking for file ‘bodymapRat/DESCRIPTION’ ... OK * preparing ‘bodymapRat’: * checking DESCRIPTION meta-information ... OK * installing the package to build vignettes * creating vignettes ... OK * checking for LF line-endings in source and make files and shell scripts * checking for empty or unneeded directories * building ‘bodymapRat_1.2.0.tar.gz’