| Back to Build/check report for BioC 3.10 experimental data |
This page was generated on 2020-04-14 17:46:23 -0400 (Tue, 14 Apr 2020).
| Package 46/384 | Hostname | OS / Arch | INSTALL | BUILD | CHECK | ||||||
| CardinalWorkflows 1.18.0 Kylie A. Bemis
| malbec1 | Linux (Ubuntu 18.04.4 LTS) / x86_64 | OK | OK | [ OK ] |
| Package: CardinalWorkflows |
| Version: 1.18.0 |
| Command: /home/biocbuild/bbs-3.10-bioc/R/bin/R CMD check --install=check:CardinalWorkflows.install-out.txt --library=/home/biocbuild/bbs-3.10-bioc/R/library --no-vignettes --timings CardinalWorkflows_1.18.0.tar.gz |
| StartedAt: 2020-04-14 13:23:52 -0400 (Tue, 14 Apr 2020) |
| EndedAt: 2020-04-14 13:25:39 -0400 (Tue, 14 Apr 2020) |
| EllapsedTime: 106.8 seconds |
| RetCode: 0 |
| Status: OK |
| CheckDir: CardinalWorkflows.Rcheck |
| Warnings: 0 |
##############################################################################
##############################################################################
###
### Running command:
###
### /home/biocbuild/bbs-3.10-bioc/R/bin/R CMD check --install=check:CardinalWorkflows.install-out.txt --library=/home/biocbuild/bbs-3.10-bioc/R/library --no-vignettes --timings CardinalWorkflows_1.18.0.tar.gz
###
##############################################################################
##############################################################################
* using log directory ‘/home/biocbuild/bbs-3.10-data-experiment/meat/CardinalWorkflows.Rcheck’
* using R version 3.6.3 (2020-02-29)
* using platform: x86_64-pc-linux-gnu (64-bit)
* using session charset: UTF-8
* using option ‘--no-vignettes’
* checking for file ‘CardinalWorkflows/DESCRIPTION’ ... OK
* checking extension type ... Package
* this is package ‘CardinalWorkflows’ version ‘1.18.0’
* checking package namespace information ... OK
* checking package dependencies ... OK
* checking if this is a source package ... OK
* checking if there is a namespace ... OK
* checking for hidden files and directories ... OK
* checking for portable file names ... OK
* checking for sufficient/correct file permissions ... OK
* checking whether package ‘CardinalWorkflows’ can be installed ... OK
* checking installed package size ... NOTE
installed size is 135.0Mb
sub-directories of 1Mb or more:
data 134.9Mb
* checking package directory ... OK
* checking ‘build’ directory ... OK
* checking DESCRIPTION meta-information ... OK
* checking top-level files ... OK
* checking for left-over files ... OK
* checking index information ... OK
* checking package subdirectories ... OK
* checking whether the package can be loaded ... OK
* checking whether the package can be loaded with stated dependencies ... OK
* checking whether the package can be unloaded cleanly ... OK
* checking whether the namespace can be loaded with stated dependencies ... OK
* checking whether the namespace can be unloaded cleanly ... OK
* checking Rd files ... OK
* checking Rd metadata ... OK
* checking Rd cross-references ... OK
* checking for missing documentation entries ... OK
* checking for code/documentation mismatches ... OK
* checking Rd \usage sections ... OK
* checking Rd contents ... OK
* checking for unstated dependencies in examples ... OK
* checking contents of ‘data’ directory ... OK
* checking data for non-ASCII characters ... OK
* checking data for ASCII and uncompressed saves ... OK
* checking files in ‘vignettes’ ... OK
* checking examples ... OK
Examples with CPU or elapsed time > 5s
user system elapsed
rcc-data 8.124 0.388 8.513
cardinal-data 7.640 0.244 7.887
* checking for unstated dependencies in vignettes ... OK
* checking package vignettes in ‘inst/doc’ ... OK
* checking running R code from vignettes ... SKIPPED
* checking re-building of vignette outputs ... SKIPPED
* checking PDF version of manual ... OK
* DONE
Status: 1 NOTE
See
‘/home/biocbuild/bbs-3.10-data-experiment/meat/CardinalWorkflows.Rcheck/00check.log’
for details.
CardinalWorkflows.Rcheck/00install.out
############################################################################## ############################################################################## ### ### Running command: ### ### /home/biocbuild/bbs-3.10-bioc/R/bin/R CMD INSTALL CardinalWorkflows ### ############################################################################## ############################################################################## * installing to library ‘/home/biocbuild/bbs-3.10-bioc/R/library’ * installing *source* package ‘CardinalWorkflows’ ... ** using staged installation ** data ** inst ** help *** installing help indices ** building package indices ** installing vignettes ** testing if installed package can be loaded from temporary location ** testing if installed package can be loaded from final location ** testing if installed package keeps a record of temporary installation path * DONE (CardinalWorkflows)
CardinalWorkflows.Rcheck/CardinalWorkflows-Ex.timings
| name | user | system | elapsed | |
| cardinal-data | 7.640 | 0.244 | 7.887 | |
| pig206-data | 4.192 | 0.148 | 4.344 | |
| rcc-data | 8.124 | 0.388 | 8.513 | |