| Back to Build/check report for BioC 3.10 experimental data |
This page was generated on 2020-04-14 17:46:22 -0400 (Tue, 14 Apr 2020).
| Package 382/384 | Hostname | OS / Arch | INSTALL | BUILD | CHECK | ||||||
| yri1kgv 0.28.0 VJ Carey
| malbec1 | Linux (Ubuntu 18.04.4 LTS) / x86_64 | [ OK ] | OK | OK |
| Package: yri1kgv |
| Version: 0.28.0 |
| Command: /home/biocbuild/bbs-3.10-bioc/R/bin/R CMD INSTALL yri1kgv |
| StartedAt: 2020-04-14 11:12:52 -0400 (Tue, 14 Apr 2020) |
| EndedAt: 2020-04-14 11:13:25 -0400 (Tue, 14 Apr 2020) |
| EllapsedTime: 32.8 seconds |
| RetCode: 0 |
| Status: OK |
##############################################################################
##############################################################################
###
### Running command:
###
### /home/biocbuild/bbs-3.10-bioc/R/bin/R CMD INSTALL yri1kgv
###
##############################################################################
##############################################################################
* installing to library ‘/home/biocbuild/bbs-3.10-bioc/R/library’
* installing *source* package ‘yri1kgv’ ...
** using staged installation
** R
** data
** inst
** byte-compile and prepare package for lazy loading
Warning in tools:::makeLazyLoading("yri1kgv", "/home/biocbuild/bbs-3.10-bioc/R/library/00LOCK-yri1kgv/00new", :
package seems to be using lazy loading already
** help
*** installing help indices
** building package indices
** testing if installed package can be loaded from temporary location
** testing if installed package can be loaded from final location
** testing if installed package keeps a record of temporary installation path
* DONE (yri1kgv)