| Back to Build/check report for BioC 3.10 experimental data |
This page was generated on 2020-04-14 17:46:29 -0400 (Tue, 14 Apr 2020).
| Package 350/384 | Hostname | OS / Arch | INSTALL | BUILD | CHECK | ||||||
| TabulaMurisData 1.4.0 Charlotte Soneson
| malbec1 | Linux (Ubuntu 18.04.4 LTS) / x86_64 | OK | [ OK ] | OK |
| Package: TabulaMurisData |
| Version: 1.4.0 |
| Command: /home/biocbuild/bbs-3.10-bioc/R/bin/R CMD build --keep-empty-dirs --no-resave-data TabulaMurisData |
| StartedAt: 2020-04-14 12:24:02 -0400 (Tue, 14 Apr 2020) |
| EndedAt: 2020-04-14 12:24:54 -0400 (Tue, 14 Apr 2020) |
| EllapsedTime: 52.2 seconds |
| RetCode: 0 |
| Status: OK |
| PackageFile: TabulaMurisData_1.4.0.tar.gz |
| PackageFileSize: 221.4 KiB |
############################################################################## ############################################################################## ### ### Running command: ### ### /home/biocbuild/bbs-3.10-bioc/R/bin/R CMD build --keep-empty-dirs --no-resave-data TabulaMurisData ### ############################################################################## ############################################################################## * checking for file ‘TabulaMurisData/DESCRIPTION’ ... OK * preparing ‘TabulaMurisData’: * checking DESCRIPTION meta-information ... OK * installing the package to build vignettes * creating vignettes ... OK * checking for LF line-endings in source and make files and shell scripts * checking for empty or unneeded directories * building ‘TabulaMurisData_1.4.0.tar.gz’