| Back to Build/check report for BioC 3.10 experimental data |
This page was generated on 2020-04-14 17:46:21 -0400 (Tue, 14 Apr 2020).
| Package 205/384 | Hostname | OS / Arch | INSTALL | BUILD | CHECK | ||||||
| mammaPrintData 1.22.0 Luigi Marchionni
| malbec1 | Linux (Ubuntu 18.04.4 LTS) / x86_64 | OK | OK | [ OK ] |
| Package: mammaPrintData |
| Version: 1.22.0 |
| Command: /home/biocbuild/bbs-3.10-bioc/R/bin/R CMD check --install=check:mammaPrintData.install-out.txt --library=/home/biocbuild/bbs-3.10-bioc/R/library --no-vignettes --timings mammaPrintData_1.22.0.tar.gz |
| StartedAt: 2020-04-14 13:14:53 -0400 (Tue, 14 Apr 2020) |
| EndedAt: 2020-04-14 13:15:20 -0400 (Tue, 14 Apr 2020) |
| EllapsedTime: 27.9 seconds |
| RetCode: 0 |
| Status: OK |
| CheckDir: mammaPrintData.Rcheck |
| Warnings: 0 |
##############################################################################
##############################################################################
###
### Running command:
###
### /home/biocbuild/bbs-3.10-bioc/R/bin/R CMD check --install=check:mammaPrintData.install-out.txt --library=/home/biocbuild/bbs-3.10-bioc/R/library --no-vignettes --timings mammaPrintData_1.22.0.tar.gz
###
##############################################################################
##############################################################################
* using log directory ‘/home/biocbuild/bbs-3.10-data-experiment/meat/mammaPrintData.Rcheck’
* using R version 3.6.3 (2020-02-29)
* using platform: x86_64-pc-linux-gnu (64-bit)
* using session charset: UTF-8
* using option ‘--no-vignettes’
* checking for file ‘mammaPrintData/DESCRIPTION’ ... OK
* checking extension type ... Package
* this is package ‘mammaPrintData’ version ‘1.22.0’
* checking package namespace information ... OK
* checking package dependencies ... OK
* checking if this is a source package ... OK
* checking if there is a namespace ... OK
* checking for hidden files and directories ... OK
* checking for portable file names ... OK
* checking for sufficient/correct file permissions ... OK
* checking whether package ‘mammaPrintData’ can be installed ... OK
* checking installed package size ... NOTE
installed size is 216.0Mb
sub-directories of 1Mb or more:
data 10.4Mb
extdata 205.4Mb
* checking package directory ... OK
* checking ‘build’ directory ... OK
* checking DESCRIPTION meta-information ... OK
* checking top-level files ... OK
* checking for left-over files ... OK
* checking index information ... OK
* checking package subdirectories ... OK
* checking whether the package can be loaded ... OK
* checking whether the package can be loaded with stated dependencies ... OK
* checking whether the package can be unloaded cleanly ... OK
* checking whether the namespace can be loaded with stated dependencies ... OK
* checking whether the namespace can be unloaded cleanly ... OK
* checking Rd files ... OK
* checking Rd metadata ... OK
* checking Rd cross-references ... OK
* checking for missing documentation entries ... OK
* checking for code/documentation mismatches ... OK
* checking Rd \usage sections ... OK
* checking Rd contents ... OK
* checking for unstated dependencies in examples ... OK
* checking contents of ‘data’ directory ... OK
* checking data for non-ASCII characters ... OK
* checking data for ASCII and uncompressed saves ... OK
* checking files in ‘vignettes’ ... OK
* checking examples ... OK
* checking for unstated dependencies in vignettes ... OK
* checking package vignettes in ‘inst/doc’ ... OK
* checking running R code from vignettes ... SKIPPED
* checking re-building of vignette outputs ... SKIPPED
* checking PDF version of manual ... OK
* DONE
Status: 1 NOTE
See
‘/home/biocbuild/bbs-3.10-data-experiment/meat/mammaPrintData.Rcheck/00check.log’
for details.
mammaPrintData.Rcheck/00install.out
############################################################################## ############################################################################## ### ### Running command: ### ### /home/biocbuild/bbs-3.10-bioc/R/bin/R CMD INSTALL mammaPrintData ### ############################################################################## ############################################################################## * installing to library ‘/home/biocbuild/bbs-3.10-bioc/R/library’ * installing *source* package ‘mammaPrintData’ ... ** using staged installation ** data ** inst ** help *** installing help indices ** building package indices ** installing vignettes ** testing if installed package can be loaded from temporary location ** testing if installed package can be loaded from final location ** testing if installed package keeps a record of temporary installation path * DONE (mammaPrintData)
mammaPrintData.Rcheck/mammaPrintData-Ex.timings
| name | user | system | elapsed | |
| buyseRGcy3 | 0.828 | 0.068 | 0.897 | |
| buyseRGcy5 | 0.68 | 0.06 | 0.74 | |
| glasRGcy3 | 1.444 | 0.016 | 1.463 | |
| glasRGcy5 | 1.440 | 0.012 | 1.449 | |
| mammaPrintData | 2.036 | 0.032 | 2.068 | |