| Back to Build/check report for BioC 3.10 experimental data |
This page was generated on 2020-04-14 17:46:16 -0400 (Tue, 14 Apr 2020).
| Package 282/384 | Hostname | OS / Arch | INSTALL | BUILD | CHECK | ||||||
| pumadata 2.22.0 Xuejun liu
| malbec1 | Linux (Ubuntu 18.04.4 LTS) / x86_64 | OK | [ OK ] | OK |
| Package: pumadata |
| Version: 2.22.0 |
| Command: /home/biocbuild/bbs-3.10-bioc/R/bin/R CMD build --keep-empty-dirs --no-resave-data pumadata |
| StartedAt: 2020-04-14 11:28:00 -0400 (Tue, 14 Apr 2020) |
| EndedAt: 2020-04-14 11:28:43 -0400 (Tue, 14 Apr 2020) |
| EllapsedTime: 43.4 seconds |
| RetCode: 0 |
| Status: OK |
| PackageFile: pumadata_2.22.0.tar.gz |
| PackageFileSize: 101.7 MiB |
############################################################################## ############################################################################## ### ### Running command: ### ### /home/biocbuild/bbs-3.10-bioc/R/bin/R CMD build --keep-empty-dirs --no-resave-data pumadata ### ############################################################################## ############################################################################## * checking for file ‘pumadata/DESCRIPTION’ ... OK * preparing ‘pumadata’: * checking DESCRIPTION meta-information ... OK * installing the package to build vignettes * creating vignettes ... OK * checking for LF line-endings in source and make files and shell scripts * checking for empty or unneeded directories * looking to see if a ‘data/datalist’ file should be added * building ‘pumadata_2.22.0.tar.gz’