| Back to Build/check report for BioC 3.10 experimental data |
This page was generated on 2020-04-14 17:46:22 -0400 (Tue, 14 Apr 2020).
| Package 382/384 | Hostname | OS / Arch | INSTALL | BUILD | CHECK | ||||||
| yri1kgv 0.28.0 VJ Carey
| malbec1 | Linux (Ubuntu 18.04.4 LTS) / x86_64 | OK | [ OK ] | OK |
| Package: yri1kgv |
| Version: 0.28.0 |
| Command: /home/biocbuild/bbs-3.10-bioc/R/bin/R CMD build --keep-empty-dirs --no-resave-data yri1kgv |
| StartedAt: 2020-04-14 11:48:58 -0400 (Tue, 14 Apr 2020) |
| EndedAt: 2020-04-14 11:49:24 -0400 (Tue, 14 Apr 2020) |
| EllapsedTime: 26.3 seconds |
| RetCode: 0 |
| Status: OK |
| PackageFile: yri1kgv_0.28.0.tar.gz |
| PackageFileSize: 323.3 MiB |
############################################################################## ############################################################################## ### ### Running command: ### ### /home/biocbuild/bbs-3.10-bioc/R/bin/R CMD build --keep-empty-dirs --no-resave-data yri1kgv ### ############################################################################## ############################################################################## * checking for file ‘yri1kgv/DESCRIPTION’ ... OK * preparing ‘yri1kgv’: * checking DESCRIPTION meta-information ... OK * checking for LF line-endings in source and make files and shell scripts * checking for empty or unneeded directories * looking to see if a ‘data/datalist’ file should be added * building ‘yri1kgv_0.28.0.tar.gz’