| Back to Build/check report for BioC 3.10 experimental data |
This page was generated on 2020-04-14 17:46:26 -0400 (Tue, 14 Apr 2020).
| Package 42/384 | Hostname | OS / Arch | INSTALL | BUILD | CHECK | ||||||
| brgedata 1.8.0 Carlos Ruiz-Arenas
| malbec1 | Linux (Ubuntu 18.04.4 LTS) / x86_64 | [ OK ] | OK | WARNINGS |
| Package: brgedata |
| Version: 1.8.0 |
| Command: /home/biocbuild/bbs-3.10-bioc/R/bin/R CMD INSTALL brgedata |
| StartedAt: 2020-04-14 11:10:13 -0400 (Tue, 14 Apr 2020) |
| EndedAt: 2020-04-14 11:11:38 -0400 (Tue, 14 Apr 2020) |
| EllapsedTime: 85.0 seconds |
| RetCode: 0 |
| Status: OK |
############################################################################## ############################################################################## ### ### Running command: ### ### /home/biocbuild/bbs-3.10-bioc/R/bin/R CMD INSTALL brgedata ### ############################################################################## ############################################################################## * installing to library ‘/home/biocbuild/bbs-3.10-bioc/R/library’ * installing *source* package ‘brgedata’ ... ** using staged installation ** R ** data *** moving datasets to lazyload DB ** inst ** byte-compile and prepare package for lazy loading ** help *** installing help indices ** building package indices ** installing vignettes ** testing if installed package can be loaded from temporary location ** testing if installed package can be loaded from final location ** testing if installed package keeps a record of temporary installation path * DONE (brgedata)