| Back to Build/check report for BioC 3.10 experimental data |
This page was generated on 2020-04-14 17:46:26 -0400 (Tue, 14 Apr 2020).
| Package 221/384 | Hostname | OS / Arch | INSTALL | BUILD | CHECK | ||||||
| microRNAome 1.8.0 Matthew N. McCall
| malbec1 | Linux (Ubuntu 18.04.4 LTS) / x86_64 | OK | [ OK ] | OK |
| Package: microRNAome |
| Version: 1.8.0 |
| Command: /home/biocbuild/bbs-3.10-bioc/R/bin/R CMD build --keep-empty-dirs --no-resave-data microRNAome |
| StartedAt: 2020-04-14 12:16:59 -0400 (Tue, 14 Apr 2020) |
| EndedAt: 2020-04-14 12:17:05 -0400 (Tue, 14 Apr 2020) |
| EllapsedTime: 5.3 seconds |
| RetCode: 0 |
| Status: OK |
| PackageFile: microRNAome_1.8.0.tar.gz |
| PackageFileSize: 1.213 MiB |
############################################################################## ############################################################################## ### ### Running command: ### ### /home/biocbuild/bbs-3.10-bioc/R/bin/R CMD build --keep-empty-dirs --no-resave-data microRNAome ### ############################################################################## ############################################################################## * checking for file ‘microRNAome/DESCRIPTION’ ... OK * preparing ‘microRNAome’: * checking DESCRIPTION meta-information ... OK * checking for LF line-endings in source and make files and shell scripts * checking for empty or unneeded directories * looking to see if a ‘data/datalist’ file should be added * building ‘microRNAome_1.8.0.tar.gz’