| Back to Build/check report for BioC 3.10 experimental data |
This page was generated on 2020-04-14 17:46:30 -0400 (Tue, 14 Apr 2020).
| Package 162/384 | Hostname | OS / Arch | INSTALL | BUILD | CHECK | ||||||
| HCAData 1.2.0 Federico Marini
| malbec1 | Linux (Ubuntu 18.04.4 LTS) / x86_64 | OK | [ OK ] | OK |
| Package: HCAData |
| Version: 1.2.0 |
| Command: /home/biocbuild/bbs-3.10-bioc/R/bin/R CMD build --keep-empty-dirs --no-resave-data HCAData |
| StartedAt: 2020-04-14 12:26:08 -0400 (Tue, 14 Apr 2020) |
| EndedAt: 2020-04-14 12:29:20 -0400 (Tue, 14 Apr 2020) |
| EllapsedTime: 191.6 seconds |
| RetCode: 0 |
| Status: OK |
| PackageFile: HCAData_1.2.0.tar.gz |
| PackageFileSize: 1.41 MiB |
############################################################################## ############################################################################## ### ### Running command: ### ### /home/biocbuild/bbs-3.10-bioc/R/bin/R CMD build --keep-empty-dirs --no-resave-data HCAData ### ############################################################################## ############################################################################## * checking for file ‘HCAData/DESCRIPTION’ ... OK * preparing ‘HCAData’: * checking DESCRIPTION meta-information ... OK * installing the package to build vignettes * creating vignettes ... OK * checking for LF line-endings in source and make files and shell scripts * checking for empty or unneeded directories WARNING: directory ‘HCAData/build’ is empty * building ‘HCAData_1.2.0.tar.gz’