| Back to Build/check report for BioC 3.10 experimental data |
This page was generated on 2020-04-14 17:46:19 -0400 (Tue, 14 Apr 2020).
| Package 358/384 | Hostname | OS / Arch | INSTALL | BUILD | CHECK | ||||||
| TCGAMethylation450k 1.22.0 Sean Davis
| malbec1 | Linux (Ubuntu 18.04.4 LTS) / x86_64 | OK | [ OK ] | OK |
| Package: TCGAMethylation450k |
| Version: 1.22.0 |
| Command: /home/biocbuild/bbs-3.10-bioc/R/bin/R CMD build --keep-empty-dirs --no-resave-data TCGAMethylation450k |
| StartedAt: 2020-04-14 11:33:50 -0400 (Tue, 14 Apr 2020) |
| EndedAt: 2020-04-14 11:34:09 -0400 (Tue, 14 Apr 2020) |
| EllapsedTime: 18.7 seconds |
| RetCode: 0 |
| Status: OK |
| PackageFile: TCGAMethylation450k_1.22.0.tar.gz |
| PackageFileSize: 81.02 MiB |
############################################################################## ############################################################################## ### ### Running command: ### ### /home/biocbuild/bbs-3.10-bioc/R/bin/R CMD build --keep-empty-dirs --no-resave-data TCGAMethylation450k ### ############################################################################## ############################################################################## * checking for file ‘TCGAMethylation450k/DESCRIPTION’ ... OK * preparing ‘TCGAMethylation450k’: * checking DESCRIPTION meta-information ... OK * checking for LF line-endings in source and make files and shell scripts * checking for empty or unneeded directories * building ‘TCGAMethylation450k_1.22.0.tar.gz’