| Back to Build/check report for BioC 3.10 experimental data |
This page was generated on 2020-04-14 17:46:30 -0400 (Tue, 14 Apr 2020).
| Package 242/384 | Hostname | OS / Arch | INSTALL | BUILD | CHECK | ||||||
| MTseekerData 1.4.0 Tim Triche, Jr.
| malbec1 | Linux (Ubuntu 18.04.4 LTS) / x86_64 | OK | [ OK ] | ERROR |
| Package: MTseekerData |
| Version: 1.4.0 |
| Command: /home/biocbuild/bbs-3.10-bioc/R/bin/R CMD build --keep-empty-dirs --no-resave-data MTseekerData |
| StartedAt: 2020-04-14 12:26:05 -0400 (Tue, 14 Apr 2020) |
| EndedAt: 2020-04-14 12:26:23 -0400 (Tue, 14 Apr 2020) |
| EllapsedTime: 17.4 seconds |
| RetCode: 0 |
| Status: OK |
| PackageFile: MTseekerData_1.4.0.tar.gz |
| PackageFileSize: 10.3 MiB |
############################################################################## ############################################################################## ### ### Running command: ### ### /home/biocbuild/bbs-3.10-bioc/R/bin/R CMD build --keep-empty-dirs --no-resave-data MTseekerData ### ############################################################################## ############################################################################## * checking for file ‘MTseekerData/DESCRIPTION’ ... OK * preparing ‘MTseekerData’: * checking DESCRIPTION meta-information ... OK * checking for LF line-endings in source and make files and shell scripts * checking for empty or unneeded directories * looking to see if a ‘data/datalist’ file should be added * building ‘MTseekerData_1.4.0.tar.gz’