Back to Build/check report for BioC 3.23:   simplified   long
ABCDEFGHIJKLMNOPQR[S]TUVWXYZ

This page was generated on 2025-11-08 11:32 -0500 (Sat, 08 Nov 2025).

HostnameOSArch (*)R versionInstalled pkgs
nebbiolo1Linux (Ubuntu 24.04.3 LTS)x86_64R Under development (unstable) (2025-10-20 r88955) -- "Unsuffered Consequences" 4821
Click on any hostname to see more info about the system (e.g. compilers)      (*) as reported by 'uname -p', except on Windows and Mac OS X

All results for package Seqinfo


To the developers/maintainers of the Seqinfo package:
- Allow up to 24 hours (and sometimes 48 hours) for your latest push to git@git.bioconductor.org:packages/Seqinfo.git to reflect on this report. See Troubleshooting Build Report for more information.
- Use the following Renviron settings to reproduce errors and warnings.
- If 'R CMD check' started to fail recently on the Linux builder(s) over a missing dependency, add the missing dependency to 'Suggests:' in your DESCRIPTION file. See Renviron.bioc for more information.

raw results

Package 1951/2323HostnameOS / ArchINSTALLBUILDCHECKBUILD BIN
Seqinfo 1.1.0  (landing page)
Hervé Pagès
Snapshot Date: 2025-11-07 13:40 -0500 (Fri, 07 Nov 2025)
git_url: https://git.bioconductor.org/packages/Seqinfo
git_branch: devel
git_last_commit: 17fc74a
git_last_commit_date: 2025-10-29 14:52:20 -0500 (Wed, 29 Oct 2025)
nebbiolo1Linux (Ubuntu 24.04.3 LTS) / x86_64  OK    OK    OK  UNNEEDED, same version is already published



Results for Bioconductor software packages that depend directly on package Seqinfo

QUICK STATSOS / ArchINSTALLBUILDCHECKBUILD BIN
nebbiolo1Linux (Ubuntu 24.04.3 LTS) / x86_64
013209
028194
01031153
Package 1/222HostnameOS / ArchINSTALLBUILDCHECKBUILD BIN
alabaster.ranges 1.11.0  (landing page)
Aaron Lun
git_last_commit: 283afd5
git_last_commit_date: 2025-10-29 11:21:11 -0500
nebbiolo1Linux (Ubuntu 24.04.3 LTS) / x86_64  OK    OK    OK  UNNEEDED, same version is already published
Package 2/222HostnameOS / ArchINSTALLBUILDCHECKBUILD BIN
amplican 1.33.0  (landing page)
Eivind Valen
git_last_commit: 244fde2
git_last_commit_date: 2025-10-29 10:40:44 -0500
nebbiolo1Linux (Ubuntu 24.04.3 LTS) / x86_64  ERROR    ERROR  skipped
Package 3/222HostnameOS / ArchINSTALLBUILDCHECKBUILD BIN
AnnotationHubData 1.41.0  (landing page)
Bioconductor Package Maintainer
git_last_commit: 932837e
git_last_commit_date: 2025-10-29 10:27:35 -0500
nebbiolo1Linux (Ubuntu 24.04.3 LTS) / x86_64  OK    OK    WARNINGS  NO, package depends on 'BiocCheck' which is not available
Package 4/222HostnameOS / ArchINSTALLBUILDCHECKBUILD BIN
annotatr 1.37.0  (landing page)
Raymond G. Cavalcante
git_last_commit: 3e6ad83
git_last_commit_date: 2025-10-29 10:35:13 -0500
nebbiolo1Linux (Ubuntu 24.04.3 LTS) / x86_64  OK    OK    OK  YES
Package 5/222HostnameOS / ArchINSTALLBUILDCHECKBUILD BIN
ATACseqTFEA 1.13.0  (landing page)
Jianhong Ou
git_last_commit: e0054ea
git_last_commit_date: 2025-10-29 11:18:13 -0500
nebbiolo1Linux (Ubuntu 24.04.3 LTS) / x86_64  OK    ERROR  skipped
Package 6/222HostnameOS / ArchINSTALLBUILDCHECKBUILD BIN
atena 1.17.0  (landing page)
Robert Castelo
git_last_commit: 2209be2
git_last_commit_date: 2025-10-29 11:12:14 -0500
nebbiolo1Linux (Ubuntu 24.04.3 LTS) / x86_64  OK    OK    OK  UNNEEDED, same version is already published
Package 7/222HostnameOS / ArchINSTALLBUILDCHECKBUILD BIN
ballgown 2.43.0  (landing page)
Jack Fu
git_last_commit: dae077a
git_last_commit_date: 2025-10-29 10:20:34 -0500
nebbiolo1Linux (Ubuntu 24.04.3 LTS) / x86_64  OK    OK    OK  UNNEEDED, same version is already published
Package 8/222HostnameOS / ArchINSTALLBUILDCHECKBUILD BIN
BasicSTARRseq 1.39.0  (landing page)
Annika Buerger
git_last_commit: 9023bc9
git_last_commit_date: 2025-10-29 10:29:46 -0500
nebbiolo1Linux (Ubuntu 24.04.3 LTS) / x86_64  OK    OK    OK  UNNEEDED, same version is already published
Package 9/222HostnameOS / ArchINSTALLBUILDCHECKBUILD BIN
Bioc.gff 1.1.0  (landing page)
Bioconductor Package Maintainer
git_last_commit: a3d3863
git_last_commit_date: 2025-10-29 11:37:35 -0500
nebbiolo1Linux (Ubuntu 24.04.3 LTS) / x86_64  OK    OK    OK  UNNEEDED, same version is already published
Package 10/222HostnameOS / ArchINSTALLBUILDCHECKBUILD BIN
Biostrings 2.79.2  (landing page)
Hervé Pagès
git_last_commit: b15bffb
git_last_commit_date: 2025-11-04 14:49:55 -0500
nebbiolo1Linux (Ubuntu 24.04.3 LTS) / x86_64  OK    OK    WARNINGS  UNNEEDED, same version is already published
Package 11/222HostnameOS / ArchINSTALLBUILDCHECKBUILD BIN
biovizBase 1.59.0  (landing page)
Michael Lawrence
git_last_commit: 7895cbf
git_last_commit_date: 2025-10-29 10:09:04 -0500
nebbiolo1Linux (Ubuntu 24.04.3 LTS) / x86_64  OK    OK    WARNINGS  UNNEEDED, same version is already published
Package 12/222HostnameOS / ArchINSTALLBUILDCHECKBUILD BIN
BiSeq 1.51.0  (landing page)
Katja Hebestreit
git_last_commit: 6c33e6b
git_last_commit_date: 2025-10-29 10:14:44 -0500
nebbiolo1Linux (Ubuntu 24.04.3 LTS) / x86_64  OK    OK    OK  UNNEEDED, same version is already published
Package 13/222HostnameOS / ArchINSTALLBUILDCHECKBUILD BIN
bnbc 1.33.0  (landing page)
Kipper Fletez-Brant
git_last_commit: dc2adb8
git_last_commit_date: 2025-10-29 10:41:29 -0500
nebbiolo1Linux (Ubuntu 24.04.3 LTS) / x86_64  OK    OK    OK  UNNEEDED, same version is already published
Package 14/222HostnameOS / ArchINSTALLBUILDCHECKBUILD BIN
branchpointer 1.37.0  (landing page)
Beth Signal
git_last_commit: a9cef4c
git_last_commit_date: 2025-10-29 10:37:20 -0500
nebbiolo1Linux (Ubuntu 24.04.3 LTS) / x86_64  OK    ERROR  skipped
Package 15/222HostnameOS / ArchINSTALLBUILDCHECKBUILD BIN
BSgenome 1.79.1  (landing page)
Hervé Pagès
git_last_commit: c2fc0db
git_last_commit_date: 2025-11-03 17:15:06 -0500
nebbiolo1Linux (Ubuntu 24.04.3 LTS) / x86_64  OK    OK    WARNINGS  UNNEEDED, same version is already published
Package 16/222HostnameOS / ArchINSTALLBUILDCHECKBUILD BIN
BSgenomeForge 1.11.0  (landing page)
Hervé Pagès
git_last_commit: c7d1729
git_last_commit_date: 2025-10-29 14:46:49 -0500
nebbiolo1Linux (Ubuntu 24.04.3 LTS) / x86_64  OK    OK    OK  UNNEEDED, same version is already published
Package 17/222HostnameOS / ArchINSTALLBUILDCHECKBUILD BIN
bsseq 1.47.1  (landing page)
Kasper Daniel Hansen
git_last_commit: 46b4295
git_last_commit_date: 2025-10-31 11:03:21 -0500
nebbiolo1Linux (Ubuntu 24.04.3 LTS) / x86_64  OK    OK    WARNINGS  UNNEEDED, same version is already published
Package 18/222HostnameOS / ArchINSTALLBUILDCHECKBUILD BIN
bumphunter 1.53.0  (landing page)
Tamilselvi Guharaj
git_last_commit: 19ed02f
git_last_commit_date: 2025-10-29 10:13:01 -0500
nebbiolo1Linux (Ubuntu 24.04.3 LTS) / x86_64  OK    OK    OK  UNNEEDED, same version is already published
Package 19/222HostnameOS / ArchINSTALLBUILDCHECKBUILD BIN
CAGEfightR 1.31.0  (landing page)
Malte Thodberg
git_last_commit: c45462c
git_last_commit_date: 2025-10-29 10:45:17 -0500
nebbiolo1Linux (Ubuntu 24.04.3 LTS) / x86_64  OK    OK    OK  UNNEEDED, same version is already published
Package 20/222HostnameOS / ArchINSTALLBUILDCHECKBUILD BIN
CAGEr 2.17.0  (landing page)
Charles Plessy
git_last_commit: 0a93a41
git_last_commit_date: 2025-10-29 10:13:45 -0500
nebbiolo1Linux (Ubuntu 24.04.3 LTS) / x86_64  OK    OK    OK  UNNEEDED, same version is already published
Package 21/222HostnameOS / ArchINSTALLBUILDCHECKBUILD BIN
casper 2.45.0  (landing page)
David Rossell
git_last_commit: 8f208d9
git_last_commit_date: 2025-10-29 10:13:21 -0500
nebbiolo1Linux (Ubuntu 24.04.3 LTS) / x86_64  ERROR    ERROR  skipped
Package 22/222HostnameOS / ArchINSTALLBUILDCHECKBUILD BIN
cBioPortalData 2.23.2  (landing page)
Marcel Ramos
git_last_commit: 0773368
git_last_commit_date: 2025-11-07 13:23:07 -0500
nebbiolo1Linux (Ubuntu 24.04.3 LTS) / x86_64  OK    OK    OK  NO, package depends on 'RTCGAToolbox' which is not available
Package 23/222HostnameOS / ArchINSTALLBUILDCHECKBUILD BIN
CexoR 1.49.0  (landing page)
Pedro Madrigal
git_last_commit: e9655e9
git_last_commit_date: 2025-10-29 11:12:38 -0500
nebbiolo1Linux (Ubuntu 24.04.3 LTS) / x86_64  OK    OK    OK  UNNEEDED, same version is already published
Package 24/222HostnameOS / ArchINSTALLBUILDCHECKBUILD BIN
ChIPComp 1.41.0  (landing page)
Li Chen
git_last_commit: 6f90f75
git_last_commit_date: 2025-10-29 10:27:22 -0500
nebbiolo1Linux (Ubuntu 24.04.3 LTS) / x86_64  OK    OK    OK  UNNEEDED, same version is already published
Package 25/222HostnameOS / ArchINSTALLBUILDCHECKBUILD BIN
chipenrich 2.35.0  (landing page)
Kai Wang
git_last_commit: 93dd65a
git_last_commit_date: 2025-10-29 10:16:16 -0500
nebbiolo1Linux (Ubuntu 24.04.3 LTS) / x86_64  OK    OK    OK  UNNEEDED, same version is already published
Package 26/222HostnameOS / ArchINSTALLBUILDCHECKBUILD BIN
ChIPexoQual 1.35.0  (landing page)
Rene Welch
git_last_commit: c1a42ad
git_last_commit_date: 2025-10-29 10:36:27 -0500
nebbiolo1Linux (Ubuntu 24.04.3 LTS) / x86_64  OK    OK    OK  UNNEEDED, same version is already published
Package 27/222HostnameOS / ArchINSTALLBUILDCHECKBUILD BIN
chromVAR 1.33.0  (landing page)
Alicia Schep
git_last_commit: 1730858
git_last_commit_date: 2025-10-29 10:41:16 -0500
nebbiolo1Linux (Ubuntu 24.04.3 LTS) / x86_64  ERROR    ERROR  skipped
Package 28/222HostnameOS / ArchINSTALLBUILDCHECKBUILD BIN
cleanUpdTSeq 1.49.0  (landing page)
Jianhong Ou ; Lihua Julie Zhu
git_last_commit: 8cf2661
git_last_commit_date: 2025-10-29 10:15:28 -0500
nebbiolo1Linux (Ubuntu 24.04.3 LTS) / x86_64  OK    OK    OK  UNNEEDED, same version is already published
Package 29/222HostnameOS / ArchINSTALLBUILDCHECKBUILD BIN
CleanUpRNAseq 1.5.0  (landing page)
Haibo Liu
git_last_commit: 4f653f6
git_last_commit_date: 2025-10-29 11:31:19 -0500
nebbiolo1Linux (Ubuntu 24.04.3 LTS) / x86_64  OK    OK    OK  UNNEEDED, same version is already published
Package 30/222HostnameOS / ArchINSTALLBUILDCHECKBUILD BIN
cn.mops 1.57.0  (landing page)
Gundula Povysil
git_last_commit: 79a0901
git_last_commit_date: 2025-10-29 10:09:41 -0500
nebbiolo1Linux (Ubuntu 24.04.3 LTS) / x86_64  OK    OK    OK  UNNEEDED, same version is already published
Package 31/222HostnameOS / ArchINSTALLBUILDCHECKBUILD BIN
CNEr 1.47.0  (landing page)
Boris Lenhard Damir Baranasic
git_last_commit: 4d7f8ce
git_last_commit_date: 2025-10-29 10:18:00 -0500
nebbiolo1Linux (Ubuntu 24.04.3 LTS) / x86_64  OK    OK    WARNINGS  UNNEEDED, same version is already published
Package 32/222HostnameOS / ArchINSTALLBUILDCHECKBUILD BIN
Cogito 1.17.0  (landing page)
Annika Bürger
git_last_commit: 6bd2b9d
git_last_commit_date: 2025-10-29 11:13:02 -0500
nebbiolo1Linux (Ubuntu 24.04.3 LTS) / x86_64  OK    OK    OK  UNNEEDED, same version is already published
Package 33/222HostnameOS / ArchINSTALLBUILDCHECKBUILD BIN
compEpiTools 1.45.0  (landing page)
Mattia Furlan
git_last_commit: 949eb04
git_last_commit_date: 2025-10-29 10:20:59 -0500
nebbiolo1Linux (Ubuntu 24.04.3 LTS) / x86_64  OK    OK    OK  UNNEEDED, same version is already published
Package 34/222HostnameOS / ArchINSTALLBUILDCHECKBUILD BIN
consensusSeekeR 1.39.0  (landing page)
Astrid Deschênes
git_last_commit: 35fd991
git_last_commit_date: 2025-10-29 10:28:45 -0500
nebbiolo1Linux (Ubuntu 24.04.3 LTS) / x86_64  OK    OK    OK  UNNEEDED, same version is already published
Package 35/222HostnameOS / ArchINSTALLBUILDCHECKBUILD BIN
conumee 1.45.0  (landing page)
Volker Hovestadt
git_last_commit: 88ddea1
git_last_commit_date: 2025-10-29 10:25:31 -0500
nebbiolo1Linux (Ubuntu 24.04.3 LTS) / x86_64  OK    OK    ERROR  
Package 36/222HostnameOS / ArchINSTALLBUILDCHECKBUILD BIN
crisprBowtie 1.15.0  (landing page)
Jean-Philippe Fortin
git_last_commit: 5838b33
git_last_commit_date: 2025-10-29 11:15:03 -0500
nebbiolo1Linux (Ubuntu 24.04.3 LTS) / x86_64  OK    OK    OK  UNNEEDED, same version is already published
Package 37/222HostnameOS / ArchINSTALLBUILDCHECKBUILD BIN
crisprBwa 1.15.0  (landing page)
Jean-Philippe Fortin
git_last_commit: cff26fd
git_last_commit_date: 2025-10-29 11:16:38 -0500
nebbiolo1Linux (Ubuntu 24.04.3 LTS) / x86_64  OK    OK    OK  UNNEEDED, same version is already published
Package 38/222HostnameOS / ArchINSTALLBUILDCHECKBUILD BIN
crisprDesign 1.13.0  (landing page)
Jean-Philippe Fortin
git_last_commit: dd162c8
git_last_commit_date: 2025-10-29 11:17:54 -0500
nebbiolo1Linux (Ubuntu 24.04.3 LTS) / x86_64  OK    OK    OK  UNNEEDED, same version is already published
Package 39/222HostnameOS / ArchINSTALLBUILDCHECKBUILD BIN
CRISPRseek 1.51.0  (landing page)
Lihua Julie Zhu
git_last_commit: 0934262
git_last_commit_date: 2025-10-29 10:17:22 -0500
nebbiolo1Linux (Ubuntu 24.04.3 LTS) / x86_64  OK    OK    OK  UNNEEDED, same version is already published
Package 40/222HostnameOS / ArchINSTALLBUILDCHECKBUILD BIN
crisprShiny 1.7.0  (landing page)
Jean-Philippe Fortin
git_last_commit: e4da799
git_last_commit_date: 2025-10-29 11:28:01 -0500
nebbiolo1Linux (Ubuntu 24.04.3 LTS) / x86_64  ERROR    ERROR  skipped
Package 41/222HostnameOS / ArchINSTALLBUILDCHECKBUILD BIN
crisprViz 1.13.0  (landing page)
Jean-Philippe Fortin
git_last_commit: e839b44
git_last_commit_date: 2025-10-29 11:18:46 -0500
nebbiolo1Linux (Ubuntu 24.04.3 LTS) / x86_64  OK    OK    OK  UNNEEDED, same version is already published
Package 42/222HostnameOS / ArchINSTALLBUILDCHECKBUILD BIN
crupR 1.3.0  (landing page)
Persia Akbari Omgba
git_last_commit: f02dafa
git_last_commit_date: 2025-10-29 11:36:29 -0500
nebbiolo1Linux (Ubuntu 24.04.3 LTS) / x86_64  OK    OK    ERROR  
Package 43/222HostnameOS / ArchINSTALLBUILDCHECKBUILD BIN
CSAR 1.63.0  (landing page)
Jose M Muino
git_last_commit: 3494fdf
git_last_commit_date: 2025-10-29 10:04:05 -0500
nebbiolo1Linux (Ubuntu 24.04.3 LTS) / x86_64  OK    OK    OK  UNNEEDED, same version is already published
Package 44/222HostnameOS / ArchINSTALLBUILDCHECKBUILD BIN
csaw 1.45.0  (landing page)
Aaron Lun
git_last_commit: 39b0f81
git_last_commit_date: 2025-10-29 10:22:22 -0500
nebbiolo1Linux (Ubuntu 24.04.3 LTS) / x86_64  OK    OK    OK  UNNEEDED, same version is already published
Package 45/222HostnameOS / ArchINSTALLBUILDCHECKBUILD BIN
DAMEfinder 1.23.0  (landing page)
Stephany Orjuela
git_last_commit: cb8c833
git_last_commit_date: 2025-10-29 10:56:31 -0500
nebbiolo1Linux (Ubuntu 24.04.3 LTS) / x86_64  OK    OK    OK  UNNEEDED, same version is already published
Package 46/222HostnameOS / ArchINSTALLBUILDCHECKBUILD BIN
decompTumor2Sig 2.27.0  (landing page)
Rosario M. Piro
git_last_commit: d30b743
git_last_commit_date: 2025-10-29 10:49:06 -0500
nebbiolo1Linux (Ubuntu 24.04.3 LTS) / x86_64  OK    OK    OK  UNNEEDED, same version is already published
Package 47/222HostnameOS / ArchINSTALLBUILDCHECKBUILD BIN
DegCre 1.7.0  (landing page)
Brian S. Roberts
git_last_commit: 97a3d4d
git_last_commit_date: 2025-10-29 11:28:34 -0500
nebbiolo1Linux (Ubuntu 24.04.3 LTS) / x86_64  OK    OK    OK  UNNEEDED, same version is already published
Package 48/222HostnameOS / ArchINSTALLBUILDCHECKBUILD BIN
demuxSNP 1.9.0  (landing page)
Michael Lynch
git_last_commit: e594034
git_last_commit_date: 2025-10-29 11:23:27 -0500
nebbiolo1Linux (Ubuntu 24.04.3 LTS) / x86_64  OK    OK    OK  UNNEEDED, same version is already published
Package 49/222HostnameOS / ArchINSTALLBUILDCHECKBUILD BIN
derfinder 1.45.0  (landing page)
Leonardo Collado-Torres
git_last_commit: 946e0b8
git_last_commit_date: 2025-10-29 10:21:48 -0500
nebbiolo1Linux (Ubuntu 24.04.3 LTS) / x86_64  OK    OK    OK  UNNEEDED, same version is already published
Package 50/222HostnameOS / ArchINSTALLBUILDCHECKBUILD BIN
derfinderPlot 1.45.0  (landing page)
Leonardo Collado-Torres
git_last_commit: a29c4b1
git_last_commit_date: 2025-10-29 10:21:51 -0500
nebbiolo1Linux (Ubuntu 24.04.3 LTS) / x86_64  OK    OK    OK  UNNEEDED, same version is already published
Package 51/222HostnameOS / ArchINSTALLBUILDCHECKBUILD BIN
DEScan2 1.31.0  (landing page)
Dario Righelli
git_last_commit: 788dce2
git_last_commit_date: 2025-10-29 10:43:48 -0500
nebbiolo1Linux (Ubuntu 24.04.3 LTS) / x86_64  ERROR    ERROR  skipped
Package 52/222HostnameOS / ArchINSTALLBUILDCHECKBUILD BIN
DEWSeq 1.25.0  (landing page)
bioinformatics team Hentze
git_last_commit: 065d2b7
git_last_commit_date: 2025-10-29 10:55:18 -0500
nebbiolo1Linux (Ubuntu 24.04.3 LTS) / x86_64  OK    OK    OK  UNNEEDED, same version is already published
Package 53/222HostnameOS / ArchINSTALLBUILDCHECKBUILD BIN
dmGsea 1.1.1  (landing page)
Zongli Xu
git_last_commit: 248aa7c
git_last_commit_date: 2025-10-31 09:40:12 -0500
nebbiolo1Linux (Ubuntu 24.04.3 LTS) / x86_64  OK    OK    ERROR  
Package 54/222HostnameOS / ArchINSTALLBUILDCHECKBUILD BIN
DMRcaller 1.43.1  (landing page)
Nicolae Radu Zabet
git_last_commit: 5ec5d13
git_last_commit_date: 2025-11-04 13:15:34 -0500
nebbiolo1Linux (Ubuntu 24.04.3 LTS) / x86_64  OK    OK    OK  UNNEEDED, same version is already published
Package 55/222HostnameOS / ArchINSTALLBUILDCHECKBUILD BIN
DMRcate 3.7.0  (landing page)
Tim Peters
git_last_commit: c4e3304
git_last_commit_date: 2025-10-29 10:18:14 -0500
nebbiolo1Linux (Ubuntu 24.04.3 LTS) / x86_64  OK    OK    OK  UNNEEDED, same version is already published
Package 56/222HostnameOS / ArchINSTALLBUILDCHECKBUILD BIN
DMRScan 1.33.0  (landing page)
Christian M Page
git_last_commit: 66ea55e
git_last_commit_date: 2025-10-29 10:36:23 -0500
nebbiolo1Linux (Ubuntu 24.04.3 LTS) / x86_64  OK    OK    OK  UNNEEDED, same version is already published
Package 57/222HostnameOS / ArchINSTALLBUILDCHECKBUILD BIN
dmrseq 1.31.0  (landing page)
Keegan Korthauer
git_last_commit: 4df1200
git_last_commit_date: 2025-10-29 10:43:32 -0500
nebbiolo1Linux (Ubuntu 24.04.3 LTS) / x86_64  OK    OK    OK  YES
Package 58/222HostnameOS / ArchINSTALLBUILDCHECKBUILD BIN
DominoEffect 1.31.0  (landing page)
Marija Buljan , Peter Blattmann
git_last_commit: 2cae082
git_last_commit_date: 2025-10-29 10:43:24 -0500
nebbiolo1Linux (Ubuntu 24.04.3 LTS) / x86_64  OK    OK    OK  UNNEEDED, same version is already published
Package 59/222HostnameOS / ArchINSTALLBUILDCHECKBUILD BIN
easyRNASeq 2.47.0  (landing page)
Nicolas Delhomme
git_last_commit: 1cb9a73
git_last_commit_date: 2025-10-29 10:10:00 -0500
nebbiolo1Linux (Ubuntu 24.04.3 LTS) / x86_64  OK    OK    WARNINGS  UNNEEDED, same version is already published
Package 60/222HostnameOS / ArchINSTALLBUILDCHECKBUILD BIN
ELMER 2.35.0  (landing page)
Tiago Chedraoui Silva
git_last_commit: 642227c
git_last_commit_date: 2025-10-29 10:26:17 -0500
nebbiolo1Linux (Ubuntu 24.04.3 LTS) / x86_64  OK    ERROR  skipped
Package 61/222HostnameOS / ArchINSTALLBUILDCHECKBUILD BIN
enhancerHomologSearch 1.17.0  (landing page)
Jianhong Ou
git_last_commit: aec9810
git_last_commit_date: 2025-10-29 11:11:19 -0500
nebbiolo1Linux (Ubuntu 24.04.3 LTS) / x86_64  OK    OK    OK  UNNEEDED, same version is already published
Package 62/222HostnameOS / ArchINSTALLBUILDCHECKBUILD BIN
ensembldb 2.35.0  (landing page)
Johannes Rainer
git_last_commit: a74ca18
git_last_commit_date: 2025-10-29 10:24:50 -0500
nebbiolo1Linux (Ubuntu 24.04.3 LTS) / x86_64  OK    OK    OK  UNNEEDED, same version is already published
Package 63/222HostnameOS / ArchINSTALLBUILDCHECKBUILD BIN
EpiCompare 1.15.0  (landing page)
Hiranyamaya Dash
git_last_commit: 0531069
git_last_commit_date: 2025-10-29 11:16:54 -0500
nebbiolo1Linux (Ubuntu 24.04.3 LTS) / x86_64  OK    OK    OK  UNNEEDED, same version is already published
Package 64/222HostnameOS / ArchINSTALLBUILDCHECKBUILD BIN
epigraHMM 1.19.0  (landing page)
Pedro Baldoni
git_last_commit: af5be02
git_last_commit_date: 2025-10-29 11:09:46 -0500
nebbiolo1Linux (Ubuntu 24.04.3 LTS) / x86_64  OK    OK    WARNINGS  UNNEEDED, same version is already published
Package 65/222HostnameOS / ArchINSTALLBUILDCHECKBUILD BIN
EpiMix 1.13.0  (landing page)
Yuanning Zheng
git_last_commit: 5408436
git_last_commit_date: 2025-10-29 11:17:43 -0500
nebbiolo1Linux (Ubuntu 24.04.3 LTS) / x86_64  OK    OK    OK  UNNEEDED, same version is already published
Package 66/222HostnameOS / ArchINSTALLBUILDCHECKBUILD BIN
EpiTxDb 1.23.0  (landing page)
Felix G.M. Ernst
git_last_commit: 23585ca
git_last_commit_date: 2025-10-29 10:57:35 -0500
nebbiolo1Linux (Ubuntu 24.04.3 LTS) / x86_64  OK    ERROR  skipped
Package 67/222HostnameOS / ArchINSTALLBUILDCHECKBUILD BIN
epivizrData 1.39.0  (landing page)
Hector Corrada Bravo
git_last_commit: ec95aa6
git_last_commit_date: 2025-10-29 10:32:07 -0500
nebbiolo1Linux (Ubuntu 24.04.3 LTS) / x86_64  OK    OK    OK  UNNEEDED, same version is already published
Package 68/222HostnameOS / ArchINSTALLBUILDCHECKBUILD BIN
epivizrStandalone 1.39.0  (landing page)
Hector Corrada Bravo
git_last_commit: 8cbf848
git_last_commit_date: 2025-10-29 10:32:19 -0500
nebbiolo1Linux (Ubuntu 24.04.3 LTS) / x86_64  OK    OK    WARNINGS  UNNEEDED, same version is already published
Package 69/222HostnameOS / ArchINSTALLBUILDCHECKBUILD BIN
esATAC 1.33.0  (landing page)
Zheng Wei
git_last_commit: 90d779d
git_last_commit_date: 2025-10-29 10:42:12 -0500
nebbiolo1Linux (Ubuntu 24.04.3 LTS) / x86_64  ERROR    ERROR  skipped
Package 70/222HostnameOS / ArchINSTALLBUILDCHECKBUILD BIN
extraChIPs 1.15.0  (landing page)
Stevie Pederson
git_last_commit: 9ceda11
git_last_commit_date: 2025-10-29 11:16:32 -0500
nebbiolo1Linux (Ubuntu 24.04.3 LTS) / x86_64  OK    OK    OK  UNNEEDED, same version is already published
Package 71/222HostnameOS / ArchINSTALLBUILDCHECKBUILD BIN
FindIT2 1.17.0  (landing page)
Guandong Shang
git_last_commit: 6e3f32a
git_last_commit_date: 2025-10-29 11:10:30 -0500
nebbiolo1Linux (Ubuntu 24.04.3 LTS) / x86_64  OK    OK    OK  UNNEEDED, same version is already published
Package 72/222HostnameOS / ArchINSTALLBUILDCHECKBUILD BIN
FLAMES 2.5.1  (landing page)
Changqing Wang
git_last_commit: 7887658
git_last_commit_date: 2025-10-31 02:11:54 -0500
nebbiolo1Linux (Ubuntu 24.04.3 LTS) / x86_64  OK    OK    OK  UNNEEDED, same version is already published
Package 73/222HostnameOS / ArchINSTALLBUILDCHECKBUILD BIN
G4SNVHunter 1.3.0  (landing page)
Rongxin Zhang
git_last_commit: ec8c408
git_last_commit_date: 2025-10-29 11:33:18 -0500
nebbiolo1Linux (Ubuntu 24.04.3 LTS) / x86_64  OK    OK    WARNINGS  UNNEEDED, same version is already published
Package 74/222HostnameOS / ArchINSTALLBUILDCHECKBUILD BIN
GA4GHclient 1.35.0  (landing page)
Welliton Souza
git_last_commit: 22fbbfa
git_last_commit_date: 2025-10-29 10:37:37 -0500
nebbiolo1Linux (Ubuntu 24.04.3 LTS) / x86_64  OK    OK    OK  UNNEEDED, same version is already published
Package 75/222HostnameOS / ArchINSTALLBUILDCHECKBUILD BIN
GA4GHshiny 1.33.0  (landing page)
Welliton Souza
git_last_commit: ae5f20b
git_last_commit_date: 2025-10-29 10:38:45 -0500
nebbiolo1Linux (Ubuntu 24.04.3 LTS) / x86_64  OK    OK    OK  UNNEEDED, same version is already published
Package 76/222HostnameOS / ArchINSTALLBUILDCHECKBUILD BIN
gcapc 1.35.0  (landing page)
Mingxiang Teng
git_last_commit: ffa3e8b
git_last_commit_date: 2025-10-29 10:35:52 -0500
nebbiolo1Linux (Ubuntu 24.04.3 LTS) / x86_64  OK    OK    OK  UNNEEDED, same version is already published
Package 77/222HostnameOS / ArchINSTALLBUILDCHECKBUILD BIN
gDNAx 1.9.0  (landing page)
Robert Castelo
git_last_commit: 64d243e
git_last_commit_date: 2025-10-29 11:24:57 -0500
nebbiolo1Linux (Ubuntu 24.04.3 LTS) / x86_64  OK    OK    OK  UNNEEDED, same version is already published
Package 78/222HostnameOS / ArchINSTALLBUILDCHECKBUILD BIN
geneAttribution 1.37.0  (landing page)
Arthur Wuster
git_last_commit: 0aa99f2
git_last_commit_date: 2025-10-29 10:34:06 -0500
nebbiolo1Linux (Ubuntu 24.04.3 LTS) / x86_64  OK    OK    OK  UNNEEDED, same version is already published
Package 79/222HostnameOS / ArchINSTALLBUILDCHECKBUILD BIN
genomation 1.43.0  (landing page)
Altuna Akalin , Vedran Franke
git_last_commit: c618839
git_last_commit_date: 2025-10-29 10:23:07 -0500
nebbiolo1Linux (Ubuntu 24.04.3 LTS) / x86_64  OK    OK    OK  UNNEEDED, same version is already published
Package 80/222HostnameOS / ArchINSTALLBUILDCHECKBUILD BIN
GenomAutomorphism 1.13.0  (landing page)
Robersy Sanchez
git_last_commit: 7283b3b
git_last_commit_date: 2025-10-29 11:17:59 -0500
nebbiolo1Linux (Ubuntu 24.04.3 LTS) / x86_64  OK    OK    OK  UNNEEDED, same version is already published
Package 81/222HostnameOS / ArchINSTALLBUILDCHECKBUILD BIN
GenomeInfoDb 1.47.0  (landing page)
Hervé Pagès
git_last_commit: f31cf8b
git_last_commit_date: 2025-10-29 14:52:07 -0500
nebbiolo1Linux (Ubuntu 24.04.3 LTS) / x86_64  OK    OK    OK  UNNEEDED, same version is already published
Package 82/222HostnameOS / ArchINSTALLBUILDCHECKBUILD BIN
genomeIntervals 1.67.0  (landing page)
Julien Gagneur
git_last_commit: 8406dc4
git_last_commit_date: 2025-10-29 10:02:26 -0500
nebbiolo1Linux (Ubuntu 24.04.3 LTS) / x86_64  OK    OK    WARNINGS  UNNEEDED, same version is already published
Package 83/222HostnameOS / ArchINSTALLBUILDCHECKBUILD BIN
GenomicAlignments 1.47.0  (landing page)
Hervé Pagès
git_last_commit: 085e9df
git_last_commit_date: 2025-10-29 14:50:25 -0500
nebbiolo1Linux (Ubuntu 24.04.3 LTS) / x86_64  OK    OK    OK  UNNEEDED, same version is already published
Package 84/222HostnameOS / ArchINSTALLBUILDCHECKBUILD BIN
GenomicFeatures 1.63.1  (landing page)
H. Pagès
git_last_commit: d92f2d0
git_last_commit_date: 2025-10-30 02:00:29 -0500
nebbiolo1Linux (Ubuntu 24.04.3 LTS) / x86_64  OK    OK    OK  UNNEEDED, same version is already published
Package 85/222HostnameOS / ArchINSTALLBUILDCHECKBUILD BIN
GenomicFiles 1.47.0  (landing page)
Bioconductor Package Maintainer
git_last_commit: 76a7462
git_last_commit_date: 2025-10-29 10:19:18 -0500
nebbiolo1Linux (Ubuntu 24.04.3 LTS) / x86_64  OK    OK    OK  UNNEEDED, same version is already published
Package 86/222HostnameOS / ArchINSTALLBUILDCHECKBUILD BIN
GenomicInteractionNodes 1.15.0  (landing page)
Jianhong Ou
git_last_commit: 8ee0b28
git_last_commit_date: 2025-10-29 11:16:22 -0500
nebbiolo1Linux (Ubuntu 24.04.3 LTS) / x86_64  OK    OK    OK  UNNEEDED, same version is already published
Package 87/222HostnameOS / ArchINSTALLBUILDCHECKBUILD BIN
GenomicInteractions 1.45.0  (landing page)
Liz Ing-Simmons
git_last_commit: c3eb720
git_last_commit_date: 2025-10-29 10:21:43 -0500
nebbiolo1Linux (Ubuntu 24.04.3 LTS) / x86_64  OK    OK    OK  UNNEEDED, same version is already published
Package 88/222HostnameOS / ArchINSTALLBUILDCHECKBUILD BIN
GenomicOZone 1.25.0  (landing page)
Hua Zhong, Mingzhou Song
git_last_commit: 6f28f64
git_last_commit_date: 2025-10-29 10:53:39 -0500
nebbiolo1Linux (Ubuntu 24.04.3 LTS) / x86_64  OK    OK    OK  UNNEEDED, same version is already published
Package 89/222HostnameOS / ArchINSTALLBUILDCHECKBUILD BIN
GenomicPlot 1.9.0  (landing page)
Shuye Pu
git_last_commit: 6794637
git_last_commit_date: 2025-10-29 11:24:51 -0500
nebbiolo1Linux (Ubuntu 24.04.3 LTS) / x86_64  ERROR    ERROR  skipped
Package 90/222HostnameOS / ArchINSTALLBUILDCHECKBUILD BIN
GenomicRanges 1.63.0  (landing page)
Hervé Pagès
git_last_commit: 1dfb82d
git_last_commit_date: 2025-10-29 14:50:52 -0500
nebbiolo1Linux (Ubuntu 24.04.3 LTS) / x86_64  OK    OK    OK  UNNEEDED, same version is already published
Package 91/222HostnameOS / ArchINSTALLBUILDCHECKBUILD BIN
GenomicScores 2.23.0  (landing page)
Robert Castelo
git_last_commit: fce182e
git_last_commit_date: 2025-10-29 10:38:07 -0500
nebbiolo1Linux (Ubuntu 24.04.3 LTS) / x86_64  OK    OK    OK  UNNEEDED, same version is already published
Package 92/222HostnameOS / ArchINSTALLBUILDCHECKBUILD BIN
GenomicTuples 1.45.0  (landing page)
Peter Hickey
git_last_commit: 8f1b003
git_last_commit_date: 2025-10-29 10:22:11 -0500
nebbiolo1Linux (Ubuntu 24.04.3 LTS) / x86_64  OK    OK    OK  UNNEEDED, same version is already published
Package 93/222HostnameOS / ArchINSTALLBUILDCHECKBUILD BIN
GenVisR 1.43.0  (landing page)
Zachary Skidmore
git_last_commit: e398c9b
git_last_commit_date: 2025-10-29 10:29:36 -0500
nebbiolo1Linux (Ubuntu 24.04.3 LTS) / x86_64  OK    OK    ERROR  
Package 94/222HostnameOS / ArchINSTALLBUILDCHECKBUILD BIN
geomeTriD 1.5.0  (landing page)
Jianhong Ou
git_last_commit: d93feea
git_last_commit_date: 2025-10-29 11:32:13 -0500
nebbiolo1Linux (Ubuntu 24.04.3 LTS) / x86_64  OK    OK    OK  UNNEEDED, same version is already published
Package 95/222HostnameOS / ArchINSTALLBUILDCHECKBUILD BIN
ggbio 1.59.0  (landing page)
Michael Lawrence
git_last_commit: 6c3efb9
git_last_commit_date: 2025-10-29 10:09:27 -0500
nebbiolo1Linux (Ubuntu 24.04.3 LTS) / x86_64  OK    OK    WARNINGS  UNNEEDED, same version is already published
Package 96/222HostnameOS / ArchINSTALLBUILDCHECKBUILD BIN
gmapR 1.53.0  (landing page)
Michael Lawrence
git_last_commit: f0b8dac
git_last_commit_date: 2025-10-29 10:11:34 -0500
nebbiolo1Linux (Ubuntu 24.04.3 LTS) / x86_64  OK    ERROR  skipped
Package 97/222HostnameOS / ArchINSTALLBUILDCHECKBUILD BIN
gmoviz 1.23.0  (landing page)
Kathleen Zeglinski
git_last_commit: 13acb8f
git_last_commit_date: 2025-10-29 10:57:48 -0500
nebbiolo1Linux (Ubuntu 24.04.3 LTS) / x86_64  OK    OK    OK  UNNEEDED, same version is already published
Package 98/222HostnameOS / ArchINSTALLBUILDCHECKBUILD BIN
goseq 1.63.0  (landing page)
Federico Marini
git_last_commit: 9833b83
git_last_commit_date: 2025-10-29 10:04:46 -0500
nebbiolo1Linux (Ubuntu 24.04.3 LTS) / x86_64  OK    OK    OK  UNNEEDED, same version is already published
Package 99/222HostnameOS / ArchINSTALLBUILDCHECKBUILD BIN
GOTHiC 1.47.0  (landing page)
Borbala Mifsud
git_last_commit: 7af2557
git_last_commit_date: 2025-10-29 10:52:56 -0500
nebbiolo1Linux (Ubuntu 24.04.3 LTS) / x86_64  OK    OK    OK  UNNEEDED, same version is already published
Package 100/222HostnameOS / ArchINSTALLBUILDCHECKBUILD BIN
GreyListChIP 1.43.0  (landing page)
Matt Eldridge
git_last_commit: 8633e38
git_last_commit_date: 2025-10-29 10:23:48 -0500
nebbiolo1Linux (Ubuntu 24.04.3 LTS) / x86_64  OK    OK    OK  UNNEEDED, same version is already published
Package 101/222HostnameOS / ArchINSTALLBUILDCHECKBUILD BIN
groHMM 1.45.0  (landing page)
Tulip Nandu
git_last_commit: a2e7235
git_last_commit_date: 2025-10-29 10:22:30 -0500
nebbiolo1Linux (Ubuntu 24.04.3 LTS) / x86_64  OK    OK    WARNINGS  UNNEEDED, same version is already published
Package 102/222HostnameOS / ArchINSTALLBUILDCHECKBUILD BIN
Gviz 1.55.0  (landing page)
Robert Ivanek
git_last_commit: 6339846
git_last_commit_date: 2025-10-29 10:10:17 -0500
nebbiolo1Linux (Ubuntu 24.04.3 LTS) / x86_64  OK    OK    OK  UNNEEDED, same version is already published
Package 103/222HostnameOS / ArchINSTALLBUILDCHECKBUILD BIN
gwascat 2.43.0  (landing page)
VJ Carey
git_last_commit: ec24f27
git_last_commit_date: 2025-10-29 10:10:23 -0500
nebbiolo1Linux (Ubuntu 24.04.3 LTS) / x86_64  OK    OK    OK  UNNEEDED, same version is already published
Package 104/222HostnameOS / ArchINSTALLBUILDCHECKBUILD BIN
heatmaps 1.35.0  (landing page)
Malcolm Perry
git_last_commit: dd77fbc
git_last_commit_date: 2025-10-29 10:38:31 -0500
nebbiolo1Linux (Ubuntu 24.04.3 LTS) / x86_64  OK    OK    OK  UNNEEDED, same version is already published
Package 105/222HostnameOS / ArchINSTALLBUILDCHECKBUILD BIN
HelloRanges 1.37.0  (landing page)
Michael Lawrence
git_last_commit: 38fc888
git_last_commit_date: 2025-10-29 10:35:10 -0500
nebbiolo1Linux (Ubuntu 24.04.3 LTS) / x86_64  OK    OK    OK  UNNEEDED, same version is already published
Package 106/222HostnameOS / ArchINSTALLBUILDCHECKBUILD BIN
HicAggR 1.7.0  (landing page)
Olivier Cuvier
git_last_commit: 7e29b61
git_last_commit_date: 2025-10-29 11:30:21 -0500
nebbiolo1Linux (Ubuntu 24.04.3 LTS) / x86_64  OK    OK    WARNINGS  UNNEEDED, same version is already published
Package 107/222HostnameOS / ArchINSTALLBUILDCHECKBUILD BIN
HiCBricks 1.29.0  (landing page)
Koustav Pal
git_last_commit: cac0a08
git_last_commit_date: 2025-10-29 10:48:17 -0500
nebbiolo1Linux (Ubuntu 24.04.3 LTS) / x86_64  OK    OK    OK  UNNEEDED, same version is already published
Package 108/222HostnameOS / ArchINSTALLBUILDCHECKBUILD BIN
HiCDOC 1.13.0  (landing page)
Maigné Élise
git_last_commit: 6ee95b8
git_last_commit_date: 2025-10-29 11:17:41 -0500
nebbiolo1Linux (Ubuntu 24.04.3 LTS) / x86_64  OK    OK    OK  UNNEEDED, same version is already published
Package 109/222HostnameOS / ArchINSTALLBUILDCHECKBUILD BIN
HiCExperiment 1.11.0  (landing page)
Jacques Serizay
git_last_commit: ba6af4b
git_last_commit_date: 2025-10-29 11:21:02 -0500
nebbiolo1Linux (Ubuntu 24.04.3 LTS) / x86_64  OK    OK    OK  UNNEEDED, same version is already published
Package 110/222HostnameOS / ArchINSTALLBUILDCHECKBUILD BIN
HiCParser 1.3.0  (landing page)
Maigné Élise
git_last_commit: a19d833
git_last_commit_date: 2025-10-29 11:34:38 -0500
nebbiolo1Linux (Ubuntu 24.04.3 LTS) / x86_64  OK    OK    OK  UNNEEDED, same version is already published
Package 111/222HostnameOS / ArchINSTALLBUILDCHECKBUILD BIN
hicVennDiagram 1.9.0  (landing page)
Jianhong Ou
git_last_commit: 09d3176
git_last_commit_date: 2025-10-29 11:24:22 -0500
nebbiolo1Linux (Ubuntu 24.04.3 LTS) / x86_64  OK    ERROR  skipped
Package 112/222HostnameOS / ArchINSTALLBUILDCHECKBUILD BIN
HiTC 1.55.0  (landing page)
Nicolas Servant
git_last_commit: c174dd2
git_last_commit_date: 2025-10-29 10:10:49 -0500
nebbiolo1Linux (Ubuntu 24.04.3 LTS) / x86_64  OK    OK    WARNINGS  UNNEEDED, same version is already published
Package 113/222HostnameOS / ArchINSTALLBUILDCHECKBUILD BIN
IMAS 1.35.0  (landing page)
Seonggyun Han
git_last_commit: 8fb5523
git_last_commit_date: 2025-10-29 10:38:10 -0500
nebbiolo1Linux (Ubuntu 24.04.3 LTS) / x86_64  OK    ERROR  skipped
Package 114/222HostnameOS / ArchINSTALLBUILDCHECKBUILD BIN
InPAS 2.19.0  (landing page)
Jianhong Ou
git_last_commit: 5b899e7
git_last_commit_date: 2025-10-29 10:24:45 -0500
nebbiolo1Linux (Ubuntu 24.04.3 LTS) / x86_64  ERROR    ERROR  skipped
Package 115/222HostnameOS / ArchINSTALLBUILDCHECKBUILD BIN
INSPEcT 1.41.0  (landing page)
Stefano de Pretis
git_last_commit: 54a4fbd
git_last_commit_date: 2025-10-29 10:26:37 -0500
nebbiolo1Linux (Ubuntu 24.04.3 LTS) / x86_64  OK    OK    OK  UNNEEDED, same version is already published
Package 116/222HostnameOS / ArchINSTALLBUILDCHECKBUILD BIN
InteractionSet 1.39.0  (landing page)
Aaron Lun
git_last_commit: 3862179
git_last_commit_date: 2025-10-29 10:31:52 -0500
nebbiolo1Linux (Ubuntu 24.04.3 LTS) / x86_64  OK    OK    OK  UNNEEDED, same version is already published
Package 117/222HostnameOS / ArchINSTALLBUILDCHECKBUILD BIN
IsoformSwitchAnalyzeR 2.11.0  (landing page)
Kristoffer Vitting-Seerup
git_last_commit: dc055b6
git_last_commit_date: 2025-10-29 10:38:58 -0500
nebbiolo1Linux (Ubuntu 24.04.3 LTS) / x86_64  OK    OK    OK  UNNEEDED, same version is already published
Package 118/222HostnameOS / ArchINSTALLBUILDCHECKBUILD BIN
IVAS 2.31.0  (landing page)
Seonggyun Han
git_last_commit: 0b3f358
git_last_commit_date: 2025-10-29 10:23:46 -0500
nebbiolo1Linux (Ubuntu 24.04.3 LTS) / x86_64  OK    OK    WARNINGS  UNNEEDED, same version is already published
Package 119/222HostnameOS / ArchINSTALLBUILDCHECKBUILD BIN
karyoploteR 1.37.0  (landing page)
Bernat Gel
git_last_commit: fd32b1e
git_last_commit_date: 2025-10-29 10:36:38 -0500
nebbiolo1Linux (Ubuntu 24.04.3 LTS) / x86_64  OK    OK    OK  UNNEEDED, same version is already published
Package 120/222HostnameOS / ArchINSTALLBUILDCHECKBUILD BIN
ldblock 1.41.0  (landing page)
VJ Carey
git_last_commit: 4c2fa2e
git_last_commit_date: 2025-10-29 10:27:30 -0500
nebbiolo1Linux (Ubuntu 24.04.3 LTS) / x86_64  OK    OK    OK  UNNEEDED, same version is already published
Package 121/222HostnameOS / ArchINSTALLBUILDCHECKBUILD BIN
maser 1.29.0  (landing page)
Diogo F.T. Veiga
git_last_commit: a5a5f37
git_last_commit_date: 2025-10-29 10:45:34 -0500
nebbiolo1Linux (Ubuntu 24.04.3 LTS) / x86_64  OK    OK    OK  UNNEEDED, same version is already published
Package 122/222HostnameOS / ArchINSTALLBUILDCHECKBUILD BIN
metaseqR2 1.23.0  (landing page)
Panagiotis Moulos
git_last_commit: 25b9df1
git_last_commit_date: 2025-10-29 10:59:18 -0500
nebbiolo1Linux (Ubuntu 24.04.3 LTS) / x86_64  OK    OK    OK  UNNEEDED, same version is already published
Package 123/222HostnameOS / ArchINSTALLBUILDCHECKBUILD BIN
methInheritSim 1.33.0  (landing page)
Pascal Belleau
git_last_commit: 6ebe1c9
git_last_commit_date: 2025-10-29 10:38:50 -0500
nebbiolo1Linux (Ubuntu 24.04.3 LTS) / x86_64  OK    OK    OK  UNNEEDED, same version is already published
Package 124/222HostnameOS / ArchINSTALLBUILDCHECKBUILD BIN
methylKit 1.37.0  (landing page)
Altuna Akalin , Alexander Blume
git_last_commit: 1192e2b
git_last_commit_date: 2025-10-29 10:33:14 -0500
nebbiolo1Linux (Ubuntu 24.04.3 LTS) / x86_64  OK    OK    OK  UNNEEDED, same version is already published
Package 125/222HostnameOS / ArchINSTALLBUILDCHECKBUILD BIN
methylPipe 1.45.0  (landing page)
Mattia Furlan
git_last_commit: 1246c88
git_last_commit_date: 2025-10-29 10:21:09 -0500
nebbiolo1Linux (Ubuntu 24.04.3 LTS) / x86_64  OK    OK    WARNINGS  UNNEEDED, same version is already published
Package 126/222HostnameOS / ArchINSTALLBUILDCHECKBUILD BIN
methylSig 1.23.0  (landing page)
Raymond G. Cavalcante
git_last_commit: cb92f7f
git_last_commit_date: 2025-10-29 10:58:51 -0500
nebbiolo1Linux (Ubuntu 24.04.3 LTS) / x86_64  OK    OK    OK  UNNEEDED, same version is already published
Package 127/222HostnameOS / ArchINSTALLBUILDCHECKBUILD BIN
minfi 1.57.0  (landing page)
Kasper Daniel Hansen
git_last_commit: 36249fb
git_last_commit_date: 2025-10-29 10:09:18 -0500
nebbiolo1Linux (Ubuntu 24.04.3 LTS) / x86_64  OK    OK    OK  UNNEEDED, same version is already published
Package 128/222HostnameOS / ArchINSTALLBUILDCHECKBUILD BIN
MinimumDistance 1.55.0  (landing page)
Robert Scharpf
git_last_commit: 3e07ba2
git_last_commit_date: 2025-10-29 10:10:57 -0500
nebbiolo1Linux (Ubuntu 24.04.3 LTS) / x86_64  OK    OK    WARNINGS  UNNEEDED, same version is already published
Package 129/222HostnameOS / ArchINSTALLBUILDCHECKBUILD BIN
monaLisa 1.17.0  (landing page)
Michael Stadler
git_last_commit: abfee88
git_last_commit_date: 2025-10-29 11:12:31 -0500
nebbiolo1Linux (Ubuntu 24.04.3 LTS) / x86_64  OK    OK    OK  UNNEEDED, same version is already published
Package 130/222HostnameOS / ArchINSTALLBUILDCHECKBUILD BIN
mosaics 2.49.0  (landing page)
Dongjun Chung
git_last_commit: f190ca7
git_last_commit_date: 2025-10-29 10:06:36 -0500
nebbiolo1Linux (Ubuntu 24.04.3 LTS) / x86_64  OK    OK    OK  UNNEEDED, same version is already published
Package 131/222HostnameOS / ArchINSTALLBUILDCHECKBUILD BIN
motifmatchr 1.33.0  (landing page)
Alicia Schep
git_last_commit: c2e55a2
git_last_commit_date: 2025-10-29 10:38:55 -0500
nebbiolo1Linux (Ubuntu 24.04.3 LTS) / x86_64  OK    OK    OK  UNNEEDED, same version is already published
Package 132/222HostnameOS / ArchINSTALLBUILDCHECKBUILD BIN
MotifPeeker 1.3.0  (landing page)
Hiranyamaya Dash
git_last_commit: fc93dac
git_last_commit_date: 2025-10-29 11:33:15 -0500
nebbiolo1Linux (Ubuntu 24.04.3 LTS) / x86_64  OK    OK    OK  UNNEEDED, same version is already published
Package 133/222HostnameOS / ArchINSTALLBUILDCHECKBUILD BIN
motifTestR 1.7.0  (landing page)
Stevie Pederson
git_last_commit: 26a47a7
git_last_commit_date: 2025-10-29 11:28:54 -0500
nebbiolo1Linux (Ubuntu 24.04.3 LTS) / x86_64  OK    OK    OK  UNNEEDED, same version is already published
Package 134/222HostnameOS / ArchINSTALLBUILDCHECKBUILD BIN
MouseFM 1.21.0  (landing page)
Matthias Munz
git_last_commit: 8f52b6a
git_last_commit_date: 2025-10-29 11:13:56 -0500
nebbiolo1Linux (Ubuntu 24.04.3 LTS) / x86_64  OK    OK    OK  UNNEEDED, same version is already published
Package 135/222HostnameOS / ArchINSTALLBUILDCHECKBUILD BIN
msgbsR 1.35.0  (landing page)
Benjamin Mayne
git_last_commit: 77cc103
git_last_commit_date: 2025-10-29 10:38:42 -0500
nebbiolo1Linux (Ubuntu 24.04.3 LTS) / x86_64  OK    OK    OK  UNNEEDED, same version is already published
Package 136/222HostnameOS / ArchINSTALLBUILDCHECKBUILD BIN
multicrispr 1.21.0  (landing page)
Aditya Bhagwat
git_last_commit: 67e223f
git_last_commit_date: 2025-10-29 10:59:55 -0500
nebbiolo1Linux (Ubuntu 24.04.3 LTS) / x86_64  OK    OK    OK  UNNEEDED, same version is already published
Package 137/222HostnameOS / ArchINSTALLBUILDCHECKBUILD BIN
MutationalPatterns 3.21.0  (landing page)
Mark van Roosmalen
git_last_commit: b3f3115
git_last_commit_date: 2025-10-29 10:35:07 -0500
nebbiolo1Linux (Ubuntu 24.04.3 LTS) / x86_64  OK    OK    ERROR  
Package 138/222HostnameOS / ArchINSTALLBUILDCHECKBUILD BIN
myvariant 1.41.0  (landing page)
Adam Mark, Chunlei Wu
git_last_commit: a081fd4
git_last_commit_date: 2025-10-29 10:27:24 -0500
nebbiolo1Linux (Ubuntu 24.04.3 LTS) / x86_64  OK    OK    OK  UNNEEDED, same version is already published
Package 139/222HostnameOS / ArchINSTALLBUILDCHECKBUILD BIN
nearBynding 1.21.0  (landing page)
Veronica Busa
git_last_commit: b814dff
git_last_commit_date: 2025-10-29 11:02:17 -0500
nebbiolo1Linux (Ubuntu 24.04.3 LTS) / x86_64  ERROR    ERROR  skipped
Package 140/222HostnameOS / ArchINSTALLBUILDCHECKBUILD BIN
NoRCE 1.23.0  (landing page)
Gulden Olgun
git_last_commit: 1e7412c
git_last_commit_date: 2025-10-29 10:57:38 -0500
nebbiolo1Linux (Ubuntu 24.04.3 LTS) / x86_64  OK    OK    OK  UNNEEDED, same version is already published
Package 141/222HostnameOS / ArchINSTALLBUILDCHECKBUILD BIN
nucleR 2.43.0  (landing page)
Alba Sala
git_last_commit: 3db28f8
git_last_commit_date: 2025-10-29 10:08:16 -0500
nebbiolo1Linux (Ubuntu 24.04.3 LTS) / x86_64  OK    OK    WARNINGS  UNNEEDED, same version is already published
Package 142/222HostnameOS / ArchINSTALLBUILDCHECKBUILD BIN
nullranges 1.17.0  (landing page)
Michael Love
git_last_commit: f28268b
git_last_commit_date: 2025-10-29 11:12:51 -0500
nebbiolo1Linux (Ubuntu 24.04.3 LTS) / x86_64  ERROR    ERROR  skipped
Package 143/222HostnameOS / ArchINSTALLBUILDCHECKBUILD BIN
OGRE 1.15.0  (landing page)
Sven Berres
git_last_commit: eb5e234
git_last_commit_date: 2025-10-29 11:14:29 -0500
nebbiolo1Linux (Ubuntu 24.04.3 LTS) / x86_64  OK    OK    OK  UNNEEDED, same version is already published
Package 144/222HostnameOS / ArchINSTALLBUILDCHECKBUILD BIN
OMICsPCA 1.29.0  (landing page)
Subhadeep Das
git_last_commit: 3ed273e
git_last_commit_date: 2025-10-29 10:47:49 -0500
nebbiolo1Linux (Ubuntu 24.04.3 LTS) / x86_64  OK    OK    OK  UNNEEDED, same version is already published
Package 145/222HostnameOS / ArchINSTALLBUILDCHECKBUILD BIN
Organism.dplyr 1.39.0  (landing page)
Martin Morgan
git_last_commit: 538153f
git_last_commit_date: 2025-10-29 10:37:10 -0500
nebbiolo1Linux (Ubuntu 24.04.3 LTS) / x86_64  OK    OK    ERROR  
Package 146/222HostnameOS / ArchINSTALLBUILDCHECKBUILD BIN
OrganismDbi 1.53.2  (landing page)
Bioconductor Package Maintainer
git_last_commit: a63751b
git_last_commit_date: 2025-10-31 18:33:12 -0500
nebbiolo1Linux (Ubuntu 24.04.3 LTS) / x86_64  OK    OK    OK  UNNEEDED, same version is already published
Package 147/222HostnameOS / ArchINSTALLBUILDCHECKBUILD BIN
panelcn.mops 1.33.0  (landing page)
Gundula Povysil
git_last_commit: 5e38d91
git_last_commit_date: 2025-10-29 10:40:57 -0500
nebbiolo1Linux (Ubuntu 24.04.3 LTS) / x86_64  OK    OK    OK  UNNEEDED, same version is already published
Package 148/222HostnameOS / ArchINSTALLBUILDCHECKBUILD BIN
peakCombiner 1.1.0  (landing page)
Markus Muckenhuber
git_last_commit: 266aae6
git_last_commit_date: 2025-10-29 11:38:29 -0500
nebbiolo1Linux (Ubuntu 24.04.3 LTS) / x86_64  OK    OK    OK  UNNEEDED, same version is already published
Package 149/222HostnameOS / ArchINSTALLBUILDCHECKBUILD BIN
periodicDNA 1.21.0  (landing page)
Jacques Serizay
git_last_commit: 5bd1078
git_last_commit_date: 2025-10-29 11:01:58 -0500
nebbiolo1Linux (Ubuntu 24.04.3 LTS) / x86_64  OK    OK    WARNINGS  UNNEEDED, same version is already published
Package 150/222HostnameOS / ArchINSTALLBUILDCHECKBUILD BIN
PICB 1.3.0  (landing page)
Franziska Ahrend
git_last_commit: d455820
git_last_commit_date: 2025-10-29 11:34:05 -0500
nebbiolo1Linux (Ubuntu 24.04.3 LTS) / x86_64  OK    OK    OK  UNNEEDED, same version is already published
Package 151/222HostnameOS / ArchINSTALLBUILDCHECKBUILD BIN
pipeFrame 1.27.0  (landing page)
Zheng Wei
git_last_commit: b7c4419
git_last_commit_date: 2025-10-29 10:51:51 -0500
nebbiolo1Linux (Ubuntu 24.04.3 LTS) / x86_64  OK    OK    OK  UNNEEDED, same version is already published
Package 152/222HostnameOS / ArchINSTALLBUILDCHECKBUILD BIN
plyinteractions 1.9.0  (landing page)
Jacques Serizay
git_last_commit: 172a96a
git_last_commit_date: 2025-10-29 11:25:39 -0500
nebbiolo1Linux (Ubuntu 24.04.3 LTS) / x86_64  OK    OK    ERROR  
Package 153/222HostnameOS / ArchINSTALLBUILDCHECKBUILD BIN
plyranges 1.31.1  (landing page)
Michael Love
git_last_commit: 40182e8
git_last_commit_date: 2025-11-07 08:54:55 -0500
nebbiolo1Linux (Ubuntu 24.04.3 LTS) / x86_64  OK    OK    OK  YES
Package 154/222HostnameOS / ArchINSTALLBUILDCHECKBUILD BIN
podkat 1.43.0  (landing page)
Ulrich Bodenhofer
git_last_commit: d216a17
git_last_commit_date: 2025-10-29 10:24:59 -0500
nebbiolo1Linux (Ubuntu 24.04.3 LTS) / x86_64  OK    OK    OK  UNNEEDED, same version is already published
Package 155/222HostnameOS / ArchINSTALLBUILDCHECKBUILD BIN
pram 1.27.0  (landing page)
Peng Liu
git_last_commit: e034cdc
git_last_commit_date: 2025-10-29 10:50:34 -0500
nebbiolo1Linux (Ubuntu 24.04.3 LTS) / x86_64  OK    OK    OK  UNNEEDED, same version is already published
Package 156/222HostnameOS / ArchINSTALLBUILDCHECKBUILD BIN
prebs 1.51.0  (landing page)
Karolis Uziela
git_last_commit: e4fa52e
git_last_commit_date: 2025-10-29 10:14:39 -0500
nebbiolo1Linux (Ubuntu 24.04.3 LTS) / x86_64  OK    OK    OK  UNNEEDED, same version is already published
Package 157/222HostnameOS / ArchINSTALLBUILDCHECKBUILD BIN
profileplyr 1.27.0  (landing page)
Tom Carroll , Doug Barrows
git_last_commit: c441d3c
git_last_commit_date: 2025-10-29 10:51:25 -0500
nebbiolo1Linux (Ubuntu 24.04.3 LTS) / x86_64  ERROR    ERROR  skipped
Package 158/222HostnameOS / ArchINSTALLBUILDCHECKBUILD BIN
ProteoDisco 1.17.0  (landing page)
Job van Riet
git_last_commit: 583baa5
git_last_commit_date: 2025-10-29 11:11:51 -0500
nebbiolo1Linux (Ubuntu 24.04.3 LTS) / x86_64  OK    OK    WARNINGS  UNNEEDED, same version is already published
Package 159/222HostnameOS / ArchINSTALLBUILDCHECKBUILD BIN
PureCN 2.17.0  (landing page)
Markus Riester
git_last_commit: 3330cff
git_last_commit_date: 2025-10-29 10:31:57 -0500
nebbiolo1Linux (Ubuntu 24.04.3 LTS) / x86_64  OK    OK    OK  UNNEEDED, same version is already published
Package 160/222HostnameOS / ArchINSTALLBUILDCHECKBUILD BIN
QDNAseq 1.47.0  (landing page)
Daoud Sie
git_last_commit: 2bb3c9e
git_last_commit_date: 2025-10-29 10:18:34 -0500
nebbiolo1Linux (Ubuntu 24.04.3 LTS) / x86_64  OK    OK    OK  UNNEEDED, same version is already published
Package 161/222HostnameOS / ArchINSTALLBUILDCHECKBUILD BIN
qpgraph 2.45.0  (landing page)
Robert Castelo
git_last_commit: eff82ca
git_last_commit_date: 2025-10-29 10:02:10 -0500
nebbiolo1Linux (Ubuntu 24.04.3 LTS) / x86_64  OK    OK    OK  UNNEEDED, same version is already published
Package 162/222HostnameOS / ArchINSTALLBUILDCHECKBUILD BIN
qsea 1.37.0  (landing page)
Matthias Lienhard
git_last_commit: ef750af
git_last_commit_date: 2025-10-29 10:32:56 -0500
nebbiolo1Linux (Ubuntu 24.04.3 LTS) / x86_64  OK    OK    WARNINGS  UNNEEDED, same version is already published
Package 163/222HostnameOS / ArchINSTALLBUILDCHECKBUILD BIN
QuasR 1.51.0  (landing page)
Michael Stadler
git_last_commit: 331f3b2
git_last_commit_date: 2025-10-29 10:13:16 -0500
nebbiolo1Linux (Ubuntu 24.04.3 LTS) / x86_64  OK    OK    WARNINGS  UNNEEDED, same version is already published
Package 164/222HostnameOS / ArchINSTALLBUILDCHECKBUILD BIN
r3Cseq 1.57.0  (landing page)
Supat Thongjuea or
git_last_commit: b35813f
git_last_commit_date: 2025-10-29 10:09:24 -0500
nebbiolo1Linux (Ubuntu 24.04.3 LTS) / x86_64  OK    OK    OK  UNNEEDED, same version is already published
Package 165/222HostnameOS / ArchINSTALLBUILDCHECKBUILD BIN
raer 1.9.0  (landing page)
Kent Riemondy
git_last_commit: 94ed43d
git_last_commit_date: 2025-10-29 11:26:05 -0500
nebbiolo1Linux (Ubuntu 24.04.3 LTS) / x86_64  OK    OK    OK  UNNEEDED, same version is already published
Package 166/222HostnameOS / ArchINSTALLBUILDCHECKBUILD BIN
RaggedExperiment 1.35.0  (landing page)
Marcel Ramos
git_last_commit: efd60e0
git_last_commit_date: 2025-10-29 10:37:59 -0500
nebbiolo1Linux (Ubuntu 24.04.3 LTS) / x86_64  OK    OK    OK  UNNEEDED, same version is already published
Package 167/222HostnameOS / ArchINSTALLBUILDCHECKBUILD BIN
ramr 1.19.0  (landing page)
Oleksii Nikolaienko
git_last_commit: d6a405c
git_last_commit_date: 2025-10-29 11:05:28 -0500
nebbiolo1Linux (Ubuntu 24.04.3 LTS) / x86_64  OK    OK    OK  UNNEEDED, same version is already published
Package 168/222HostnameOS / ArchINSTALLBUILDCHECKBUILD BIN
rCGH 1.41.0  (landing page)
Frederic Commo
git_last_commit: 1f54d5a
git_last_commit_date: 2025-10-29 10:26:46 -0500
nebbiolo1Linux (Ubuntu 24.04.3 LTS) / x86_64  OK    OK    OK  UNNEEDED, same version is already published
Package 169/222HostnameOS / ArchINSTALLBUILDCHECKBUILD BIN
recoup 1.39.0  (landing page)
Panagiotis Moulos
git_last_commit: 66d3f66
git_last_commit_date: 2025-10-29 10:31:02 -0500
nebbiolo1Linux (Ubuntu 24.04.3 LTS) / x86_64  OK    OK    OK  UNNEEDED, same version is already published
Package 170/222HostnameOS / ArchINSTALLBUILDCHECKBUILD BIN
regioneR 1.43.0  (landing page)
Bernat Gel
git_last_commit: a9f7f21
git_last_commit_date: 2025-10-29 10:25:09 -0500
nebbiolo1Linux (Ubuntu 24.04.3 LTS) / x86_64  OK    OK    OK  UNNEEDED, same version is already published
Package 171/222HostnameOS / ArchINSTALLBUILDCHECKBUILD BIN
regionReport 1.45.0  (landing page)
Leonardo Collado-Torres
git_last_commit: b61d8a3
git_last_commit_date: 2025-10-29 10:21:56 -0500
nebbiolo1Linux (Ubuntu 24.04.3 LTS) / x86_64  OK    OK    OK  UNNEEDED, same version is already published
Package 172/222HostnameOS / ArchINSTALLBUILDCHECKBUILD BIN
REMP 1.35.0  (landing page)
Yinan Zheng
git_last_commit: 6cbaa64
git_last_commit_date: 2025-10-29 10:36:53 -0500
nebbiolo1Linux (Ubuntu 24.04.3 LTS) / x86_64  OK    OK    OK  UNNEEDED, same version is already published
Package 173/222HostnameOS / ArchINSTALLBUILDCHECKBUILD BIN
rfPred 1.49.0  (landing page)
Hugo Varet
git_last_commit: 553494c
git_last_commit_date: 2025-10-29 10:15:50 -0500
nebbiolo1Linux (Ubuntu 24.04.3 LTS) / x86_64  OK    OK    OK  UNNEEDED, same version is already published
Package 174/222HostnameOS / ArchINSTALLBUILDCHECKBUILD BIN
RgnTX 1.13.0  (landing page)
Yue Wang
git_last_commit: 12da9df
git_last_commit_date: 2025-10-29 11:17:15 -0500
nebbiolo1Linux (Ubuntu 24.04.3 LTS) / x86_64  OK    ERROR  skipped
Package 175/222HostnameOS / ArchINSTALLBUILDCHECKBUILD BIN
RiboCrypt 1.17.0  (landing page)
Michal Swirski
git_last_commit: da58451
git_last_commit_date: 2025-10-29 11:13:40 -0500
nebbiolo1Linux (Ubuntu 24.04.3 LTS) / x86_64  OK    OK    OK  UNNEEDED, same version is already published
Package 176/222HostnameOS / ArchINSTALLBUILDCHECKBUILD BIN
RiboProfiling 1.41.0  (landing page)
A. Popa
git_last_commit: db90a52
git_last_commit_date: 2025-10-29 10:28:21 -0500
nebbiolo1Linux (Ubuntu 24.04.3 LTS) / x86_64  OK    ERROR  skipped
Package 177/222HostnameOS / ArchINSTALLBUILDCHECKBUILD BIN
riboSeqR 1.45.0  (landing page)
Samuel Granjeaud
git_last_commit: 77f80b5
git_last_commit_date: 2025-10-29 10:20:05 -0500
nebbiolo1Linux (Ubuntu 24.04.3 LTS) / x86_64  OK    OK    OK  UNNEEDED, same version is already published
Package 178/222HostnameOS / ArchINSTALLBUILDCHECKBUILD BIN
ribosomeProfilingQC 1.23.0  (landing page)
Jianhong Ou
git_last_commit: bad02b9
git_last_commit_date: 2025-10-29 10:57:03 -0500
nebbiolo1Linux (Ubuntu 24.04.3 LTS) / x86_64  OK    OK    OK  UNNEEDED, same version is already published
Package 179/222HostnameOS / ArchINSTALLBUILDCHECKBUILD BIN
rigvf 1.3.0  (landing page)
Michael Love
git_last_commit: 7effe5c
git_last_commit_date: 2025-10-29 11:35:13 -0500
nebbiolo1Linux (Ubuntu 24.04.3 LTS) / x86_64  OK    ERROR  skipped
Package 180/222HostnameOS / ArchINSTALLBUILDCHECKBUILD BIN
RJMCMCNucleosomes 1.35.0  (landing page)
Astrid Deschênes
git_last_commit: e3d8d0f
git_last_commit_date: 2025-10-29 10:36:10 -0500
nebbiolo1Linux (Ubuntu 24.04.3 LTS) / x86_64  OK    OK    OK  UNNEEDED, same version is already published
Package 181/222HostnameOS / ArchINSTALLBUILDCHECKBUILD BIN
rnaEditr 1.21.0  (landing page)
Lanyu Zhang
git_last_commit: 6261cfb
git_last_commit_date: 2025-10-29 11:03:10 -0500
nebbiolo1Linux (Ubuntu 24.04.3 LTS) / x86_64  OK    OK    WARNINGS  UNNEEDED, same version is already published
Package 182/222HostnameOS / ArchINSTALLBUILDCHECKBUILD BIN
RNAmodR 1.25.0  (landing page)
Felix G.M. Ernst
git_last_commit: 7e3ea7f
git_last_commit_date: 2025-10-29 10:52:38 -0500
nebbiolo1Linux (Ubuntu 24.04.3 LTS) / x86_64  ERROR    ERROR  skipped
Package 183/222HostnameOS / ArchINSTALLBUILDCHECKBUILD BIN
Rsamtools 2.27.0  (landing page)
Bioconductor Package Maintainer
git_last_commit: a2c9284
git_last_commit_date: 2025-10-29 10:04:41 -0500
nebbiolo1Linux (Ubuntu 24.04.3 LTS) / x86_64  OK    OK    WARNINGS  UNNEEDED, same version is already published
Package 184/222HostnameOS / ArchINSTALLBUILDCHECKBUILD BIN
RTCGAToolbox 2.41.0  (landing page)
Marcel Ramos
git_last_commit: d55f300
git_last_commit_date: 2025-10-29 10:26:09 -0500
nebbiolo1Linux (Ubuntu 24.04.3 LTS) / x86_64  OK    OK    OK  NO, package depends on 'TCGAutils' which is not available
Package 185/222HostnameOS / ArchINSTALLBUILDCHECKBUILD BIN
rtracklayer 1.71.0  (landing page)
Michael Lawrence
git_last_commit: 65cde22
git_last_commit_date: 2025-10-29 10:00:29 -0500
nebbiolo1Linux (Ubuntu 24.04.3 LTS) / x86_64  OK    OK    WARNINGS  UNNEEDED, same version is already published
Package 186/222HostnameOS / ArchINSTALLBUILDCHECKBUILD BIN
scanMiR 1.17.0  (landing page)
Pierre-Luc Germain
git_last_commit: 6328f02
git_last_commit_date: 2025-10-29 11:10:43 -0500
nebbiolo1Linux (Ubuntu 24.04.3 LTS) / x86_64  OK    OK    OK  UNNEEDED, same version is already published
Package 187/222HostnameOS / ArchINSTALLBUILDCHECKBUILD BIN
scmeth 1.31.0  (landing page)
Divy Kangeyan
git_last_commit: 96dcd92
git_last_commit_date: 2025-10-29 10:43:21 -0500
nebbiolo1Linux (Ubuntu 24.04.3 LTS) / x86_64  OK    OK    OK  YES
Package 188/222HostnameOS / ArchINSTALLBUILDCHECKBUILD BIN
segmentSeq 2.45.0  (landing page)
Samuel Granjeaud
git_last_commit: a33a34a
git_last_commit_date: 2025-10-29 10:04:32 -0500
nebbiolo1Linux (Ubuntu 24.04.3 LTS) / x86_64  OK    OK    OK  UNNEEDED, same version is already published
Package 189/222HostnameOS / ArchINSTALLBUILDCHECKBUILD BIN
SeqArray 1.51.0  (landing page)
Xiuwen Zheng
git_last_commit: bcbe85d
git_last_commit_date: 2025-10-29 10:14:07 -0500
nebbiolo1Linux (Ubuntu 24.04.3 LTS) / x86_64  OK    ERROR  skipped
Package 190/222HostnameOS / ArchINSTALLBUILDCHECKBUILD BIN
seqsetvis 1.31.0  (landing page)
Joseph R Boyd
git_last_commit: 1aad17d
git_last_commit_date: 2025-10-29 10:44:19 -0500
nebbiolo1Linux (Ubuntu 24.04.3 LTS) / x86_64  OK    ERROR  skipped
Package 191/222HostnameOS / ArchINSTALLBUILDCHECKBUILD BIN
sesame 1.29.0  (landing page)
Wanding Zhou
git_last_commit: 92283cb
git_last_commit_date: 2025-10-29 10:46:05 -0500
nebbiolo1Linux (Ubuntu 24.04.3 LTS) / x86_64  OK    ERROR  skipped
Package 192/222HostnameOS / ArchINSTALLBUILDCHECKBUILD BIN
sevenC 1.31.0  (landing page)
Jonas Ibn-Salem
git_last_commit: d1682a2
git_last_commit_date: 2025-10-29 10:45:03 -0500
nebbiolo1Linux (Ubuntu 24.04.3 LTS) / x86_64  OK    OK    OK  UNNEEDED, same version is already published
Package 193/222HostnameOS / ArchINSTALLBUILDCHECKBUILD BIN
SGSeq 1.45.0  (landing page)
Leonard Goldstein
git_last_commit: fef2917
git_last_commit_date: 2025-10-29 10:22:27 -0500
nebbiolo1Linux (Ubuntu 24.04.3 LTS) / x86_64  OK    OK    OK  UNNEEDED, same version is already published
Package 194/222HostnameOS / ArchINSTALLBUILDCHECKBUILD BIN
ShortRead 1.69.2  (landing page)
Bioconductor Package Maintainer
git_last_commit: ab09a1b
git_last_commit_date: 2025-11-05 13:00:35 -0500
nebbiolo1Linux (Ubuntu 24.04.3 LTS) / x86_64  OK    OK    WARNINGS  UNNEEDED, same version is already published
Package 195/222HostnameOS / ArchINSTALLBUILDCHECKBUILD BIN
SingleMoleculeFootprinting 2.5.0  (landing page)
Guido Barzaghi
git_last_commit: 71598e0
git_last_commit_date: 2025-10-29 11:10:00 -0500
nebbiolo1Linux (Ubuntu 24.04.3 LTS) / x86_64  ERROR    ERROR  skipped
Package 196/222HostnameOS / ArchINSTALLBUILDCHECKBUILD BIN
sitadela 1.19.0  (landing page)
Panagiotis Moulos
git_last_commit: 45b2af3
git_last_commit_date: 2025-10-29 11:07:04 -0500
nebbiolo1Linux (Ubuntu 24.04.3 LTS) / x86_64  OK    OK    OK  UNNEEDED, same version is already published
Package 197/222HostnameOS / ArchINSTALLBUILDCHECKBUILD BIN
soGGi 1.43.0  (landing page)
Tom Carroll
git_last_commit: c0596bd
git_last_commit_date: 2025-10-29 10:25:37 -0500
nebbiolo1Linux (Ubuntu 24.04.3 LTS) / x86_64  OK    OK    ERROR  
Package 198/222HostnameOS / ArchINSTALLBUILDCHECKBUILD BIN
SomaticSignatures 2.47.0  (landing page)
Julian Gehring
git_last_commit: 97b6de8
git_last_commit_date: 2025-10-29 10:17:57 -0500
nebbiolo1Linux (Ubuntu 24.04.3 LTS) / x86_64  OK    OK    OK  UNNEEDED, same version is already published
Package 199/222HostnameOS / ArchINSTALLBUILDCHECKBUILD BIN
spatzie 1.17.0  (landing page)
Jennifer Hammelman
git_last_commit: 3303154
git_last_commit_date: 2025-10-29 11:11:08 -0500
nebbiolo1Linux (Ubuntu 24.04.3 LTS) / x86_64  OK    OK    ERROR  
Package 200/222HostnameOS / ArchINSTALLBUILDCHECKBUILD BIN
SplicingGraphs 1.51.1  (landing page)
H. Pagès
git_last_commit: 8abbef9
git_last_commit_date: 2025-11-02 12:50:45 -0500
nebbiolo1Linux (Ubuntu 24.04.3 LTS) / x86_64  OK    OK    WARNINGS  UNNEEDED, same version is already published
Package 201/222HostnameOS / ArchINSTALLBUILDCHECKBUILD BIN
SPLINTER 1.37.0  (landing page)
Diana Low
git_last_commit: 2ff2d3c
git_last_commit_date: 2025-10-29 10:34:37 -0500
nebbiolo1Linux (Ubuntu 24.04.3 LTS) / x86_64  OK    OK    OK  UNNEEDED, same version is already published
Package 202/222HostnameOS / ArchINSTALLBUILDCHECKBUILD BIN
srnadiff 1.31.0  (landing page)
Zytnicki Matthias
git_last_commit: 680956d
git_last_commit_date: 2025-10-29 10:43:01 -0500
nebbiolo1Linux (Ubuntu 24.04.3 LTS) / x86_64  OK    OK    WARNINGS  UNNEEDED, same version is already published
Package 203/222HostnameOS / ArchINSTALLBUILDCHECKBUILD BIN
strandCheckR 1.29.0  (landing page)
Thu-Hien To
git_last_commit: b8130fd
git_last_commit_date: 2025-10-29 10:46:35 -0500
nebbiolo1Linux (Ubuntu 24.04.3 LTS) / x86_64  OK    OK    OK  UNNEEDED, same version is already published
Package 204/222HostnameOS / ArchINSTALLBUILDCHECKBUILD BIN
SummarizedExperiment 1.41.0  (landing page)
Hervé Pagès
git_last_commit: 7a9787c
git_last_commit_date: 2025-10-29 14:49:30 -0500
nebbiolo1Linux (Ubuntu 24.04.3 LTS) / x86_64  OK    OK    OK  UNNEEDED, same version is already published
Package 205/222HostnameOS / ArchINSTALLBUILDCHECKBUILD BIN
svaNUMT 1.17.0  (landing page)
Ruining Dong
git_last_commit: 798135e
git_last_commit_date: 2025-10-29 11:10:38 -0500
nebbiolo1Linux (Ubuntu 24.04.3 LTS) / x86_64  OK    OK    OK  UNNEEDED, same version is already published
Package 206/222HostnameOS / ArchINSTALLBUILDCHECKBUILD BIN
svaRetro 1.17.0  (landing page)
Ruining Dong
git_last_commit: be18f25
git_last_commit_date: 2025-10-29 11:11:45 -0500
nebbiolo1Linux (Ubuntu 24.04.3 LTS) / x86_64  OK    ERROR  skipped
Package 207/222HostnameOS / ArchINSTALLBUILDCHECKBUILD BIN
tadar 1.9.0  (landing page)
Lachlan Baer
git_last_commit: 7b05448
git_last_commit_date: 2025-10-29 11:25:24 -0500
nebbiolo1Linux (Ubuntu 24.04.3 LTS) / x86_64  OK    OK    OK  UNNEEDED, same version is already published
Package 208/222HostnameOS / ArchINSTALLBUILDCHECKBUILD BIN
TCGAutils 1.31.1  (landing page)
Marcel Ramos
git_last_commit: 014a2cf
git_last_commit_date: 2025-11-06 17:11:08 -0500
nebbiolo1Linux (Ubuntu 24.04.3 LTS) / x86_64  OK    OK    ERROR  
Package 209/222HostnameOS / ArchINSTALLBUILDCHECKBUILD BIN
TEKRABber 1.15.0  (landing page)
Yao-Chung Chen
git_last_commit: ffc9f33
git_last_commit_date: 2025-10-29 11:14:57 -0500
nebbiolo1Linux (Ubuntu 24.04.3 LTS) / x86_64  OK    OK    OK  UNNEEDED, same version is already published
Package 210/222HostnameOS / ArchINSTALLBUILDCHECKBUILD BIN
TENxIO 1.13.0  (landing page)
Marcel Ramos
git_last_commit: e1cb3c4
git_last_commit_date: 2025-10-29 11:19:24 -0500
nebbiolo1Linux (Ubuntu 24.04.3 LTS) / x86_64  OK    OK    OK  UNNEEDED, same version is already published
Package 211/222HostnameOS / ArchINSTALLBUILDCHECKBUILD BIN
TEQC 4.33.0  (landing page)
Sarah Bonnin
git_last_commit: bd3d4b2
git_last_commit_date: 2025-10-29 10:06:21 -0500
nebbiolo1Linux (Ubuntu 24.04.3 LTS) / x86_64  OK    OK    WARNINGS  UNNEEDED, same version is already published
Package 212/222HostnameOS / ArchINSTALLBUILDCHECKBUILD BIN
TFBSTools 1.49.0  (landing page)
Ge Tan
git_last_commit: d5d1319
git_last_commit_date: 2025-10-29 10:16:59 -0500
nebbiolo1Linux (Ubuntu 24.04.3 LTS) / x86_64  OK    OK    OK  UNNEEDED, same version is already published
Package 213/222HostnameOS / ArchINSTALLBUILDCHECKBUILD BIN
trackViewer 1.47.0  (landing page)
Jianhong Ou
git_last_commit: c2b7d9b
git_last_commit_date: 2025-10-29 10:17:52 -0500
nebbiolo1Linux (Ubuntu 24.04.3 LTS) / x86_64  OK    OK    OK  UNNEEDED, same version is already published
Package 214/222HostnameOS / ArchINSTALLBUILDCHECKBUILD BIN
transmogR 1.7.0  (landing page)
Stevie Pederson
git_last_commit: ad3458d
git_last_commit_date: 2025-10-29 11:27:49 -0500
nebbiolo1Linux (Ubuntu 24.04.3 LTS) / x86_64  OK    OK    OK  UNNEEDED, same version is already published
Package 215/222HostnameOS / ArchINSTALLBUILDCHECKBUILD BIN
tRNAscanImport 1.31.0  (landing page)
Felix G.M. Ernst
git_last_commit: f9f96ff
git_last_commit_date: 2025-10-29 10:43:40 -0500
nebbiolo1Linux (Ubuntu 24.04.3 LTS) / x86_64  OK    OK    OK  UNNEEDED, same version is already published
Package 216/222HostnameOS / ArchINSTALLBUILDCHECKBUILD BIN
TVTB 1.37.0  (landing page)
Kevin Rue-Albrecht
git_last_commit: 7c8a13b
git_last_commit_date: 2025-10-29 10:35:21 -0500
nebbiolo1Linux (Ubuntu 24.04.3 LTS) / x86_64  OK    OK    OK  UNNEEDED, same version is already published
Package 217/222HostnameOS / ArchINSTALLBUILDCHECKBUILD BIN
txdbmaker 1.7.1  (landing page)
H. Pagès
git_last_commit: 5069001
git_last_commit_date: 2025-10-30 20:12:43 -0500
nebbiolo1Linux (Ubuntu 24.04.3 LTS) / x86_64  OK    OK    OK  UNNEEDED, same version is already published
Package 218/222HostnameOS / ArchINSTALLBUILDCHECKBUILD BIN
tximeta 1.29.0  (landing page)
Michael Love
git_last_commit: 43586e1
git_last_commit_date: 2025-10-29 10:47:17 -0500
nebbiolo1Linux (Ubuntu 24.04.3 LTS) / x86_64  OK    OK    OK  UNNEEDED, same version is already published
Package 219/222HostnameOS / ArchINSTALLBUILDCHECKBUILD BIN
VariantAnnotation 1.57.0  (landing page)
Bioconductor Package Maintainer
git_last_commit: 0da7ddb
git_last_commit_date: 2025-10-29 10:08:24 -0500
nebbiolo1Linux (Ubuntu 24.04.3 LTS) / x86_64  OK    OK    WARNINGS  UNNEEDED, same version is already published
Package 220/222HostnameOS / ArchINSTALLBUILDCHECKBUILD BIN
VariantFiltering 1.47.0  (landing page)
Robert Castelo
git_last_commit: 270d88d
git_last_commit_date: 2025-10-29 10:19:08 -0500
nebbiolo1Linux (Ubuntu 24.04.3 LTS) / x86_64  OK    OK    OK  UNNEEDED, same version is already published
Package 221/222HostnameOS / ArchINSTALLBUILDCHECKBUILD BIN
VplotR 1.21.0  (landing page)
Jacques Serizay
git_last_commit: c54c82d
git_last_commit_date: 2025-10-29 11:01:33 -0500
nebbiolo1Linux (Ubuntu 24.04.3 LTS) / x86_64  OK    ERROR  skipped
Package 222/222HostnameOS / ArchINSTALLBUILDCHECKBUILD BIN
YAPSA 1.37.0  (landing page)
Zuguang Gu
git_last_commit: f37ad09
git_last_commit_date: 2025-10-29 10:34:03 -0500
nebbiolo1Linux (Ubuntu 24.04.3 LTS) / x86_64  OK    OK    OK  UNNEEDED, same version is already published