Back to Build/check report for BioC 3.23:   simplified   long
ABCDEFGH[I]JKLMNOPQRSTUVWXYZ

This page was generated on 2025-11-08 11:32 -0500 (Sat, 08 Nov 2025).

HostnameOSArch (*)R versionInstalled pkgs
nebbiolo1Linux (Ubuntu 24.04.3 LTS)x86_64R Under development (unstable) (2025-10-20 r88955) -- "Unsuffered Consequences" 4821
Click on any hostname to see more info about the system (e.g. compilers)      (*) as reported by 'uname -p', except on Windows and Mac OS X

Package 1049/2323HostnameOS / ArchINSTALLBUILDCHECKBUILD BIN
INSPEcT 1.41.0  (landing page)
Stefano de Pretis
Snapshot Date: 2025-11-07 13:40 -0500 (Fri, 07 Nov 2025)
git_url: https://git.bioconductor.org/packages/INSPEcT
git_branch: devel
git_last_commit: 54a4fbd
git_last_commit_date: 2025-10-29 10:26:37 -0500 (Wed, 29 Oct 2025)
nebbiolo1Linux (Ubuntu 24.04.3 LTS) / x86_64  OK    OK    OK  UNNEEDED, same version is already published


CHECK results for INSPEcT on nebbiolo1

To the developers/maintainers of the INSPEcT package:
- Allow up to 24 hours (and sometimes 48 hours) for your latest push to git@git.bioconductor.org:packages/INSPEcT.git to reflect on this report. See Troubleshooting Build Report for more information.
- Use the following Renviron settings to reproduce errors and warnings.
- If 'R CMD check' started to fail recently on the Linux builder(s) over a missing dependency, add the missing dependency to 'Suggests:' in your DESCRIPTION file. See Renviron.bioc for more information.

raw results


Summary

Package: INSPEcT
Version: 1.41.0
Command: /home/biocbuild/bbs-3.23-bioc/R/bin/R CMD check --install=check:INSPEcT.install-out.txt --library=/home/biocbuild/bbs-3.23-bioc/R/site-library --timings INSPEcT_1.41.0.tar.gz
StartedAt: 2025-11-08 00:36:48 -0500 (Sat, 08 Nov 2025)
EndedAt: 2025-11-08 00:55:43 -0500 (Sat, 08 Nov 2025)
EllapsedTime: 1134.6 seconds
RetCode: 0
Status:   OK  
CheckDir: INSPEcT.Rcheck
Warnings: 0

Command output

##############################################################################
##############################################################################
###
### Running command:
###
###   /home/biocbuild/bbs-3.23-bioc/R/bin/R CMD check --install=check:INSPEcT.install-out.txt --library=/home/biocbuild/bbs-3.23-bioc/R/site-library --timings INSPEcT_1.41.0.tar.gz
###
##############################################################################
##############################################################################


* using log directory ‘/home/biocbuild/bbs-3.23-bioc/meat/INSPEcT.Rcheck’
* using R Under development (unstable) (2025-10-20 r88955)
* using platform: x86_64-pc-linux-gnu
* R was compiled by
    gcc (Ubuntu 13.3.0-6ubuntu2~24.04) 13.3.0
    GNU Fortran (Ubuntu 13.3.0-6ubuntu2~24.04) 13.3.0
* running under: Ubuntu 24.04.3 LTS
* using session charset: UTF-8
* checking for file ‘INSPEcT/DESCRIPTION’ ... OK
* checking extension type ... Package
* this is package ‘INSPEcT’ version ‘1.41.0’
* checking package namespace information ... OK
* checking package dependencies ... OK
* checking if this is a source package ... OK
* checking if there is a namespace ... OK
* checking for hidden files and directories ... OK
* checking for portable file names ... OK
* checking for sufficient/correct file permissions ... OK
* checking whether package ‘INSPEcT’ can be installed ... OK
* checking installed package size ... INFO
  installed size is  6.9Mb
  sub-directories of 1Mb or more:
    R      1.5Mb
    data   2.9Mb
* checking package directory ... OK
* checking ‘build’ directory ... OK
* checking DESCRIPTION meta-information ... OK
* checking top-level files ... OK
* checking for left-over files ... OK
* checking index information ... OK
* checking package subdirectories ... OK
* checking code files for non-ASCII characters ... OK
* checking R files for syntax errors ... OK
* checking whether the package can be loaded ... OK
* checking whether the package can be loaded with stated dependencies ... OK
* checking whether the package can be unloaded cleanly ... OK
* checking whether the namespace can be loaded with stated dependencies ... OK
* checking whether the namespace can be unloaded cleanly ... OK
* checking loading without being on the library search path ... OK
* checking dependencies in R code ... OK
* checking S3 generic/method consistency ... OK
* checking replacement functions ... OK
* checking foreign function calls ... OK
* checking R code for possible problems ... NOTE
output_pars: no visible global function definition for ‘plot.new’
plotSingleRNADynamic: no visible global function definition for ‘lines’
Undefined global functions or variables:
  lines plot.new
Consider adding
  importFrom("graphics", "lines", "plot.new")
to your NAMESPACE file.
* checking Rd files ... OK
* checking Rd metadata ... OK
* checking Rd cross-references ... NOTE
Found the following Rd file(s) with Rd \link{} targets missing package
anchors:
  INSPEcT-class.Rd: featureNames
Please provide package anchors for all Rd \link{} targets not in the
package itself and the base packages.
* checking for missing documentation entries ... OK
* checking for code/documentation mismatches ... OK
* checking Rd \usage sections ... OK
* checking Rd contents ... OK
* checking for unstated dependencies in examples ... OK
* checking contents of ‘data’ directory ... OK
* checking data for non-ASCII characters ... OK
* checking data for ASCII and uncompressed saves ... OK
* checking files in ‘vignettes’ ... OK
* checking examples ... OK
Examples with CPU (user + system) or elapsed time > 5s
                                  user system elapsed
makeSimDataset                  74.498  0.331  74.832
modelRates                      38.114  0.087  38.205
quantifyExpressionsFromBAMs     31.353  0.124  31.569
INSPEcT_diffsteady-class        27.774  0.345  28.122
makeSimModel                    25.540  0.101  25.642
rocThresholds                   25.258  0.101  25.360
rocCurve                        25.251  0.079  25.335
plotMA                          24.490  0.216  24.708
compareSteady                   23.479  0.198  23.680
quantifyExpressionsFromTrCounts 15.793  0.009  15.803
newINSPEcT                      14.115  0.041  14.157
processingDelay                 12.856  0.006  12.862
inspectFromPCR                   6.512  0.035   6.549
makeOscillatorySimModel          5.876  0.041   5.921
compareSteadyNoNascent           5.199  0.004   5.203
* checking for unstated dependencies in vignettes ... OK
* checking package vignettes ... OK
* checking re-building of vignette outputs ... OK
* checking PDF version of manual ... OK
* DONE

Status: 2 NOTEs
See
  ‘/home/biocbuild/bbs-3.23-bioc/meat/INSPEcT.Rcheck/00check.log’
for details.


Installation output

INSPEcT.Rcheck/00install.out

##############################################################################
##############################################################################
###
### Running command:
###
###   /home/biocbuild/bbs-3.23-bioc/R/bin/R CMD INSTALL INSPEcT
###
##############################################################################
##############################################################################


* installing to library ‘/home/biocbuild/bbs-3.23-bioc/R/site-library’
* installing *source* package ‘INSPEcT’ ...
** this is package ‘INSPEcT’ version ‘1.41.0’
** using staged installation
** R
** data
** inst
** byte-compile and prepare package for lazy loading
** help
*** installing help indices
** building package indices
** installing vignettes
** testing if installed package can be loaded from temporary location
** testing if installed package can be loaded from final location
** testing if installed package keeps a record of temporary installation path
* DONE (INSPEcT)

Tests output


Example timings

INSPEcT.Rcheck/INSPEcT-Ex.timings

nameusersystemelapsed
AIC-INSPEcT-method0.1850.0090.196
Extract0.3630.0070.369
INSPEcT_diffsteady-class27.774 0.34528.122
calculateRatePvals0.2210.0020.224
chisqmodel0.1860.0010.187
chisqtest0.1830.0020.186
combine0.3580.0040.362
compareSteady23.479 0.19823.680
compareSteadyNoNascent5.1990.0045.203
convergence0.1900.0010.191
geneClass0.2220.0010.223
inHeatmap0.2150.0050.220
inspectFromPCR6.5120.0356.549
labeledSF0.1850.0080.194
logLik0.1840.0070.192
makeModelRates0.2240.0030.228
makeOscillatorySimModel5.8760.0415.921
makeSimDataset74.498 0.33174.832
makeSimModel25.540 0.10125.642
modelRates38.114 0.08738.205
modelRatesNF4.2000.0334.234
modelSelection0.1850.0010.185
modelingParams0.1830.0030.185
nGenes0.1860.0000.187
nTpts0.1850.0000.185
newINSPEcT14.115 0.04114.157
plotGene0.2390.0020.242
plotMA24.490 0.21624.708
processingDelay12.856 0.00612.862
quantifyExpressionsFromBAMs31.353 0.12431.569
quantifyExpressionsFromTrCounts15.793 0.00915.803
ratePvals0.1890.0000.189
ratesFirstGuess0.1860.0030.190
ratesFirstGuessVar0.1880.0020.189
removeModel0.2820.0050.287
rocCurve25.251 0.07925.335
rocThresholds25.258 0.10125.360
split0.2870.0040.290
tpts0.1830.0010.185
viewConfidenceIntervals0.1860.0040.191
viewModelRates0.1830.0050.187