| Back to Build/check report for BioC 3.23: simplified long |
|
This page was generated on 2025-11-08 11:32 -0500 (Sat, 08 Nov 2025).
| Hostname | OS | Arch (*) | R version | Installed pkgs |
|---|---|---|---|---|
| nebbiolo1 | Linux (Ubuntu 24.04.3 LTS) | x86_64 | R Under development (unstable) (2025-10-20 r88955) -- "Unsuffered Consequences" | 4821 |
| Click on any hostname to see more info about the system (e.g. compilers) (*) as reported by 'uname -p', except on Windows and Mac OS X | ||||
| Package 728/2323 | Hostname | OS / Arch | INSTALL | BUILD | CHECK | BUILD BIN | ||||||||
| FindIT2 1.17.0 (landing page) Guandong Shang
| nebbiolo1 | Linux (Ubuntu 24.04.3 LTS) / x86_64 | OK | OK | OK | |||||||||
|
To the developers/maintainers of the FindIT2 package: - Allow up to 24 hours (and sometimes 48 hours) for your latest push to git@git.bioconductor.org:packages/FindIT2.git to reflect on this report. See Troubleshooting Build Report for more information. - Use the following Renviron settings to reproduce errors and warnings. - If 'R CMD check' started to fail recently on the Linux builder(s) over a missing dependency, add the missing dependency to 'Suggests:' in your DESCRIPTION file. See Renviron.bioc for more information. |
| Package: FindIT2 |
| Version: 1.17.0 |
| Command: /home/biocbuild/bbs-3.23-bioc/R/bin/R CMD check --install=check:FindIT2.install-out.txt --library=/home/biocbuild/bbs-3.23-bioc/R/site-library --timings FindIT2_1.17.0.tar.gz |
| StartedAt: 2025-11-07 23:35:18 -0500 (Fri, 07 Nov 2025) |
| EndedAt: 2025-11-07 23:42:06 -0500 (Fri, 07 Nov 2025) |
| EllapsedTime: 407.7 seconds |
| RetCode: 0 |
| Status: OK |
| CheckDir: FindIT2.Rcheck |
| Warnings: 0 |
##############################################################################
##############################################################################
###
### Running command:
###
### /home/biocbuild/bbs-3.23-bioc/R/bin/R CMD check --install=check:FindIT2.install-out.txt --library=/home/biocbuild/bbs-3.23-bioc/R/site-library --timings FindIT2_1.17.0.tar.gz
###
##############################################################################
##############################################################################
* using log directory ‘/home/biocbuild/bbs-3.23-bioc/meat/FindIT2.Rcheck’
* using R Under development (unstable) (2025-10-20 r88955)
* using platform: x86_64-pc-linux-gnu
* R was compiled by
gcc (Ubuntu 13.3.0-6ubuntu2~24.04) 13.3.0
GNU Fortran (Ubuntu 13.3.0-6ubuntu2~24.04) 13.3.0
* running under: Ubuntu 24.04.3 LTS
* using session charset: UTF-8
* checking for file ‘FindIT2/DESCRIPTION’ ... OK
* this is package ‘FindIT2’ version ‘1.17.0’
* package encoding: UTF-8
* checking package namespace information ... OK
* checking package dependencies ... INFO
Imports includes 22 non-default packages.
Importing from so many packages makes the package vulnerable to any of
them becoming unavailable. Move as many as possible to Suggests and
use conditionally.
* checking if this is a source package ... OK
* checking if there is a namespace ... OK
* checking for hidden files and directories ... OK
* checking for portable file names ... OK
* checking for sufficient/correct file permissions ... OK
* checking whether package ‘FindIT2’ can be installed ... OK
* checking installed package size ... OK
* checking package directory ... OK
* checking ‘build’ directory ... OK
* checking DESCRIPTION meta-information ... OK
* checking top-level files ... OK
* checking for left-over files ... OK
* checking index information ... OK
* checking package subdirectories ... OK
* checking code files for non-ASCII characters ... OK
* checking R files for syntax errors ... OK
* checking whether the package can be loaded ... OK
* checking whether the package can be loaded with stated dependencies ... OK
* checking whether the package can be unloaded cleanly ... OK
* checking whether the namespace can be loaded with stated dependencies ... OK
* checking whether the namespace can be unloaded cleanly ... OK
* checking loading without being on the library search path ... OK
* checking dependencies in R code ... OK
* checking S3 generic/method consistency ... OK
* checking replacement functions ... OK
* checking foreign function calls ... OK
* checking R code for possible problems ... OK
* checking Rd files ... OK
* checking Rd metadata ... OK
* checking Rd cross-references ... OK
* checking for missing documentation entries ... OK
* checking for code/documentation mismatches ... OK
* checking Rd \usage sections ... OK
* checking Rd contents ... OK
* checking for unstated dependencies in examples ... OK
* checking contents of ‘data’ directory ... OK
* checking data for non-ASCII characters ... OK
* checking data for ASCII and uncompressed saves ... OK
* checking files in ‘vignettes’ ... OK
* checking examples ... OK
Examples with CPU (user + system) or elapsed time > 5s
user system elapsed
findIT_regionRP 6.459 0.146 6.610
calcRP_region 5.516 0.111 5.633
* checking for unstated dependencies in ‘tests’ ... OK
* checking tests ...
Running ‘testthat.R’
OK
* checking for unstated dependencies in vignettes ... OK
* checking package vignettes ... OK
* checking re-building of vignette outputs ... OK
* checking PDF version of manual ... OK
* DONE
Status: OK
FindIT2.Rcheck/00install.out
############################################################################## ############################################################################## ### ### Running command: ### ### /home/biocbuild/bbs-3.23-bioc/R/bin/R CMD INSTALL FindIT2 ### ############################################################################## ############################################################################## * installing to library ‘/home/biocbuild/bbs-3.23-bioc/R/site-library’ * installing *source* package ‘FindIT2’ ... ** this is package ‘FindIT2’ version ‘1.17.0’ ** using staged installation ** R ** data ** inst ** byte-compile and prepare package for lazy loading ** help *** installing help indices ** building package indices ** installing vignettes ** testing if installed package can be loaded from temporary location ** testing if installed package can be loaded from final location ** testing if installed package keeps a record of temporary installation path * DONE (FindIT2)
FindIT2.Rcheck/tests/testthat.Rout
R Under development (unstable) (2025-10-20 r88955) -- "Unsuffered Consequences"
Copyright (C) 2025 The R Foundation for Statistical Computing
Platform: x86_64-pc-linux-gnu
R is free software and comes with ABSOLUTELY NO WARRANTY.
You are welcome to redistribute it under certain conditions.
Type 'license()' or 'licence()' for distribution details.
R is a collaborative project with many contributors.
Type 'contributors()' for more information and
'citation()' on how to cite R or R packages in publications.
Type 'demo()' for some demos, 'help()' for on-line help, or
'help.start()' for an HTML browser interface to help.
Type 'q()' to quit R.
> library(testthat)
> library(FindIT2)
Loading required package: GenomicRanges
Loading required package: stats4
Loading required package: BiocGenerics
Loading required package: generics
Attaching package: 'generics'
The following objects are masked from 'package:base':
as.difftime, as.factor, as.ordered, intersect, is.element, setdiff,
setequal, union
Attaching package: 'BiocGenerics'
The following objects are masked from 'package:stats':
IQR, mad, sd, var, xtabs
The following objects are masked from 'package:base':
Filter, Find, Map, Position, Reduce, anyDuplicated, aperm, append,
as.data.frame, basename, cbind, colnames, dirname, do.call,
duplicated, eval, evalq, get, grep, grepl, is.unsorted, lapply,
mapply, match, mget, order, paste, pmax, pmax.int, pmin, pmin.int,
rank, rbind, rownames, sapply, saveRDS, table, tapply, unique,
unsplit, which.max, which.min
Loading required package: S4Vectors
Attaching package: 'S4Vectors'
The following object is masked from 'package:utils':
findMatches
The following objects are masked from 'package:base':
I, expand.grid, unname
Loading required package: IRanges
Loading required package: Seqinfo
> if (!requireNamespace("TxDb.Athaliana.BioMart.plantsmart28")) {
+ stop("unable to load TxDb.Athaliana.BioMart.plantsmart28")
+ }
Loading required namespace: TxDb.Athaliana.BioMart.plantsmart28
>
> test_check("FindIT2")
>> preparing gene features information... 2025-11-07 23:40:14
>> some scan range may cross Chr bound, trimming... 2025-11-07 23:40:16
>> preparing weight info... 2025-11-07 23:40:16
>> loading E50h_sampleChr5.bw info... 2025-11-07 23:40:16
------------
>> extracting and calcluating Chr5 signal... 2025-11-07 23:40:16
>> dealing with Chr5 left gene signal... 2025-11-07 23:40:19
>> norming Chr5RP accoring to the whole Chr RP... 2025-11-07 23:40:19
>> merging all Chr RP together... 2025-11-07 23:40:19
>> done 2025-11-07 23:40:19
>> checking seqlevels match... 2025-11-07 23:40:19
>> your peak_GR seqlevel:Chr5...
>> your Txdb seqlevel:Chr1 Chr2 Chr3 Chr4 Chr5 ChrM ChrC...
Good, your Chrs in peak_GR is all in Txdb
------------
annotatePeak using geneScan mode begins
>> preparing gene features information and scan region... 2025-11-07 23:40:19
>> some scan range may cross Chr bound, trimming... 2025-11-07 23:40:20
>> finding overlap peak in gene scan region... 2025-11-07 23:40:20
>> dealing with left peak not your gene scan region... 2025-11-07 23:40:20
>> merging two set peaks... 2025-11-07 23:40:20
>> calculating distance and dealing with gene strand... 2025-11-07 23:40:20
>> merging all info together ... 2025-11-07 23:40:20
>> done 2025-11-07 23:40:20
>> calculating peakCenter to TSS using peak-gene pair... 2025-11-07 23:40:20
>> pre-filling 1356 noAssoc peak gene's RP with 0... 2025-11-07 23:40:21
>> calculating RP using centerToTSS and peak score2025-11-07 23:40:21
>> merging all info together 2025-11-07 23:40:23
>> done 2025-11-07 23:40:24
>> calculating peakCenter to TSS using peak-gene pair... 2025-11-07 23:40:24
>> pre-filling 1356 noAssoc peak gene's RP with 0... 2025-11-07 23:40:25
>> calculating RP using centerToTSS and peak score2025-11-07 23:40:25
>> merging all info together 2025-11-07 23:40:27
>> done 2025-11-07 23:40:27
>> checking seqlevels match... 2025-11-07 23:40:27
>> your peak_GR seqlevel:Chr5...
>> your Txdb seqlevel:Chr1 Chr2 Chr3 Chr4 Chr5 ChrM ChrC...
Good, your Chrs in peak_GR is all in Txdb
------------
annotatePeak using geneScan mode begins
>> preparing gene features information and scan region... 2025-11-07 23:40:27
>> some scan range may cross Chr bound, trimming... 2025-11-07 23:40:28
>> finding overlap peak in gene scan region... 2025-11-07 23:40:28
>> dealing with left peak not your gene scan region... 2025-11-07 23:40:28
>> merging two set peaks... 2025-11-07 23:40:28
>> calculating distance and dealing with gene strand... 2025-11-07 23:40:28
>> merging all info together ... 2025-11-07 23:40:28
>> done 2025-11-07 23:40:28
>> calculating peakCenter to TSS using peak-gene pair... 2025-11-07 23:40:28
>> calculating RP using centerToTSS and TF hit 2025-11-07 23:40:29
>> merging all info together 2025-11-07 23:40:29
>> done 2025-11-07 23:40:29
>> calculating peakCenter to TSS using peak-gene pair... 2025-11-07 23:40:29
>> calculating RP using centerToTSS and TF hit 2025-11-07 23:40:31
>> merging all info together 2025-11-07 23:40:31
>> done 2025-11-07 23:40:31
>> checking seqlevels match... 2025-11-07 23:40:32
>> your peak_GR seqlevel:Chr5...
>> your Txdb seqlevel:Chr1 Chr2 Chr3 Chr4 Chr5 ChrM ChrC...
Good, your Chrs in peak_GR is all in Txdb
------------
annotatePeak using geneScan mode begins
>> preparing gene features information and scan region... 2025-11-07 23:40:32
>> some scan range may cross Chr bound, trimming... 2025-11-07 23:40:32
>> finding overlap peak in gene scan region... 2025-11-07 23:40:32
>> dealing with left peak not your gene scan region... 2025-11-07 23:40:32
>> merging two set peaks... 2025-11-07 23:40:32
>> calculating distance and dealing with gene strand... 2025-11-07 23:40:32
>> merging all info together ... 2025-11-07 23:40:32
>> done 2025-11-07 23:40:32
>> calculating peakCenter to TSS using peak-gene pair... 2025-11-07 23:40:32
>> pre-filling 1356 noAssoc peak gene's RP with 0... 2025-11-07 23:40:33
>> calculating RP using centerToTSS and peak score2025-11-07 23:40:33
>> merging all info together 2025-11-07 23:40:35
>> done 2025-11-07 23:40:35
>> extracting RP info from regionRP... 2025-11-07 23:40:36
>> dealing with TF_GR_databse... 2025-11-07 23:40:36
>> calculating percent and p-value... 2025-11-07 23:40:36
>> dealing withE5_0h_R1... 2025-11-07 23:40:36
>> dealing withE5_0h_R2... 2025-11-07 23:40:36
>> dealing withE5_4h_R1... 2025-11-07 23:40:36
>> dealing withE5_4h_R2... 2025-11-07 23:40:36
>> dealing withE5_8h_R1... 2025-11-07 23:40:36
>> dealing withE5_8h_R2... 2025-11-07 23:40:36
>> dealing withE5_16h_R1... 2025-11-07 23:40:36
>> dealing withE5_16h_R2... 2025-11-07 23:40:36
>> dealing withE5_24h_R1... 2025-11-07 23:40:36
>> dealing withE5_24h_R2... 2025-11-07 23:40:36
>> dealing withE5_48h_R1... 2025-11-07 23:40:36
>> dealing withE5_48h_R2... 2025-11-07 23:40:36
>> dealing withE5_48h_R3... 2025-11-07 23:40:36
>> dealing withE5_72h_R1... 2025-11-07 23:40:36
>> dealing withE5_72h_R2... 2025-11-07 23:40:36
>> dealing withE5_72h_R3... 2025-11-07 23:40:37
>> merging all info together... 2025-11-07 23:40:37
>> done 2025-11-07 23:40:37
>> preparing gene features information... 2025-11-07 23:40:37
>> some scan range may cross Chr bound, trimming... 2025-11-07 23:40:37
>> calculating p-value for each TF, which may be time consuming... 2025-11-07 23:40:37
>> merging all info together... 2025-11-07 23:40:37
>> done 2025-11-07 23:40:37
>> dealing with TF_GR_database... 2025-11-07 23:40:38
>> calculating coef and converting into z-score using INT... 2025-11-07 23:40:38
>> dealing with E5_0h_R1... 2025-11-07 23:40:38
>> dealing with E5_0h_R2... 2025-11-07 23:40:38
>> dealing with E5_4h_R1... 2025-11-07 23:40:38
>> dealing with E5_4h_R2... 2025-11-07 23:40:38
>> dealing with E5_8h_R1... 2025-11-07 23:40:38
>> dealing with E5_8h_R2... 2025-11-07 23:40:38
>> dealing with E5_16h_R1... 2025-11-07 23:40:38
>> dealing with E5_16h_R2... 2025-11-07 23:40:38
>> dealing with E5_24h_R1... 2025-11-07 23:40:38
>> dealing with E5_24h_R2... 2025-11-07 23:40:38
>> dealing with E5_48h_R1... 2025-11-07 23:40:38
>> dealing with E5_48h_R2... 2025-11-07 23:40:39
>> dealing with E5_48h_R3... 2025-11-07 23:40:39
>> dealing with E5_72h_R1... 2025-11-07 23:40:39
>> dealing with E5_72h_R2... 2025-11-07 23:40:39
>> dealing with E5_72h_R3... 2025-11-07 23:40:39
>> merging all info together... 2025-11-07 23:40:39
>> done 2025-11-07 23:40:39
>> checking seqlevels match... 2025-11-07 23:40:39
>> your peak_GR seqlevel:Chr5...
>> your Txdb seqlevel:Chr1 Chr2 Chr3 Chr4 Chr5 ChrM ChrC...
Good, your Chrs in peak_GR is all in Txdb
------------
annotatePeak using geneScan mode begins
>> preparing gene features information and scan region... 2025-11-07 23:40:39
>> some scan range may cross Chr bound, trimming... 2025-11-07 23:40:40
>> finding overlap peak in gene scan region... 2025-11-07 23:40:40
>> dealing with left peak not your gene scan region... 2025-11-07 23:40:40
>> merging two set peaks... 2025-11-07 23:40:40
>> calculating distance and dealing with gene strand... 2025-11-07 23:40:40
>> merging all info together ... 2025-11-07 23:40:40
>> done 2025-11-07 23:40:40
>> calculating peakCenter to TSS using peak-gene pair... 2025-11-07 23:40:40
>> calculating RP using centerToTSS and TF hit 2025-11-07 23:40:41
>> merging all info together 2025-11-07 23:40:41
>> done 2025-11-07 23:40:41
>> checking seqlevels match... 2025-11-07 23:40:41
>> your peak_GR seqlevel:5...
>> your Txdb seqlevel:Chr1 Chr2 Chr3 Chr4 Chr5 ChrM ChrC...
>> checking seqlevels match... 2025-11-07 23:40:41
>> your peak_GR seqlevel:Chr5 Chr6...
>> your Txdb seqlevel:Chr1 Chr2 Chr3 Chr4 Chr5 ChrM ChrC...
>> checking seqlevels match... 2025-11-07 23:40:44
>> your peak_GR seqlevel:Chr5...
>> your Txdb seqlevel:Chr1 Chr2 Chr3 Chr4 Chr5 ChrM ChrC...
Good, your Chrs in peak_GR is all in Txdb
>> checking seqlevels match... 2025-11-07 23:40:44
>> your peak_GR seqlevel:Chr5...
>> your Txdb seqlevel:Chr1 Chr2 Chr3 Chr4 Chr5 ChrM ChrC...
Good, your Chrs in peak_GR is all in Txdb
------------
annotating Peak using nearest gene mode begins
>> preparing gene features information... 2025-11-07 23:40:44
>> finding nearest gene and calculating distance... 2025-11-07 23:40:45
>> dealing with gene strand ... 2025-11-07 23:40:45
>> merging all info together ... 2025-11-07 23:40:45
>> done 2025-11-07 23:40:45
>> checking seqlevels match... 2025-11-07 23:40:45
>> your peak_GR seqlevel:Chr5...
>> your Txdb seqlevel:Chr1 Chr2 Chr3 Chr4 Chr5 ChrM ChrC...
Good, your Chrs in peak_GR is all in Txdb
>> checking seqlevels match... 2025-11-07 23:40:45
>> your peak_GR seqlevel:Chr5...
>> your Txdb seqlevel:Chr1 Chr2 Chr3 Chr4 Chr5 ChrM ChrC...
Good, your Chrs in peak_GR is all in Txdb
------------
annotating Peak using nearest gene mode begins
>> preparing gene features information... 2025-11-07 23:40:45
>> finding nearest gene and calculating distance... 2025-11-07 23:40:46
>> dealing with gene strand ... 2025-11-07 23:40:46
>> merging all info together ... 2025-11-07 23:40:46
>> done 2025-11-07 23:40:46
>> checking seqlevels match... 2025-11-07 23:40:47
>> your peak_GR seqlevel:Chr5...
>> your Txdb seqlevel:Chr1 Chr2 Chr3 Chr4 Chr5 ChrM ChrC...
Good, your Chrs in peak_GR is all in Txdb
>> checking seqlevels match... 2025-11-07 23:40:47
>> your peak_GR seqlevel:Chr5...
>> your Txdb seqlevel:Chr1 Chr2 Chr3 Chr4 Chr5 ChrM ChrC...
Good, your Chrs in peak_GR is all in Txdb
------------
annotating Peak using nearest gene mode begins
>> preparing gene features information... 2025-11-07 23:40:47
>> finding nearest gene and calculating distance... 2025-11-07 23:40:47
>> dealing with gene strand ... 2025-11-07 23:40:48
>> merging all info together ... 2025-11-07 23:40:48
>> done 2025-11-07 23:40:48
>> checking seqlevels match... 2025-11-07 23:40:48
>> your peak_GR seqlevel:Chr5...
>> your Txdb seqlevel:Chr1 Chr2 Chr3 Chr4 Chr5 ChrM ChrC...
Good, your Chrs in peak_GR is all in Txdb
>> checking seqlevels match... 2025-11-07 23:40:48
>> your peak_GR seqlevel:Chr5...
>> your Txdb seqlevel:Chr1 Chr2 Chr3 Chr4 Chr5 ChrM ChrC...
Good, your Chrs in peak_GR is all in Txdb
------------
annotating Peak using nearest gene mode begins
>> preparing gene features information... 2025-11-07 23:40:48
>> finding nearest gene and calculating distance... 2025-11-07 23:40:49
>> dealing with gene strand ... 2025-11-07 23:40:50
>> merging all info together ... 2025-11-07 23:40:50
>> done 2025-11-07 23:40:50
It seems that there 1 genes have not been annotated by nearestGene mode
>> checking seqlevels match... 2025-11-07 23:40:51
>> your peak_GR seqlevel:Chr5...
>> your Txdb seqlevel:Chr1 Chr2 Chr3 Chr4 Chr5 ChrM ChrC...
Good, your Chrs in peak_GR is all in Txdb
>> checking seqlevels match... 2025-11-07 23:40:51
>> your peak_GR seqlevel:Chr5...
>> your Txdb seqlevel:Chr1 Chr2 Chr3 Chr4 Chr5 ChrM ChrC...
Good, your Chrs in peak_GR is all in Txdb
------------
annotating Peak using nearest gene mode begins
>> preparing gene features information... 2025-11-07 23:40:51
>> finding nearest gene and calculating distance... 2025-11-07 23:40:52
>> dealing with gene strand ... 2025-11-07 23:40:52
>> merging all info together ... 2025-11-07 23:40:52
>> done 2025-11-07 23:40:52
It seems that there 1 genes have not been annotated by nearestGene mode
>> checking seqlevels match... 2025-11-07 23:40:52
>> your peak_GR seqlevel:Chr5...
>> your Txdb seqlevel:Chr1 Chr2 Chr3 Chr4 Chr5 ChrM ChrC...
Good, your Chrs in peak_GR is all in Txdb
>> checking seqlevels match... 2025-11-07 23:40:53
>> your peak_GR seqlevel:Chr5...
>> your Txdb seqlevel:Chr1 Chr2 Chr3 Chr4 Chr5 ChrM ChrC...
Good, your Chrs in peak_GR is all in Txdb
>> some scan range may cross Chr bound, trimming... 2025-11-07 23:40:54
>> checking seqlevels match... 2025-11-07 23:40:55
>> your peak_GR seqlevel:Chr5...
>> your Txdb seqlevel:Chr1 Chr2 Chr3 Chr4 Chr5 ChrM ChrC...
Good, your Chrs in peak_GR is all in Txdb
>> some scan range may cross Chr bound, trimming... 2025-11-07 23:40:55
Good, your two matrix colnames matchs
>> calculating cor and pvalue, which may be time consuming... 2025-11-07 23:40:56
>> merging all info together... 2025-11-07 23:40:56
>> done 2025-11-07 23:40:57
>> checking seqlevels match... 2025-11-07 23:40:57
>> your peak_GR seqlevel:Chr5...
>> your Txdb seqlevel:Chr1 Chr2 Chr3 Chr4 Chr5 ChrM ChrC...
Good, your Chrs in peak_GR is all in Txdb
>> using scanPromoter parameter to scan promoter for each gene... 2025-11-07 23:40:57
>> checking seqlevels match... 2025-11-07 23:40:57
>> your peak_GR seqlevel:Chr5...
>> your Txdb seqlevel:Chr1 Chr2 Chr3 Chr4 Chr5 ChrM ChrC...
Good, your Chrs in peak_GR is all in Txdb
>> some scan range may cross Chr bound, trimming... 2025-11-07 23:40:57
>> there are 85 gene have scaned promoter
>> using scanEnhancer parameter to scan Enhancer for each gene... 2025-11-07 23:40:58
>> checking seqlevels match... 2025-11-07 23:40:58
>> your peak_GR seqlevel:Chr5...
>> your Txdb seqlevel:Chr1 Chr2 Chr3 Chr4 Chr5 ChrM ChrC...
Good, your Chrs in peak_GR is all in Txdb
>> some scan range may cross Chr bound, trimming... 2025-11-07 23:40:58
>> calculating cor and pvalue, which may be time consuming... 2025-11-07 23:40:58
>> merging all info together... 2025-11-07 23:40:59
>> done 2025-11-07 23:40:59
Good, your two matrix colnames matchs
>> calculating cor and pvalue, which may be time consuming... 2025-11-07 23:40:59
>> merging all info together... 2025-11-07 23:40:59
>> done 2025-11-07 23:40:59
>> checking seqlevels match... 2025-11-07 23:40:59
>> your peak_GR seqlevel:Chr5...
>> your Txdb seqlevel:Chr1 Chr2 Chr3 Chr4 Chr5 ChrM ChrC...
Good, your Chrs in peak_GR is all in Txdb
------------
annotatePeak using geneScan mode begins
>> preparing gene features information and scan region... 2025-11-07 23:40:59
>> some scan range may cross Chr bound, trimming... 2025-11-07 23:41:00
>> finding overlap peak in gene scan region... 2025-11-07 23:41:00
>> dealing with left peak not your gene scan region... 2025-11-07 23:41:00
>> merging two set peaks... 2025-11-07 23:41:00
>> calculating distance and dealing with gene strand... 2025-11-07 23:41:00
>> merging all info together ... 2025-11-07 23:41:00
>> done 2025-11-07 23:41:00
Good, your two matrix colnames matchs
>> calculating cor and pvalue, which may be time consuming... 2025-11-07 23:41:01
>> merging all info together... 2025-11-07 23:41:01
>> done 2025-11-07 23:41:01
>> checking seqlevels match... 2025-11-07 23:41:01
>> your peak_GR seqlevel:Chr5...
>> your Txdb seqlevel:Chr1 Chr2 Chr3 Chr4 Chr5 ChrM ChrC...
Good, your Chrs in peak_GR is all in Txdb
>> using scanPromoter parameter to scan promoter for each gene... 2025-11-07 23:41:01
>> checking seqlevels match... 2025-11-07 23:41:01
>> your peak_GR seqlevel:Chr5...
>> your Txdb seqlevel:Chr1 Chr2 Chr3 Chr4 Chr5 ChrM ChrC...
Good, your Chrs in peak_GR is all in Txdb
>> some scan range may cross Chr bound, trimming... 2025-11-07 23:41:01
>> there are 85 gene have scaned promoter
>> using scanEnhancer parameter to scan Enhancer for each gene... 2025-11-07 23:41:02
>> checking seqlevels match... 2025-11-07 23:41:02
>> your peak_GR seqlevel:Chr5...
>> your Txdb seqlevel:Chr1 Chr2 Chr3 Chr4 Chr5 ChrM ChrC...
Good, your Chrs in peak_GR is all in Txdb
>> some scan range may cross Chr bound, trimming... 2025-11-07 23:41:02
>> calculating cor and pvalue, which may be time consuming... 2025-11-07 23:41:03
>> merging all info together... 2025-11-07 23:41:03
>> done 2025-11-07 23:41:03
Joining with `by = join_by(feature_id)`
Joining with `by = join_by(feature_id)`
`geom_smooth()` using formula = 'y ~ x'
Joining with `by = join_by(feature_id)`
Joining with `by = join_by(feature_id)`
`geom_smooth()` using formula = 'y ~ x'
[ FAIL 0 | WARN 0 | SKIP 0 | PASS 65 ]
>
> proc.time()
user system elapsed
59.956 1.930 61.880
FindIT2.Rcheck/FindIT2-Ex.timings
| name | user | system | elapsed | |
| TF_target_database | 0.000 | 0.001 | 0.000 | |
| calcRP_TFHit | 3.308 | 0.148 | 3.474 | |
| calcRP_coverage | 2.702 | 0.231 | 2.935 | |
| calcRP_region | 5.516 | 0.111 | 5.633 | |
| enhancerPromoterCor | 2.256 | 0.041 | 2.297 | |
| findIT_MARA | 0.417 | 0.002 | 0.419 | |
| findIT_TFHit | 0.812 | 0.039 | 0.851 | |
| findIT_TTPair | 0.069 | 0.000 | 0.069 | |
| findIT_enrichFisher | 0.147 | 0.002 | 0.149 | |
| findIT_enrichWilcox | 0.162 | 0.002 | 0.165 | |
| findIT_regionRP | 6.459 | 0.146 | 6.610 | |
| getAssocPairNumber | 1.064 | 0.041 | 1.105 | |
| integrate_ChIP_RNA | 1.852 | 0.014 | 1.867 | |
| integrate_replicates | 0.002 | 0.000 | 0.002 | |
| jaccard_findIT_TTpair | 0.095 | 0.002 | 0.097 | |
| jaccard_findIT_enrichFisher | 0.199 | 0.000 | 0.200 | |
| loadPeakFile | 0.059 | 0.000 | 0.059 | |
| mm_geneBound | 1.097 | 0.023 | 1.121 | |
| mm_geneScan | 1.147 | 0.007 | 1.154 | |
| mm_nearestGene | 0.986 | 0.006 | 0.992 | |
| peakGeneCor | 2.043 | 0.014 | 2.057 | |
| plot_annoDistance | 1.523 | 0.001 | 1.525 | |
| plot_peakGeneAlias_summary | 1.292 | 0.005 | 1.296 | |
| plot_peakGeneCor | 2.964 | 0.036 | 3.001 | |
| test_geneSet | 0.000 | 0.001 | 0.000 | |