Back to Multiple platform build/check report for BioC 3.23:   simplified   long
AB[C]DEFGHIJKLMNOPQRSTUVWXYZ

This page was generated on 2025-11-25 11:37 -0500 (Tue, 25 Nov 2025).

HostnameOSArch (*)R versionInstalled pkgs
nebbiolo1Linux (Ubuntu 24.04.3 LTS)x86_64R Under development (unstable) (2025-10-20 r88955) -- "Unsuffered Consequences" 4830
lconwaymacOS 12.7.6 Montereyx86_64R Under development (unstable) (2025-10-21 r88958) -- "Unsuffered Consequences" 4606
kjohnson3macOS 13.7.7 Venturaarm64R Under development (unstable) (2025-11-04 r88984) -- "Unsuffered Consequences" 4569
Click on any hostname to see more info about the system (e.g. compilers)      (*) as reported by 'uname -p', except on Windows and Mac OS X

Package 268/2328HostnameOS / ArchINSTALLBUILDCHECKBUILD BIN
CAGEr 2.17.0  (landing page)
Charles Plessy
Snapshot Date: 2025-11-24 13:40 -0500 (Mon, 24 Nov 2025)
git_url: https://git.bioconductor.org/packages/CAGEr
git_branch: devel
git_last_commit: 0a93a41
git_last_commit_date: 2025-10-29 10:13:45 -0500 (Wed, 29 Oct 2025)
nebbiolo1Linux (Ubuntu 24.04.3 LTS) / x86_64  OK    OK    OK  UNNEEDED, same version is already published
lconwaymacOS 12.7.6 Monterey / x86_64  OK    OK    OK    OK  NO, package depends on 'GenomicAlignments' which is only available as a source package that needs compilation
kjohnson3macOS 13.7.7 Ventura / arm64  OK    OK    OK    OK  NO, package depends on 'GenomicAlignments' which is only available as a source package that needs compilation


CHECK results for CAGEr on nebbiolo1

To the developers/maintainers of the CAGEr package:
- Allow up to 24 hours (and sometimes 48 hours) for your latest push to git@git.bioconductor.org:packages/CAGEr.git to reflect on this report. See Troubleshooting Build Report for more information.
- Use the following Renviron settings to reproduce errors and warnings.
- If 'R CMD check' started to fail recently on the Linux builder(s) over a missing dependency, add the missing dependency to 'Suggests:' in your DESCRIPTION file. See Renviron.bioc for more information.

raw results


Summary

Package: CAGEr
Version: 2.17.0
Command: /home/biocbuild/bbs-3.23-bioc/R/bin/R CMD check --install=check:CAGEr.install-out.txt --library=/home/biocbuild/bbs-3.23-bioc/R/site-library --timings CAGEr_2.17.0.tar.gz
StartedAt: 2025-11-24 21:43:45 -0500 (Mon, 24 Nov 2025)
EndedAt: 2025-11-24 21:56:30 -0500 (Mon, 24 Nov 2025)
EllapsedTime: 764.9 seconds
RetCode: 0
Status:   OK  
CheckDir: CAGEr.Rcheck
Warnings: 0

Command output

##############################################################################
##############################################################################
###
### Running command:
###
###   /home/biocbuild/bbs-3.23-bioc/R/bin/R CMD check --install=check:CAGEr.install-out.txt --library=/home/biocbuild/bbs-3.23-bioc/R/site-library --timings CAGEr_2.17.0.tar.gz
###
##############################################################################
##############################################################################


* using log directory ‘/home/biocbuild/bbs-3.23-bioc/meat/CAGEr.Rcheck’
* using R Under development (unstable) (2025-10-20 r88955)
* using platform: x86_64-pc-linux-gnu
* R was compiled by
    gcc (Ubuntu 13.3.0-6ubuntu2~24.04) 13.3.0
    GNU Fortran (Ubuntu 13.3.0-6ubuntu2~24.04) 13.3.0
* running under: Ubuntu 24.04.3 LTS
* using session charset: UTF-8
* checking for file ‘CAGEr/DESCRIPTION’ ... OK
* this is package ‘CAGEr’ version ‘2.17.0’
* package encoding: UTF-8
* checking package namespace information ... OK
* checking package dependencies ... INFO
Imports includes 30 non-default packages.
Importing from so many packages makes the package vulnerable to any of
them becoming unavailable.  Move as many as possible to Suggests and
use conditionally.
* checking if this is a source package ... OK
* checking if there is a namespace ... OK
* checking for hidden files and directories ... OK
* checking for portable file names ... OK
* checking for sufficient/correct file permissions ... OK
* checking whether package ‘CAGEr’ can be installed ... OK
* checking installed package size ... OK
* checking package directory ... OK
* checking ‘build’ directory ... OK
* checking DESCRIPTION meta-information ... OK
* checking top-level files ... OK
* checking for left-over files ... OK
* checking index information ... OK
* checking package subdirectories ... OK
* checking code files for non-ASCII characters ... OK
* checking R files for syntax errors ... OK
* checking whether the package can be loaded ... OK
* checking whether the package can be loaded with stated dependencies ... OK
* checking whether the package can be unloaded cleanly ... OK
* checking whether the namespace can be loaded with stated dependencies ... OK
* checking whether the namespace can be unloaded cleanly ... OK
* checking loading without being on the library search path ... OK
* checking dependencies in R code ... OK
* checking S3 generic/method consistency ... OK
* checking replacement functions ... OK
* checking foreign function calls ... OK
* checking R code for possible problems ... OK
* checking Rd files ... OK
* checking Rd metadata ... OK
* checking Rd cross-references ... OK
* checking for missing documentation entries ... OK
* checking for code/documentation mismatches ... OK
* checking Rd \usage sections ... OK
* checking Rd contents ... OK
* checking for unstated dependencies in examples ... OK
* checking contents of ‘data’ directory ... OK
* checking data for non-ASCII characters ... OK
* checking LazyData ... OK
* checking data for ASCII and uncompressed saves ... OK
* checking files in ‘vignettes’ ... OK
* checking examples ... OK
Examples with CPU (user + system) or elapsed time > 5s
                             user system elapsed
paraclu                    43.600  0.087  43.689
exportToTrack              36.700  0.019  36.721
scoreShift                 22.475  0.385  22.866
aggregateTagClusters       19.826  0.177  20.004
annotateCTSS               12.739  0.099  12.839
quantilePositions          12.355  0.029  12.386
distclu                     9.335  0.001   9.337
plotExpressionProfiles      8.296  0.180   8.477
cumulativeCTSSdistribution  5.116  0.161   5.278
getExpressionProfiles       5.037  0.001   5.038
* checking for unstated dependencies in vignettes ... OK
* checking package vignettes ... OK
* checking re-building of vignette outputs ... OK
* checking PDF version of manual ... OK
* DONE

Status: OK


Installation output

CAGEr.Rcheck/00install.out

##############################################################################
##############################################################################
###
### Running command:
###
###   /home/biocbuild/bbs-3.23-bioc/R/bin/R CMD INSTALL CAGEr
###
##############################################################################
##############################################################################


* installing to library ‘/home/biocbuild/bbs-3.23-bioc/R/site-library’
* installing *source* package ‘CAGEr’ ...
** this is package ‘CAGEr’ version ‘2.17.0’
** using staged installation
** R
** data
*** moving datasets to lazyload DB
** inst
** byte-compile and prepare package for lazy loading
** help
*** installing help indices
** building package indices
** installing vignettes
** testing if installed package can be loaded from temporary location
** testing if installed package can be loaded from final location
** testing if installed package keeps a record of temporary installation path
* DONE (CAGEr)

Tests output


Example timings

CAGEr.Rcheck/CAGEr-Ex.timings

nameusersystemelapsed
CAGEexp-class3.2250.1353.364
CAGEr_Multicore3.6030.0653.668
CTSS-class0.2390.0020.240
CTSScoordinates0.0740.0040.079
CTSSnormalizedTpm0.7160.0550.771
CTSStagCount0.6580.0960.755
CTSStoGenes0.3840.0620.446
CustomConsensusClusters4.6520.1004.752
GeneExpDESeq20.4860.0410.528
GeneExpSE0.0040.0000.005
QuantileWidthFunctions0.1420.0040.147
TSSlogo2.7180.0372.755
aggregateTagClusters19.826 0.17720.004
annotateCTSS12.739 0.09912.839
byCtss0.0140.0020.017
consensusClusters0.1630.0010.164
consensusClustersDESeq22.0200.0012.021
consensusClustersTpm0.0070.0000.006
cumulativeCTSSdistribution5.1160.1615.278
distclu9.3350.0019.337
dot-ctss_summary_for_clusters0.8310.0030.835
exampleCAGEexp0.0000.0010.001
exportToTrack36.700 0.01936.721
expressionClasses1.8700.0011.872
filteredCTSSidx0.010.000.01
flagLowExpCTSS0.0350.0000.034
genomeName000
getCTSS0.9690.0040.973
getExpressionProfiles5.0370.0015.038
getShiftingPromoters1.9080.0011.909
hanabi0.2660.0020.268
hanabiPlot0.2920.0130.306
import.CAGEscanMolecule000
import.CTSS0.0860.0010.088
import.bam000
import.bedCTSS0.0000.0010.000
import.bedScore000
import.bedmolecule000
import.bigwig0.3230.0030.327
importPublicData0.0010.0000.000
inputFiles0.0010.0000.001
inputFilesType0.0010.0000.001
librarySizes0.0010.0000.002
mapStats0.0480.0020.050
mergeCAGEsets2.0520.0182.070
mergeSamples0.4480.0020.449
moleculesGR2CTSS0.1280.0000.128
normalizeTagCount0.5350.0020.513
paraclu43.600 0.08743.689
parseCAGEscanBlocksToGrangeTSS0.0510.0000.050
plotAnnot3.2320.0553.287
plotCorrelation0.2670.0000.268
plotExpressionProfiles8.2960.1808.477
plotInterquantileWidth2.2650.0112.277
plotReverseCumulatives2.7170.0212.674
quantilePositions12.355 0.02912.386
quickEnhancers000
ranges2annot0.3320.0010.333
ranges2genes0.0550.0010.056
ranges2names0.0510.0020.053
resetCAGEexp0.3000.0030.303
rowSums.RleDataFrame0.0210.0000.021
rowsum.RleDataFrame0.0250.0000.024
sampleLabels0.0040.0000.004
scoreShift22.475 0.38522.866
seqNameTotalsSE0.0020.0010.004
setColors0.2960.0020.298
strandInvaders0.6030.0890.675
summariseChrExpr0.4120.0160.428
tagClusters0.3930.0200.413