| Back to Build/check report for BioC 3.23: simplified long |
|
This page was generated on 2025-11-08 11:32 -0500 (Sat, 08 Nov 2025).
| Hostname | OS | Arch (*) | R version | Installed pkgs |
|---|---|---|---|---|
| nebbiolo1 | Linux (Ubuntu 24.04.3 LTS) | x86_64 | R Under development (unstable) (2025-10-20 r88955) -- "Unsuffered Consequences" | 4821 |
| Click on any hostname to see more info about the system (e.g. compilers) (*) as reported by 'uname -p', except on Windows and Mac OS X | ||||
| Package 1790/2323 | Hostname | OS / Arch | INSTALL | BUILD | CHECK | BUILD BIN | ||||||||
| RNAmodR 1.25.0 (landing page) Felix G.M. Ernst
| nebbiolo1 | Linux (Ubuntu 24.04.3 LTS) / x86_64 | ERROR | ERROR | skipped | |||||||||
|
To the developers/maintainers of the RNAmodR package: - Allow up to 24 hours (and sometimes 48 hours) for your latest push to git@git.bioconductor.org:packages/RNAmodR.git to reflect on this report. See Troubleshooting Build Report for more information. - Use the following Renviron settings to reproduce errors and warnings. - If 'R CMD check' started to fail recently on the Linux builder(s) over a missing dependency, add the missing dependency to 'Suggests:' in your DESCRIPTION file. See Renviron.bioc for more information. |
| Package: RNAmodR |
| Version: 1.25.0 |
| Command: /home/biocbuild/bbs-3.23-bioc/R/bin/R CMD INSTALL RNAmodR |
| StartedAt: 2025-11-07 15:47:43 -0500 (Fri, 07 Nov 2025) |
| EndedAt: 2025-11-07 15:48:00 -0500 (Fri, 07 Nov 2025) |
| EllapsedTime: 17.4 seconds |
| RetCode: 1 |
| Status: ERROR |
##############################################################################
##############################################################################
###
### Running command:
###
### /home/biocbuild/bbs-3.23-bioc/R/bin/R CMD INSTALL RNAmodR
###
##############################################################################
##############################################################################
* installing to library ‘/home/biocbuild/bbs-3.23-bioc/R/site-library’
* installing *source* package ‘RNAmodR’ ...
** this is package ‘RNAmodR’ version ‘1.25.0’
** using staged installation
** R
** data
** inst
** byte-compile and prepare package for lazy loading
Error in get_seqtype_conversion_lookup("B", seqtype(x0)) :
Biostrings internal error, please report
Error: unable to load R code in package 'RNAmodR'
Execution halted
ERROR: lazy loading failed for package ‘RNAmodR’
* removing ‘/home/biocbuild/bbs-3.23-bioc/R/site-library/RNAmodR’
* restoring previous ‘/home/biocbuild/bbs-3.23-bioc/R/site-library/RNAmodR’