| Back to Multiple platform build/check report for BioC 3.23: simplified long |
|
This page was generated on 2025-11-25 11:37 -0500 (Tue, 25 Nov 2025).
| Hostname | OS | Arch (*) | R version | Installed pkgs |
|---|---|---|---|---|
| nebbiolo1 | Linux (Ubuntu 24.04.3 LTS) | x86_64 | R Under development (unstable) (2025-10-20 r88955) -- "Unsuffered Consequences" | 4830 |
| lconway | macOS 12.7.6 Monterey | x86_64 | R Under development (unstable) (2025-10-21 r88958) -- "Unsuffered Consequences" | 4606 |
| kjohnson3 | macOS 13.7.7 Ventura | arm64 | R Under development (unstable) (2025-11-04 r88984) -- "Unsuffered Consequences" | 4569 |
| Click on any hostname to see more info about the system (e.g. compilers) (*) as reported by 'uname -p', except on Windows and Mac OS X | ||||
| Package 266/2328 | Hostname | OS / Arch | INSTALL | BUILD | CHECK | BUILD BIN | ||||||||
| CAGEfightR 1.31.0 (landing page) Malte Thodberg
| nebbiolo1 | Linux (Ubuntu 24.04.3 LTS) / x86_64 | OK | OK | OK | |||||||||
| lconway | macOS 12.7.6 Monterey / x86_64 | OK | OK | OK | OK | |||||||||
| kjohnson3 | macOS 13.7.7 Ventura / arm64 | OK | OK | OK | OK | |||||||||
|
To the developers/maintainers of the CAGEfightR package: - Allow up to 24 hours (and sometimes 48 hours) for your latest push to git@git.bioconductor.org:packages/CAGEfightR.git to reflect on this report. See Troubleshooting Build Report for more information. - Use the following Renviron settings to reproduce errors and warnings. - If 'R CMD check' started to fail recently on the Linux builder(s) over a missing dependency, add the missing dependency to 'Suggests:' in your DESCRIPTION file. See Renviron.bioc for more information. |
| Package: CAGEfightR |
| Version: 1.31.0 |
| Command: /home/biocbuild/bbs-3.23-bioc/R/bin/R CMD check --install=check:CAGEfightR.install-out.txt --library=/home/biocbuild/bbs-3.23-bioc/R/site-library --timings CAGEfightR_1.31.0.tar.gz |
| StartedAt: 2025-11-24 21:43:01 -0500 (Mon, 24 Nov 2025) |
| EndedAt: 2025-11-24 21:52:07 -0500 (Mon, 24 Nov 2025) |
| EllapsedTime: 546.7 seconds |
| RetCode: 0 |
| Status: OK |
| CheckDir: CAGEfightR.Rcheck |
| Warnings: 0 |
##############################################################################
##############################################################################
###
### Running command:
###
### /home/biocbuild/bbs-3.23-bioc/R/bin/R CMD check --install=check:CAGEfightR.install-out.txt --library=/home/biocbuild/bbs-3.23-bioc/R/site-library --timings CAGEfightR_1.31.0.tar.gz
###
##############################################################################
##############################################################################
* using log directory ‘/home/biocbuild/bbs-3.23-bioc/meat/CAGEfightR.Rcheck’
* using R Under development (unstable) (2025-10-20 r88955)
* using platform: x86_64-pc-linux-gnu
* R was compiled by
gcc (Ubuntu 13.3.0-6ubuntu2~24.04) 13.3.0
GNU Fortran (Ubuntu 13.3.0-6ubuntu2~24.04) 13.3.0
* running under: Ubuntu 24.04.3 LTS
* using session charset: UTF-8
* checking for file ‘CAGEfightR/DESCRIPTION’ ... OK
* checking extension type ... Package
* this is package ‘CAGEfightR’ version ‘1.31.0’
* package encoding: UTF-8
* checking package namespace information ... OK
* checking package dependencies ... OK
* checking if this is a source package ... OK
* checking if there is a namespace ... OK
* checking for hidden files and directories ... OK
* checking for portable file names ... OK
* checking for sufficient/correct file permissions ... OK
* checking whether package ‘CAGEfightR’ can be installed ... OK
* checking installed package size ... OK
* checking package directory ... OK
* checking ‘build’ directory ... OK
* checking DESCRIPTION meta-information ... OK
* checking top-level files ... OK
* checking for left-over files ... OK
* checking index information ... OK
* checking package subdirectories ... OK
* checking code files for non-ASCII characters ... OK
* checking R files for syntax errors ... OK
* checking whether the package can be loaded ... OK
* checking whether the package can be loaded with stated dependencies ... OK
* checking whether the package can be unloaded cleanly ... OK
* checking whether the namespace can be loaded with stated dependencies ... OK
* checking whether the namespace can be unloaded cleanly ... OK
* checking loading without being on the library search path ... OK
* checking whether startup messages can be suppressed ... OK
* checking dependencies in R code ... OK
* checking S3 generic/method consistency ... OK
* checking replacement functions ... OK
* checking foreign function calls ... OK
* checking R code for possible problems ... OK
* checking Rd files ... OK
* checking Rd metadata ... OK
* checking Rd cross-references ... OK
* checking for missing documentation entries ... OK
* checking for code/documentation mismatches ... OK
* checking Rd \usage sections ... OK
* checking Rd contents ... OK
* checking for unstated dependencies in examples ... OK
* checking contents of ‘data’ directory ... OK
* checking data for non-ASCII characters ... OK
* checking LazyData ... OK
* checking data for ASCII and uncompressed saves ... OK
* checking files in ‘vignettes’ ... OK
* checking examples ... OK
Examples with CPU (user + system) or elapsed time > 5s
user system elapsed
findLinks 6.155 0.965 6.586
* checking for unstated dependencies in vignettes ... OK
* checking package vignettes ... OK
* checking re-building of vignette outputs ... OK
* checking PDF version of manual ... OK
* DONE
Status: OK
CAGEfightR.Rcheck/00install.out
############################################################################## ############################################################################## ### ### Running command: ### ### /home/biocbuild/bbs-3.23-bioc/R/bin/R CMD INSTALL CAGEfightR ### ############################################################################## ############################################################################## * installing to library ‘/home/biocbuild/bbs-3.23-bioc/R/site-library’ * installing *source* package ‘CAGEfightR’ ... ** this is package ‘CAGEfightR’ version ‘1.31.0’ ** using staged installation ** R ** data *** moving datasets to lazyload DB ** inst ** byte-compile and prepare package for lazy loading ** help *** installing help indices ** building package indices ** installing vignettes ** testing if installed package can be loaded from temporary location ** testing if installed package can be loaded from final location ** testing if installed package keeps a record of temporary installation path * DONE (CAGEfightR)
CAGEfightR.Rcheck/CAGEfightR-Ex.timings
| name | user | system | elapsed | |
| assignGeneID | 3.296 | 0.036 | 3.334 | |
| assignMissingID | 0.904 | 0.018 | 0.924 | |
| assignTxID | 0.869 | 0.010 | 0.880 | |
| assignTxType | 0.001 | 0.000 | 0.001 | |
| balanceBC | 0.001 | 0.000 | 0.001 | |
| balanceD | 0.001 | 0.000 | 0.001 | |
| bwCommonGenome | 0.035 | 0.002 | 0.040 | |
| bwGenomeCompatibility | 0.016 | 0.000 | 0.017 | |
| bwValid | 0.007 | 0.001 | 0.007 | |
| calcBidirectionality | 0.387 | 0.021 | 0.407 | |
| calcComposition | 1.17 | 0.01 | 1.18 | |
| calcPooled | 0.082 | 0.001 | 0.083 | |
| calcShape | 2.166 | 0.060 | 2.226 | |
| calcSupport | 0.122 | 0.001 | 0.124 | |
| calcTPM | 0.113 | 0.003 | 0.116 | |
| calcTotalTags | 0.058 | 0.003 | 0.060 | |
| checkCTSSs | 0.226 | 0.002 | 0.229 | |
| checkPeaked | 0.059 | 0.002 | 0.060 | |
| checkPooled | 0.051 | 0.004 | 0.054 | |
| clusterBidirectionally | 0 | 0 | 0 | |
| clusterUnidirectionally | 1.415 | 0.033 | 1.448 | |
| combineClusters | 0.723 | 0.011 | 0.734 | |
| convertBAM2BigWig | 0.001 | 0.000 | 0.000 | |
| convertBED2BigWig | 0.000 | 0.000 | 0.001 | |
| convertGRanges2GPos | 0.069 | 0.000 | 0.069 | |
| exampleDesign | 0.003 | 0.001 | 0.004 | |
| findLinks | 6.155 | 0.965 | 6.586 | |
| findStretches | 0.343 | 0.042 | 0.385 | |
| quantifyCTSSs | 0.000 | 0.001 | 0.001 | |
| quantifyCTSSs2 | 0.000 | 0.000 | 0.001 | |
| quantifyClusters | 0.304 | 0.091 | 0.396 | |
| quantifyGenes | 1.074 | 0.107 | 1.180 | |
| quickEnhancers | 0.000 | 0.000 | 0.001 | |
| quickGenes | 0 | 0 | 0 | |
| quickTSSs | 0.000 | 0.001 | 0.000 | |
| shapeEntropy | 0.000 | 0.000 | 0.001 | |
| shapeIQR | 0.000 | 0.001 | 0.000 | |
| shapeMean | 0.001 | 0.000 | 0.000 | |
| shapeMultimodality | 0 | 0 | 0 | |
| subsetByBidirectionality | 0.386 | 0.048 | 0.435 | |
| subsetByComposition | 1.065 | 0.082 | 1.147 | |
| subsetBySupport | 0.063 | 0.003 | 0.066 | |
| swapRanges | 0.157 | 0.004 | 0.162 | |
| swapScores | 0.082 | 0.002 | 0.084 | |
| trackBalance | 0.000 | 0.000 | 0.001 | |
| trackCTSS | 3.160 | 0.393 | 3.554 | |
| trackClusters | 2.184 | 0.255 | 2.439 | |
| trackLinks | 0.819 | 0.438 | 1.002 | |
| trimToPeak | 0.758 | 0.115 | 0.873 | |
| trimToPercentiles | 1.957 | 0.157 | 2.115 | |
| tuneTagClustering | 0.000 | 0.000 | 0.001 | |
| utilsAggregateRows | 0.280 | 0.439 | 0.719 | |
| utilsDeStrand | 0.104 | 0.012 | 0.116 | |
| utilsScoreOverlaps | 0.062 | 0.002 | 0.063 | |
| utilsSimplifyTxDb | 0.001 | 0.000 | 0.001 | |