| Back to Build/check report for BioC 3.23: simplified long |
|
This page was generated on 2025-11-08 11:32 -0500 (Sat, 08 Nov 2025).
| Hostname | OS | Arch (*) | R version | Installed pkgs |
|---|---|---|---|---|
| nebbiolo1 | Linux (Ubuntu 24.04.3 LTS) | x86_64 | R Under development (unstable) (2025-10-20 r88955) -- "Unsuffered Consequences" | 4821 |
| Click on any hostname to see more info about the system (e.g. compilers) (*) as reported by 'uname -p', except on Windows and Mac OS X | ||||
| Package 340/2323 | Hostname | OS / Arch | INSTALL | BUILD | CHECK | BUILD BIN | ||||||||
| chipenrich 2.35.0 (landing page) Kai Wang
| nebbiolo1 | Linux (Ubuntu 24.04.3 LTS) / x86_64 | OK | OK | OK | |||||||||
|
To the developers/maintainers of the chipenrich package: - Allow up to 24 hours (and sometimes 48 hours) for your latest push to git@git.bioconductor.org:packages/chipenrich.git to reflect on this report. See Troubleshooting Build Report for more information. - Use the following Renviron settings to reproduce errors and warnings. - If 'R CMD check' started to fail recently on the Linux builder(s) over a missing dependency, add the missing dependency to 'Suggests:' in your DESCRIPTION file. See Renviron.bioc for more information. |
| Package: chipenrich |
| Version: 2.35.0 |
| Command: /home/biocbuild/bbs-3.23-bioc/R/bin/R CMD check --install=check:chipenrich.install-out.txt --library=/home/biocbuild/bbs-3.23-bioc/R/site-library --timings chipenrich_2.35.0.tar.gz |
| StartedAt: 2025-11-07 21:53:50 -0500 (Fri, 07 Nov 2025) |
| EndedAt: 2025-11-07 22:02:47 -0500 (Fri, 07 Nov 2025) |
| EllapsedTime: 536.8 seconds |
| RetCode: 0 |
| Status: OK |
| CheckDir: chipenrich.Rcheck |
| Warnings: 0 |
##############################################################################
##############################################################################
###
### Running command:
###
### /home/biocbuild/bbs-3.23-bioc/R/bin/R CMD check --install=check:chipenrich.install-out.txt --library=/home/biocbuild/bbs-3.23-bioc/R/site-library --timings chipenrich_2.35.0.tar.gz
###
##############################################################################
##############################################################################
* using log directory ‘/home/biocbuild/bbs-3.23-bioc/meat/chipenrich.Rcheck’
* using R Under development (unstable) (2025-10-20 r88955)
* using platform: x86_64-pc-linux-gnu
* R was compiled by
gcc (Ubuntu 13.3.0-6ubuntu2~24.04) 13.3.0
GNU Fortran (Ubuntu 13.3.0-6ubuntu2~24.04) 13.3.0
* running under: Ubuntu 24.04.3 LTS
* using session charset: UTF-8
* checking for file ‘chipenrich/DESCRIPTION’ ... OK
* checking extension type ... Package
* this is package ‘chipenrich’ version ‘2.35.0’
* checking package namespace information ... OK
* checking package dependencies ... OK
* checking if this is a source package ... OK
* checking if there is a namespace ... OK
* checking for hidden files and directories ... OK
* checking for portable file names ... OK
* checking for sufficient/correct file permissions ... OK
* checking whether package ‘chipenrich’ can be installed ... OK
* checking installed package size ... OK
* checking package directory ... OK
* checking ‘build’ directory ... OK
* checking DESCRIPTION meta-information ... OK
* checking top-level files ... OK
* checking for left-over files ... OK
* checking index information ... OK
* checking package subdirectories ... OK
* checking code files for non-ASCII characters ... OK
* checking R files for syntax errors ... OK
* checking whether the package can be loaded ... OK
* checking whether the package can be loaded with stated dependencies ... OK
* checking whether the package can be unloaded cleanly ... OK
* checking whether the namespace can be loaded with stated dependencies ... OK
* checking whether the namespace can be unloaded cleanly ... OK
* checking loading without being on the library search path ... OK
* checking dependencies in R code ... OK
* checking S3 generic/method consistency ... OK
* checking replacement functions ... OK
* checking foreign function calls ... OK
* checking R code for possible problems ... OK
* checking Rd files ... NOTE
checkRd: (-1) broadenrich.Rd:134: Escaped LaTeX specials: \&
checkRd: (-1) chipenrich.Rd:148: Escaped LaTeX specials: \&
checkRd: (-1) hybridenrich.Rd:111: Escaped LaTeX specials: \&
checkRd: (-1) polyenrich.Rd:148: Escaped LaTeX specials: \&
checkRd: (-1) proxReg.Rd:117: Escaped LaTeX specials: \&
* checking Rd metadata ... OK
* checking Rd cross-references ... OK
* checking for missing documentation entries ... OK
* checking for code/documentation mismatches ... OK
* checking Rd \usage sections ... OK
* checking Rd contents ... OK
* checking for unstated dependencies in examples ... OK
* checking files in ‘vignettes’ ... OK
* checking examples ... OK
Examples with CPU (user + system) or elapsed time > 5s
user system elapsed
broadenrich 7.169 0.139 7.31
* checking for unstated dependencies in ‘tests’ ... OK
* checking tests ...
Running ‘testthat.R’
OK
* checking for unstated dependencies in vignettes ... OK
* checking package vignettes ... OK
* checking re-building of vignette outputs ... OK
* checking PDF version of manual ... OK
* DONE
Status: 1 NOTE
See
‘/home/biocbuild/bbs-3.23-bioc/meat/chipenrich.Rcheck/00check.log’
for details.
chipenrich.Rcheck/00install.out
############################################################################## ############################################################################## ### ### Running command: ### ### /home/biocbuild/bbs-3.23-bioc/R/bin/R CMD INSTALL chipenrich ### ############################################################################## ############################################################################## * installing to library ‘/home/biocbuild/bbs-3.23-bioc/R/site-library’ * installing *source* package ‘chipenrich’ ... ** this is package ‘chipenrich’ version ‘2.35.0’ ** using staged installation ** R ** inst ** byte-compile and prepare package for lazy loading ** help *** installing help indices ** building package indices ** installing vignettes ** testing if installed package can be loaded from temporary location ** testing if installed package can be loaded from final location ** testing if installed package keeps a record of temporary installation path * DONE (chipenrich)
chipenrich.Rcheck/tests/testthat.Rout
R Under development (unstable) (2025-10-20 r88955) -- "Unsuffered Consequences"
Copyright (C) 2025 The R Foundation for Statistical Computing
Platform: x86_64-pc-linux-gnu
R is free software and comes with ABSOLUTELY NO WARRANTY.
You are welcome to redistribute it under certain conditions.
Type 'license()' or 'licence()' for distribution details.
R is a collaborative project with many contributors.
Type 'contributors()' for more information and
'citation()' on how to cite R or R packages in publications.
Type 'demo()' for some demos, 'help()' for on-line help, or
'help.start()' for an HTML browser interface to help.
Type 'q()' to quit R.
> library(testthat)
> library(chipenrich)
>
> test_check("chipenrich")
[ FAIL 0 | WARN 0 | SKIP 3 | PASS 169 ]
══ Skipped tests (3) ═══════════════════════════════════════════════════════════
• empty test (3): 'test_5_chipenrich.R:200:1', 'test_5_chipenrich.R:233:1',
'test_5_chipenrich.R:237:1'
[ FAIL 0 | WARN 0 | SKIP 3 | PASS 169 ]
>
> proc.time()
user system elapsed
164.789 2.597 167.408
chipenrich.Rcheck/chipenrich-Ex.timings
| name | user | system | elapsed | |
| assign_peak_segments | 0.266 | 0.030 | 0.298 | |
| assign_peaks | 0.539 | 0.009 | 0.548 | |
| broadenrich | 7.169 | 0.139 | 7.310 | |
| calc_peak_gene_overlap | 0.260 | 0.004 | 0.264 | |
| chipenrich | 1.359 | 0.013 | 1.374 | |
| load_peaks | 0.057 | 0.000 | 0.057 | |
| num_peaks_per_gene | 0.414 | 0.000 | 0.415 | |
| peaks2genes | 0.449 | 0.011 | 0.460 | |
| plot_chipenrich_spline | 1.281 | 0.058 | 1.340 | |
| plot_dist_to_tss | 0.321 | 0.002 | 0.323 | |
| plot_gene_coverage | 0.656 | 0.003 | 0.658 | |
| plot_polyenrich_spline | 2.645 | 0.087 | 2.732 | |
| polyenrich | 4.929 | 0.017 | 4.946 | |
| proxReg | 0.469 | 0.006 | 0.474 | |
| read_bed | 0.210 | 0.003 | 0.213 | |
| supported_genesets | 0.004 | 0.001 | 0.005 | |
| supported_genomes | 0.002 | 0.000 | 0.002 | |
| supported_locusdefs | 0.004 | 0.002 | 0.006 | |
| supported_methods | 0.001 | 0.000 | 0.001 | |
| supported_read_lengths | 0.006 | 0.000 | 0.006 | |