Back to Build/check report for BioC 3.23:   simplified   long
ABCDEFGHIJKLMNOPQR[S]TUVWXYZ

This page was generated on 2025-11-04 11:32 -0500 (Tue, 04 Nov 2025).

HostnameOSArch (*)R versionInstalled pkgs
nebbiolo1Linux (Ubuntu 24.04.3 LTS)x86_64R Under development (unstable) (2025-10-20 r88955) -- "Unsuffered Consequences" 4788
Click on any hostname to see more info about the system (e.g. compilers)      (*) as reported by 'uname -p', except on Windows and Mac OS X

Package 1958/2323HostnameOS / ArchINSTALLBUILDCHECKBUILD BIN
sesame 1.29.0  (landing page)
Wanding Zhou
Snapshot Date: 2025-11-03 13:40 -0500 (Mon, 03 Nov 2025)
git_url: https://git.bioconductor.org/packages/sesame
git_branch: devel
git_last_commit: 92283cb
git_last_commit_date: 2025-10-29 10:46:05 -0500 (Wed, 29 Oct 2025)
nebbiolo1Linux (Ubuntu 24.04.3 LTS) / x86_64  OK    OK    OK  UNNEEDED, same version is already published


CHECK results for sesame on nebbiolo1

To the developers/maintainers of the sesame package:
- Allow up to 24 hours (and sometimes 48 hours) for your latest push to git@git.bioconductor.org:packages/sesame.git to reflect on this report. See Troubleshooting Build Report for more information.
- Use the following Renviron settings to reproduce errors and warnings.
- If 'R CMD check' started to fail recently on the Linux builder(s) over a missing dependency, add the missing dependency to 'Suggests:' in your DESCRIPTION file. See Renviron.bioc for more information.

raw results


Summary

Package: sesame
Version: 1.29.0
Command: /home/biocbuild/bbs-3.23-bioc/R/bin/R CMD check --install=check:sesame.install-out.txt --library=/home/biocbuild/bbs-3.23-bioc/R/site-library --timings sesame_1.29.0.tar.gz
StartedAt: 2025-11-04 03:28:20 -0500 (Tue, 04 Nov 2025)
EndedAt: 2025-11-04 03:45:26 -0500 (Tue, 04 Nov 2025)
EllapsedTime: 1026.3 seconds
RetCode: 0
Status:   OK  
CheckDir: sesame.Rcheck
Warnings: 0

Command output

##############################################################################
##############################################################################
###
### Running command:
###
###   /home/biocbuild/bbs-3.23-bioc/R/bin/R CMD check --install=check:sesame.install-out.txt --library=/home/biocbuild/bbs-3.23-bioc/R/site-library --timings sesame_1.29.0.tar.gz
###
##############################################################################
##############################################################################


* using log directory ‘/home/biocbuild/bbs-3.23-bioc/meat/sesame.Rcheck’
* using R Under development (unstable) (2025-10-20 r88955)
* using platform: x86_64-pc-linux-gnu
* R was compiled by
    gcc (Ubuntu 13.3.0-6ubuntu2~24.04) 13.3.0
    GNU Fortran (Ubuntu 13.3.0-6ubuntu2~24.04) 13.3.0
* running under: Ubuntu 24.04.3 LTS
* using session charset: UTF-8
* checking for file ‘sesame/DESCRIPTION’ ... OK
* checking extension type ... Package
* this is package ‘sesame’ version ‘1.29.0’
* package encoding: UTF-8
* checking package namespace information ... OK
* checking package dependencies ... OK
* checking if this is a source package ... OK
* checking if there is a namespace ... OK
* checking for hidden files and directories ... OK
* checking for portable file names ... OK
* checking for sufficient/correct file permissions ... OK
* checking whether package ‘sesame’ can be installed ... OK
* checking installed package size ... OK
* checking package directory ... OK
* checking ‘build’ directory ... OK
* checking DESCRIPTION meta-information ... OK
* checking top-level files ... OK
* checking for left-over files ... OK
* checking index information ... OK
* checking package subdirectories ... OK
* checking code files for non-ASCII characters ... OK
* checking R files for syntax errors ... OK
* checking whether the package can be loaded ... OK
* checking whether the package can be loaded with stated dependencies ... OK
* checking whether the package can be unloaded cleanly ... OK
* checking whether the namespace can be loaded with stated dependencies ... OK
* checking whether the namespace can be unloaded cleanly ... OK
* checking loading without being on the library search path ... OK
* checking whether startup messages can be suppressed ... OK
* checking dependencies in R code ... OK
* checking S3 generic/method consistency ... OK
* checking replacement functions ... OK
* checking foreign function calls ... OK
* checking R code for possible problems ... OK
* checking Rd files ... OK
* checking Rd metadata ... OK
* checking Rd cross-references ... OK
* checking for missing documentation entries ... OK
* checking for code/documentation mismatches ... OK
* checking Rd \usage sections ... OK
* checking Rd contents ... OK
* checking for unstated dependencies in examples ... OK
* checking files in ‘vignettes’ ... OK
* checking examples ... OK
Examples with CPU (user + system) or elapsed time > 5s
                                user system elapsed
imputeBetasByGenomicNeighbors 32.027  0.857  32.890
inferSex                      21.450  0.393  21.846
sesameQC_calcStats            19.423  0.170  19.593
imputeBetas                   17.703  0.648  18.355
inferSpecies                  16.825  0.910  17.738
sesameQC_plotHeatSNPs         17.014  0.191  17.205
ELBAR                         14.158  0.190  14.352
diffRefSet                    13.497  0.363  13.864
sesameQC_plotBar              12.067  0.380  12.450
getRefSet                     11.733  0.227  11.961
compareMouseStrainReference   11.344  0.171  11.516
compareReference              11.007  0.378  11.389
matchDesign                   10.993  0.116  11.109
sesameQC_plotBetaByDesign      9.829  0.193  10.024
visualizeGene                  9.095  0.744   9.840
DMR                            8.472  0.339   8.812
sdf_read_table                 7.822  0.206   8.029
inferTissue                    7.702  0.273   7.974
inferStrain                    7.315  0.538   7.853
DML                            7.011  0.409   7.421
dyeBiasNL                      7.225  0.083   7.308
estimateLeukocyte              6.900  0.252   7.153
getMask                        6.557  0.290   6.851
dyeBiasCorrMostBalanced        6.459  0.195   6.656
deIdentify                     5.699  0.130   5.832
probeSuccessRate               5.429  0.247   5.675
openSesame                     5.336  0.272   5.612
createUCSCtrack                5.156  0.282   5.441
* checking for unstated dependencies in ‘tests’ ... OK
* checking tests ...
  Running ‘testthat.R’
 OK
* checking for unstated dependencies in vignettes ... OK
* checking package vignettes ... OK
* checking re-building of vignette outputs ... OK
* checking PDF version of manual ... OK
* DONE

Status: OK


Installation output

sesame.Rcheck/00install.out

##############################################################################
##############################################################################
###
### Running command:
###
###   /home/biocbuild/bbs-3.23-bioc/R/bin/R CMD INSTALL sesame
###
##############################################################################
##############################################################################


* installing to library ‘/home/biocbuild/bbs-3.23-bioc/R/site-library’
* installing *source* package ‘sesame’ ...
** this is package ‘sesame’ version ‘1.29.0’
** using staged installation
** R
** inst
** byte-compile and prepare package for lazy loading
** help
*** installing help indices
** building package indices
** installing vignettes
** testing if installed package can be loaded from temporary location
** testing if installed package can be loaded from final location
** testing if installed package keeps a record of temporary installation path
* DONE (sesame)

Tests output

sesame.Rcheck/tests/testthat.Rout


R Under development (unstable) (2025-10-20 r88955) -- "Unsuffered Consequences"
Copyright (C) 2025 The R Foundation for Statistical Computing
Platform: x86_64-pc-linux-gnu

R is free software and comes with ABSOLUTELY NO WARRANTY.
You are welcome to redistribute it under certain conditions.
Type 'license()' or 'licence()' for distribution details.

R is a collaborative project with many contributors.
Type 'contributors()' for more information and
'citation()' on how to cite R or R packages in publications.

Type 'demo()' for some demos, 'help()' for on-line help, or
'help.start()' for an HTML browser interface to help.
Type 'q()' to quit R.

> library(testthat)
> library(sesame)
Loading required package: sesameData
Loading required package: ExperimentHub
Loading required package: BiocGenerics
Loading required package: generics

Attaching package: 'generics'

The following objects are masked from 'package:base':

    as.difftime, as.factor, as.ordered, intersect, is.element, setdiff,
    setequal, union


Attaching package: 'BiocGenerics'

The following objects are masked from 'package:stats':

    IQR, mad, sd, var, xtabs

The following objects are masked from 'package:base':

    Filter, Find, Map, Position, Reduce, anyDuplicated, aperm, append,
    as.data.frame, basename, cbind, colnames, dirname, do.call,
    duplicated, eval, evalq, get, grep, grepl, is.unsorted, lapply,
    mapply, match, mget, order, paste, pmax, pmax.int, pmin, pmin.int,
    rank, rbind, rownames, sapply, saveRDS, table, tapply, unique,
    unsplit, which.max, which.min

Loading required package: AnnotationHub
Loading required package: BiocFileCache
Loading required package: dbplyr
Loading sesameData.

----------------------------------------------------------
| SEnsible Step-wise Analysis of DNA MEthylation (SeSAMe)
| --------------------------------------------------------
| Please cache auxiliary data by "sesameDataCache()".
| This needs to be done only once per SeSAMe installation.
----------------------------------------------------------

> 
> test_check("sesame")
[ FAIL 0 | WARN 0 | SKIP 0 | PASS 5 ]
> 
> proc.time()
   user  system elapsed 
 19.450   1.096  20.534 

Example timings

sesame.Rcheck/sesame-Ex.timings

nameusersystemelapsed
BetaValueToMValue0.0000.0010.001
DML7.0110.4097.421
DMLpredict1.2800.1041.383
DMR8.4720.3398.812
ELBAR14.158 0.19014.352
MValueToBetaValue000
SigDF0.3720.0410.412
addMask0.0980.0000.098
betasCollapseToPfx0.0120.0000.012
bisConversionControl4.3640.1394.504
calcEffectSize1.3230.0641.388
checkLevels4.0550.0944.151
cnSegmentation0.2990.0420.342
compareMouseStrainReference11.344 0.17111.516
compareMouseTissueReference0.0000.0000.001
compareReference11.007 0.37811.389
controls2.0680.1612.229
createUCSCtrack5.1560.2825.441
deIdentify5.6990.1305.832
detectionPnegEcdf0.8960.0010.898
diffRefSet13.497 0.36313.864
dmContrasts1.9930.0772.072
dyeBiasCorr2.7990.1202.920
dyeBiasCorrMostBalanced6.4590.1956.656
dyeBiasL2.4840.1022.585
dyeBiasNL7.2250.0837.308
estimateLeukocyte6.9000.2527.153
formatVCF2.2140.1352.350
getAFTypeIbySumAlleles1.7560.1421.899
getAFs1.0670.0461.113
getBetas0.9040.0440.947
getMask6.5570.2906.851
getRefSet11.733 0.22711.961
imputeBetas17.703 0.64818.355
imputeBetasByGenomicNeighbors32.027 0.85732.890
imputeBetasMatrixByMean0.0020.0000.001
inferEthnicity0.0010.0000.001
inferInfiniumIChannel0.2580.5730.830
inferSex21.450 0.39321.846
inferSpecies16.825 0.91017.738
inferStrain7.3150.5387.853
inferTissue7.7020.2737.974
initFileSet1.330.071.40
listAvailableMasks1.3930.0821.476
mLiftOver0.0000.0010.002
mapFileSet0.0340.0020.036
mapToMammal403.0050.1843.191
matchDesign10.993 0.11611.109
meanIntensity2.8130.1352.948
medianTotalIntensity0.9100.0490.959
noMasked3.6850.1473.832
noob2.2040.0362.241
openSesame5.3360.2725.612
openSesameToFile1.4880.0111.499
pOOBAH1.2450.0181.263
palgen0.0350.0040.038
parseGEOsignalMU3.0000.1073.108
predictAge2.5870.1112.698
predictAgeHorvath353000
predictAgeSkinBlood000
predictMouseAgeInMonth000
prefixMask0.4070.0030.411
prefixMaskButC0.1240.0010.125
prefixMaskButCG0.0510.0000.051
prepSesame4.1610.1584.319
prepSesameList0.0010.0010.002
print.DMLSummary3.3800.2353.614
print.fileSet1.3190.0801.399
probeID_designType0.0010.0000.000
probeSuccessRate5.4290.2475.675
qualityMask3.2490.1523.401
reIdentify4.4860.0914.576
readFileSet0.0510.0000.051
readIDATpair0.1120.0010.113
recommendedMaskNames0.0000.0000.001
resetMask0.3890.0540.443
scrub2.1560.1222.277
scrubSoft3.1370.0493.186
sdfPlatform0.3240.0430.366
sdf_read_table7.8220.2068.029
sdf_write_table1.7230.0691.845
searchIDATprefixes0.0060.0000.006
sesame-package2.5030.0982.601
sesameAnno_attachManifest0.0000.0000.001
sesameAnno_buildAddressFile0.0000.0010.000
sesameAnno_buildManifestGRanges000
sesameAnno_download0.0000.0000.001
sesameAnno_readManifestTSV0.0010.0000.000
sesameQC_calcStats19.423 0.17019.593
sesameQC_getStats1.7200.0131.733
sesameQC_plotBar12.067 0.38012.450
sesameQC_plotBetaByDesign 9.829 0.19310.024
sesameQC_plotHeatSNPs17.014 0.19117.205
sesameQC_plotIntensVsBetas2.2180.0702.297
sesameQC_plotRedGrnQQ1.6550.0691.724
sesameQC_rankStats3.4880.1373.626
sesameQCtoDF1.6440.0001.645
sesame_checkVersion0.0040.0000.004
sesamize0.0000.0000.001
setMask0.1010.0010.101
signalMU0.9380.0570.994
sliceFileSet0.0320.0020.034
summaryExtractTest2.9380.2703.208
totalIntensities2.6060.1552.762
updateSigDF3.3490.3223.672
visualizeGene9.0950.7449.840
visualizeProbes1.1760.1141.291
visualizeRegion0.3350.0300.365
visualizeSegments1.8680.2152.083