| Back to Build/check report for BioC 3.23: simplified long |
|
This page was generated on 2025-11-08 11:32 -0500 (Sat, 08 Nov 2025).
| Hostname | OS | Arch (*) | R version | Installed pkgs |
|---|---|---|---|---|
| nebbiolo1 | Linux (Ubuntu 24.04.3 LTS) | x86_64 | R Under development (unstable) (2025-10-20 r88955) -- "Unsuffered Consequences" | 4821 |
| Click on any hostname to see more info about the system (e.g. compilers) (*) as reported by 'uname -p', except on Windows and Mac OS X | ||||
| Package 525/2323 | Hostname | OS / Arch | INSTALL | BUILD | CHECK | BUILD BIN | ||||||||
| decompTumor2Sig 2.27.0 (landing page) Rosario M. Piro
| nebbiolo1 | Linux (Ubuntu 24.04.3 LTS) / x86_64 | OK | OK | OK | |||||||||
|
To the developers/maintainers of the decompTumor2Sig package: - Allow up to 24 hours (and sometimes 48 hours) for your latest push to git@git.bioconductor.org:packages/decompTumor2Sig.git to reflect on this report. See Troubleshooting Build Report for more information. - Use the following Renviron settings to reproduce errors and warnings. - If 'R CMD check' started to fail recently on the Linux builder(s) over a missing dependency, add the missing dependency to 'Suggests:' in your DESCRIPTION file. See Renviron.bioc for more information. |
| Package: decompTumor2Sig |
| Version: 2.27.0 |
| Command: /home/biocbuild/bbs-3.23-bioc/R/bin/R CMD check --install=check:decompTumor2Sig.install-out.txt --library=/home/biocbuild/bbs-3.23-bioc/R/site-library --timings decompTumor2Sig_2.27.0.tar.gz |
| StartedAt: 2025-11-07 22:46:33 -0500 (Fri, 07 Nov 2025) |
| EndedAt: 2025-11-07 22:57:46 -0500 (Fri, 07 Nov 2025) |
| EllapsedTime: 673.8 seconds |
| RetCode: 0 |
| Status: OK |
| CheckDir: decompTumor2Sig.Rcheck |
| Warnings: 0 |
##############################################################################
##############################################################################
###
### Running command:
###
### /home/biocbuild/bbs-3.23-bioc/R/bin/R CMD check --install=check:decompTumor2Sig.install-out.txt --library=/home/biocbuild/bbs-3.23-bioc/R/site-library --timings decompTumor2Sig_2.27.0.tar.gz
###
##############################################################################
##############################################################################
* using log directory ‘/home/biocbuild/bbs-3.23-bioc/meat/decompTumor2Sig.Rcheck’
* using R Under development (unstable) (2025-10-20 r88955)
* using platform: x86_64-pc-linux-gnu
* R was compiled by
gcc (Ubuntu 13.3.0-6ubuntu2~24.04) 13.3.0
GNU Fortran (Ubuntu 13.3.0-6ubuntu2~24.04) 13.3.0
* running under: Ubuntu 24.04.3 LTS
* using session charset: UTF-8
* checking for file ‘decompTumor2Sig/DESCRIPTION’ ... OK
* checking extension type ... Package
* this is package ‘decompTumor2Sig’ version ‘2.27.0’
* package encoding: UTF-8
* checking package namespace information ... OK
* checking package dependencies ... OK
* checking if this is a source package ... OK
* checking if there is a namespace ... OK
* checking for hidden files and directories ... OK
* checking for portable file names ... OK
* checking for sufficient/correct file permissions ... OK
* checking whether package ‘decompTumor2Sig’ can be installed ... OK
* checking installed package size ... OK
* checking package directory ... OK
* checking ‘build’ directory ... OK
* checking DESCRIPTION meta-information ... OK
* checking top-level files ... OK
* checking for left-over files ... OK
* checking index information ... OK
* checking package subdirectories ... OK
* checking code files for non-ASCII characters ... OK
* checking R files for syntax errors ... OK
* checking whether the package can be loaded ... OK
* checking whether the package can be loaded with stated dependencies ... OK
* checking whether the package can be unloaded cleanly ... OK
* checking whether the namespace can be loaded with stated dependencies ... OK
* checking whether the namespace can be unloaded cleanly ... OK
* checking loading without being on the library search path ... OK
* checking whether startup messages can be suppressed ... OK
* checking dependencies in R code ... OK
* checking S3 generic/method consistency ... OK
* checking replacement functions ... OK
* checking foreign function calls ... OK
* checking R code for possible problems ... OK
* checking Rd files ... OK
* checking Rd metadata ... OK
* checking Rd cross-references ... OK
* checking for missing documentation entries ... OK
* checking for code/documentation mismatches ... OK
* checking Rd \usage sections ... OK
* checking Rd contents ... OK
* checking for unstated dependencies in examples ... OK
* checking files in ‘vignettes’ ... OK
* checking examples ... OK
Examples with CPU (user + system) or elapsed time > 5s
user system elapsed
plotExplainedVariance 66.471 0.923 67.398
convertGenomesFromVRanges 7.015 1.159 8.201
adjustSignaturesForRegionSet 5.218 0.919 12.356
* checking for unstated dependencies in vignettes ... OK
* checking package vignettes ... OK
* checking re-building of vignette outputs ... OK
* checking PDF version of manual ... OK
* DONE
Status: OK
decompTumor2Sig.Rcheck/00install.out
############################################################################## ############################################################################## ### ### Running command: ### ### /home/biocbuild/bbs-3.23-bioc/R/bin/R CMD INSTALL decompTumor2Sig ### ############################################################################## ############################################################################## * installing to library ‘/home/biocbuild/bbs-3.23-bioc/R/site-library’ * installing *source* package ‘decompTumor2Sig’ ... ** this is package ‘decompTumor2Sig’ version ‘2.27.0’ ** using staged installation ** R ** inst ** byte-compile and prepare package for lazy loading ** help *** installing help indices ** building package indices ** installing vignettes ** testing if installed package can be loaded from temporary location ** testing if installed package can be loaded from final location ** testing if installed package keeps a record of temporary installation path * DONE (decompTumor2Sig)
decompTumor2Sig.Rcheck/decompTumor2Sig-Ex.timings
| name | user | system | elapsed | |
| adjustSignaturesForRegionSet | 5.218 | 0.919 | 12.356 | |
| composeGenomesFromExposures | 0.261 | 0.046 | 0.855 | |
| computeExplainedVariance | 0.302 | 0.062 | 0.910 | |
| convertAlexandrov2Shiraishi | 0.130 | 0.008 | 1.071 | |
| convertGenomesFromVRanges | 7.015 | 1.159 | 8.201 | |
| decomposeTumorGenomes | 2.937 | 0.604 | 4.086 | |
| determineSignatureDistances | 0.117 | 0.021 | 1.064 | |
| downgradeShiraishiSignatures | 0.006 | 0.002 | 0.009 | |
| evaluateDecompositionQuality | 0.237 | 0.013 | 1.033 | |
| getGenomesFromMutFeatData | 0.393 | 0.027 | 0.422 | |
| getSignaturesFromEstParam | 0.122 | 0.003 | 0.127 | |
| isAlexandrovSet | 0.073 | 0.015 | 0.632 | |
| isExposureSet | 2.834 | 0.683 | 4.118 | |
| isShiraishiSet | 0.134 | 0.026 | 0.889 | |
| isSignatureSet | 0.099 | 0.012 | 0.703 | |
| mapSignatureSets | 0.171 | 0.014 | 0.727 | |
| plotDecomposedContribution | 0.681 | 0.059 | 1.365 | |
| plotExplainedVariance | 66.471 | 0.923 | 67.398 | |
| plotMutationDistribution | 2.925 | 0.008 | 3.538 | |
| readAlexandrovSignatures | 0.093 | 0.003 | 0.643 | |
| readGenomesFromMPF | 3.218 | 0.841 | 4.065 | |
| readGenomesFromVCF | 3.602 | 0.528 | 4.148 | |
| readShiraishiSignatures | 0.003 | 0.003 | 0.005 | |
| sameSignatureFormat | 0.134 | 0.016 | 0.688 | |