Back to Multiple platform build/check report for BioC 3.23:   simplified   long
AB[C]DEFGHIJKLMNOPQRSTUVWXYZ

This page was generated on 2025-11-26 11:37 -0500 (Wed, 26 Nov 2025).

HostnameOSArch (*)R versionInstalled pkgs
nebbiolo1Linux (Ubuntu 24.04.3 LTS)x86_64R Under development (unstable) (2025-10-20 r88955) -- "Unsuffered Consequences" 4830
lconwaymacOS 12.7.6 Montereyx86_64R Under development (unstable) (2025-10-21 r88958) -- "Unsuffered Consequences" 4609
kjohnson3macOS 13.7.7 Venturaarm64R Under development (unstable) (2025-11-04 r88984) -- "Unsuffered Consequences" 4569
Click on any hostname to see more info about the system (e.g. compilers)      (*) as reported by 'uname -p', except on Windows and Mac OS X

Package 438/2328HostnameOS / ArchINSTALLBUILDCHECKBUILD BIN
conumee 1.45.0  (landing page)
Volker Hovestadt
Snapshot Date: 2025-11-25 13:40 -0500 (Tue, 25 Nov 2025)
git_url: https://git.bioconductor.org/packages/conumee
git_branch: devel
git_last_commit: 88ddea1
git_last_commit_date: 2025-10-29 10:25:31 -0500 (Wed, 29 Oct 2025)
nebbiolo1Linux (Ubuntu 24.04.3 LTS) / x86_64  OK    OK    OK  UNNEEDED, same version is already published
lconwaymacOS 12.7.6 Monterey / x86_64  OK    OK    OK    OK  NO, package depends on 'rtracklayer' which is only available as a source package that needs compilation
kjohnson3macOS 13.7.7 Ventura / arm64  OK    OK    OK    OK  NO, package depends on 'rtracklayer' which is only available as a source package that needs compilation


CHECK results for conumee on nebbiolo1

To the developers/maintainers of the conumee package:
- Allow up to 24 hours (and sometimes 48 hours) for your latest push to git@git.bioconductor.org:packages/conumee.git to reflect on this report. See Troubleshooting Build Report for more information.
- Use the following Renviron settings to reproduce errors and warnings.
- If 'R CMD check' started to fail recently on the Linux builder(s) over a missing dependency, add the missing dependency to 'Suggests:' in your DESCRIPTION file. See Renviron.bioc for more information.

raw results


Summary

Package: conumee
Version: 1.45.0
Command: /home/biocbuild/bbs-3.23-bioc/R/bin/R CMD check --install=check:conumee.install-out.txt --library=/home/biocbuild/bbs-3.23-bioc/R/site-library --timings conumee_1.45.0.tar.gz
StartedAt: 2025-11-25 22:21:23 -0500 (Tue, 25 Nov 2025)
EndedAt: 2025-11-25 22:46:30 -0500 (Tue, 25 Nov 2025)
EllapsedTime: 1506.9 seconds
RetCode: 0
Status:   OK  
CheckDir: conumee.Rcheck
Warnings: 0

Command output

##############################################################################
##############################################################################
###
### Running command:
###
###   /home/biocbuild/bbs-3.23-bioc/R/bin/R CMD check --install=check:conumee.install-out.txt --library=/home/biocbuild/bbs-3.23-bioc/R/site-library --timings conumee_1.45.0.tar.gz
###
##############################################################################
##############################################################################


* using log directory ‘/home/biocbuild/bbs-3.23-bioc/meat/conumee.Rcheck’
* using R Under development (unstable) (2025-10-20 r88955)
* using platform: x86_64-pc-linux-gnu
* R was compiled by
    gcc (Ubuntu 13.3.0-6ubuntu2~24.04) 13.3.0
    GNU Fortran (Ubuntu 13.3.0-6ubuntu2~24.04) 13.3.0
* running under: Ubuntu 24.04.3 LTS
* using session charset: UTF-8
* checking for file ‘conumee/DESCRIPTION’ ... OK
* this is package ‘conumee’ version ‘1.45.0’
* checking package namespace information ... OK
* checking package dependencies ... OK
* checking if this is a source package ... OK
* checking if there is a namespace ... OK
* checking for hidden files and directories ... NOTE
Found the following hidden files and directories:
  .BBSoptions
These were most likely included in error. See section ‘Package
structure’ in the ‘Writing R Extensions’ manual.
* checking for portable file names ... OK
* checking for sufficient/correct file permissions ... OK
* checking whether package ‘conumee’ can be installed ... OK
* checking installed package size ... OK
* checking package directory ... OK
* checking ‘build’ directory ... OK
* checking DESCRIPTION meta-information ... OK
* checking top-level files ... OK
* checking for left-over files ... OK
* checking index information ... OK
* checking package subdirectories ... OK
* checking code files for non-ASCII characters ... OK
* checking R files for syntax errors ... OK
* checking whether the package can be loaded ... OK
* checking whether the package can be loaded with stated dependencies ... OK
* checking whether the package can be unloaded cleanly ... OK
* checking whether the namespace can be loaded with stated dependencies ... OK
* checking whether the namespace can be unloaded cleanly ... OK
* checking loading without being on the library search path ... OK
* checking dependencies in R code ... OK
* checking S3 generic/method consistency ... OK
* checking replacement functions ... OK
* checking foreign function calls ... OK
* checking R code for possible problems ... NOTE
CNV.load,GenomicRatioSet: no visible global function definition for
  ‘assays’
CNV.load,matrix: no visible binding for global variable ‘anno’
Undefined global functions or variables:
  anno assays
* checking Rd files ... OK
* checking Rd metadata ... OK
* checking Rd cross-references ... OK
* checking for missing documentation entries ... OK
* checking for code/documentation mismatches ... OK
* checking Rd \usage sections ... OK
* checking Rd contents ... OK
* checking for unstated dependencies in examples ... OK
* checking contents of ‘data’ directory ... OK
* checking data for non-ASCII characters ... OK
* checking data for ASCII and uncompressed saves ... OK
* checking R/sysdata.rda ... OK
* checking files in ‘vignettes’ ... OK
* checking examples ... OK
Examples with CPU (user + system) or elapsed time > 5s
                      user system elapsed
CNV.write           61.864  2.245  64.112
CNV.genomeplot      57.166  2.205  59.375
CNV.detailplot_wrap 54.071  1.765  55.840
CNV.detailplot      53.850  1.720  55.586
CNV.segment         53.346  1.465  54.867
CNV.analysis-class  52.625  1.484  54.119
CNV.fit             30.746  0.844  31.593
CNV.detail          27.763  0.304  28.075
CNV.bin             26.874  0.543  27.419
CNV.anno-class      26.374  0.524  26.898
CNV.create_anno     23.096  0.386  23.482
read.450k.url        8.390  0.484  13.070
* checking for unstated dependencies in vignettes ... OK
* checking package vignettes ... OK
* checking re-building of vignette outputs ... OK
* checking PDF version of manual ... OK
* DONE

Status: 2 NOTEs
See
  ‘/home/biocbuild/bbs-3.23-bioc/meat/conumee.Rcheck/00check.log’
for details.


Installation output

conumee.Rcheck/00install.out

##############################################################################
##############################################################################
###
### Running command:
###
###   /home/biocbuild/bbs-3.23-bioc/R/bin/R CMD INSTALL conumee
###
##############################################################################
##############################################################################


* installing to library ‘/home/biocbuild/bbs-3.23-bioc/R/site-library’
* installing *source* package ‘conumee’ ...
** this is package ‘conumee’ version ‘1.45.0’
** using staged installation
** R
** data
** inst
** byte-compile and prepare package for lazy loading
** help
*** installing help indices
** building package indices
** installing vignettes
** testing if installed package can be loaded from temporary location
** testing if installed package can be loaded from final location
** testing if installed package keeps a record of temporary installation path
* DONE (conumee)

Tests output


Example timings

conumee.Rcheck/conumee-Ex.timings

nameusersystemelapsed
CNV.analysis-class52.625 1.48454.119
CNV.anno-class26.374 0.52426.898
CNV.bin26.874 0.54327.419
CNV.create_anno23.096 0.38623.482
CNV.data-class1.3310.0851.416
CNV.detail27.763 0.30428.075
CNV.detailplot53.850 1.72055.586
CNV.detailplot_wrap54.071 1.76555.840
CNV.fit30.746 0.84431.593
CNV.genomeplot57.166 2.20559.375
CNV.load1.890.342.23
CNV.segment53.346 1.46554.867
CNV.write61.864 2.24564.112
read.450k.url 8.390 0.48413.070