| Package STATUS - Package status is indicated by one of the following glyphs: | 
| -  TIMEOUT | BUILD, CHECK or BUILD BIN of package took more than 40 minutes | 
| -  ERROR | BUILD, CHECK or BUILD BIN of package returned an error | 
| -  WARNINGS | CHECK of package produced warnings | 
| -  OK | BUILD, CHECK or BUILD BIN of package was OK | 
| - skipped | CHECK or BUILD BIN of package was skipped because the BUILD step failed (or because something bad happened with the Build System itself) | 
| Click on any glyph in the report below to see the status details (command output). | 
| wilson1 | Linux (openSUSE 11.1) / x86_64 |  |  |  | 
| liverpool | Windows Server 2003 R2 (32-bit) / x64 |  |  |  | 
| [pelham] | Mac OS X Leopard (10.5.8) / i386 |  |  |  | 
|  | 
| affydata 1.11.10 | Laurent | OK | OK | OK | 
| AffymetrixDataTestFiles 0.1.2 | Henrik Bengtsson | OK | OK | OK | 
| ALL 1.4.7 | Xiaochun Li | OK | OK | OK | 
| ALLMLL 1.2.8 | B. M. Bolstad | OK | OK | OK | 
| AmpAffyExample 1.2.5 | Rafael A. Irizarry | OK | OK | OK | 
| beta7 1.0.0 | Jean Yang | OK | OK | OK | 
| bronchialIL13 1.0-6 | Vince Carey | OK | OK | OK | 
| CCl4 1.0.9 | Audrey Kauffmann | OK | OK | OK | 
| ccTutorial 1.0.17 | Joern Toedling | OK | OK | OK | 
| ceu1kg 0.0.12 | VJ Carey | ERROR | skipped | skipped | 
| ceuhm3 0.0.3 | VJ Carey | OK | OK | OK | 
| charmData 0.99.1 | Martin Aryee | OK | WARNINGS | OK | 
| CLL 1.2.8 | Robert Gentleman | OK | OK | OK | 
| colonCA 1.4.5 | W Sylvia Merk | OK | OK | OK | 
| davidTiling 1.2.12 | Wolfgang Huber | OK | OK | OK | 
| DLBCL 1.3.1 | Marcus Dittrich | OK | OK | OK | 
| dressCheck 0.0.15 | Vincent Carey | OK | WARNINGS | OK | 
| dyebiasexamples 1.0.6 | Philip Lijnzaad | OK | OK | OK | 
| EatonEtAlChIPseq 0.0.1 | Patrick Aboyoun | OK | OK | OK | 
| ecoliLeucine 1.2.5 | Laurent Gautier | OK | OK | OK | 
| encoDnaseI 0.1-4 | VJ Carey | OK | WARNINGS | OK | 
| estrogen 1.8.5 | R. Gentleman | OK | OK | OK | 
| faahKO 1.2.5 | Colin A. Smith | OK | WARNINGS | OK | 
| facsDorit 1.4.2 | Florian Hahne | OK | OK | OK | 
| fibroEset 1.4.4 | Sylvia Merk | OK | OK | OK | 
| frmaExampleData 0.99.0 | Matthew N. McCall | OK | OK | OK | 
| gaschYHS 1.0.3 | Vince Carey | OK | OK | OK | 
| gatingMLData 1.0.2 | Nishant Gopalakrishnan | OK | OK | OK | 
| gcspikelite 1.0.2 | Mark Robinson | OK | OK | OK | 
| geneLenDataBase 0.99.4 | Matthew Young | OK | TIMEOUT | OK | 
| GenomicFeatures.Hsapiens.UCSC.hg18 0.1.2 | Biocore Data Team | OK | OK | OK | 
| GenomicFeatures.Mmusculus.UCSC.mm9 0.1.2 | Biocore Data Team | OK | OK | OK | 
| GGdata 1.0.4 | VJ Carey | OK | OK | OK | 
| golubEsets 1.4.7 | Vince Carey | OK | OK | OK | 
| hapmap100khind 1.3.32 | Benilton Carvalho | OK | OK | OK | 
| hapmap100kxba 1.3.3 | Benilton Carvalho | OK | OK | OK | 
| hapmap500knsp 1.3.3 | Benilton Carvalho | OK | OK | OK | 
| hapmap500ksty 1.3.3 | Benilton Carvalho | OK | OK | OK | 
| hapmapsnp5 1.3.3 | Benilton Carvalho | OK | OK | OK | 
| hapmapsnp6 1.3.3 | Benilton Carvalho | OK | OK | OK | 
| harbChIP 1.0.5 | VJ Carey | OK | OK | OK | 
| HEEBOdata 1.0.0 | Agnes Paquet | OK | OK | OK | 
| hgu133abarcodevecs 0.0.3 | Matthew N. McCall | OK | OK | OK | 
| hgu133afrmavecs 1.0.0 | Matthew N. McCall | OK | OK | OK | 
| hgu133plus2barcodevecs 0.0.3 | Matthew N. McCall | OK | OK | OK | 
| hgu133plus2frmavecs 1.0.0 | Matthew N. McCall | OK | ERROR | OK | 
| hgu2beta7 1.2.2 | Biocore Team c/o BioC user list | OK | OK | OK | 
| HIVcDNAvantWout03 1.2.3 | Chris Fraley | OK | OK | OK | 
| hmyriB36 0.99.4 | Vincent Carey | OK | OK | OK | 
| humanStemCell 0.2.3 | R. Gentleman | OK | OK | OK | 
| ind1KG 0.1.3 | VJ Carey | OK | OK | OK | 
| ITALICSData 2.0.1 | Guillem Rigaill | OK | OK | OK | 
| Iyer517 1.4.4 | Vince Carey | OK | OK | OK | 
| kidpack 1.5.7 | Wolfgang Huber | OK | OK | OK | 
| leeBamViews 0.99.7 | VJ Carey | ERROR | skipped | skipped | 
| lumiBarnes 1.3.4 | Pan Du | OK | OK | OK | 
| lungExpression 0.0.10 | Robert Scharpf | OK | OK | OK | 
| maqcExpression4plex 1.2.0 | Benilton Carvalho | OK | OK | OK | 
| MAQCsubset 1.0.19 | VJ Carey | OK | WARNINGS | OK | 
| MAQCsubsetAFX 1.0.3 | Laurent Gatto | OK | OK | OK | 
| MAQCsubsetILM 1.0.2 | Laurent Gatto | OK | OK | OK | 
| MEEBOdata 1.0.0 | Agnes Paquet | OK | OK | OK | 
| mouse4302barcodevecs 0.0.3 | Matthew N. McCall | OK | OK | OK | 
| mouse4302frmavecs 1.0.0 | Matthew N. McCall | OK | ERROR | OK | 
| msdata 0.1.4 | Steffen Neumann | OK | OK | OK | 
| mvoutData 0.99.4 | VJ Carey | OK | OK | OK | 
| Neve2006 0.1.9 | VJ Carey | OK | OK | OK | 
| ppiData 0.1.14 | Tony Chiang | OK | OK | OK | 
| ProData 1.0.3 | Xiaochun Li | OK | OK | OK | 
| pumadata 1.0.3 | Richard Pearson | OK | WARNINGS | OK | 
| rfcdmin 1.6.11 | N. Le Meur | OK | OK | OK | 
| SNAData 1.8.1 | Denise Scholtens | OK | OK | OK | 
| SpikeIn 1.4.4 | Rafael A. Irizarry | OK | OK | OK | 
| SpikeInSubset 1.2.8 | Rafael A. Irizarry | OK | OK | OK | 
| stjudem 1.2.2 | Joern Toedling | OK | OK | OK | 
| TargetSearchData 1.0.1 | Alvaro Cuadros-Inostroza | OK | OK | OK | 
| tinesath1cdf 1.0.3 | Tine Casneuf | OK | OK | OK | 
| tinesath1probe 1.0.2 | Tine Casneuf | OK | OK | OK | 
| XhybCasneuf 1.0.6 | Tineke Casneuf | OK | OK | OK | 
| yeastCC 1.2.11 | Sandrine Dudoit | OK | WARNINGS | OK | 
| yeastExpData 0.9.17 | R. Gentleman | OK | WARNINGS | OK | 
| yeastGSData 0.1.5 | R. Gentleman | OK | OK | OK | 
| yeastRNASeq 0.0.3 | J. Bullard | OK | OK | OK |