| yeastExpData 0.9.17 R. Gentleman
 
 | Snapshot Date: 2010-09-24 00:28:34 -0700 (Fri, 24 Sep 2010) |  | URL: https://hedgehog.fhcrc.org/bioc-data/trunk/experiment/pkgs/yeastExpData |  | Last Changed Rev: 1099 / Revision: 1309 |  | Last Changed Date: 2009-12-03 10:39:42 -0800 (Thu, 03 Dec 2009) | 
 | wilson1 | Linux (openSUSE 11.1) / x86_64 | OK | WARNINGS |  | 
| liverpool | Windows Server 2003 R2 (32-bit) / x64 | OK | WARNINGS | OK | 
| pelham | Mac OS X Leopard (10.5.8) / i386 | [ OK ] | WARNINGS | OK | 
* checking for file 'yeastExpData/DESCRIPTION' ... OK
* preparing 'yeastExpData':
* checking DESCRIPTION meta-information ... OK
* installing the package to re-build vignettes
* installing *source* package ‘yeastExpData’ ...
** data
** inst
** help
*** installing help indices
** building package indices ...
** testing if installed package can be loaded
* DONE (yeastExpData)
* creating vignettes ... OK
* removing junk files
* checking for LF line-endings in source and make files
* checking for empty or unneeded directories
* building 'yeastExpData_0.9.17.tar.gz'