| Back to the "Multiple platform build/check report" | 
| Package 34/83 | Hostname | OS / Arch | BUILD | CHECK | BUILD BIN | ||||
| golubEsets 1.4.7 Vince Carey 
 | wilson1 | Linux (openSUSE 11.1) / x86_64 | OK | OK | |||||
| liverpool | Windows Server 2003 R2 (32-bit) / x64 | OK | OK | OK | |||||
| pelham | Mac OS X Leopard (10.5.8) / i386 | OK | OK | [ OK ] | 
| Package: golubEsets | 
| Version: 1.4.7 | 
| Command: /Users/biocbuild/BBS/utils/build-universal.sh golubEsets_1.4.7.tar.gz /Library/Frameworks/R.framework/Versions/2.11/Resources/bin/R golubEsets.buildbin-libdir | 
| StartedAt: 2010-09-24 04:35:21 -0700 (Fri, 24 Sep 2010) | 
| EndedAt: 2010-09-24 04:35:32 -0700 (Fri, 24 Sep 2010) | 
| EllapsedTime: 10.8 seconds | 
| RetCode: 0 | 
| Status: OK | 
| PackageFile: golubEsets_1.4.7.tgz | 
| PackageFileSize: 8.006 MiB | 
                INSTALLATION WITH 'R CMD INSTALL --preclean --library=golubEsets.buildbin-libdir golubEsets_1.4.7.tar.gz'
* installing *source* package ‘golubEsets’ ...
** data
** help
*** installing help indices
** building package indices ...
** testing if installed package can be loaded
* DONE (golubEsets)