| Back to the "Multiple platform build/check report" | 
| Package 47/83 | Hostname | OS / Arch | BUILD | CHECK | BUILD BIN | ||||
| hgu2beta7 1.2.2 Biocore Team c/o BioC user list 
 | wilson1 | Linux (openSUSE 11.1) / x86_64 | OK | OK | |||||
| liverpool | Windows Server 2003 R2 (32-bit) / x64 | OK | OK | OK | |||||
| pelham | Mac OS X Leopard (10.5.8) / i386 | [ OK ] | OK | OK | 
| Package: hgu2beta7 | 
| Version: 1.2.2 | 
| Command: /Library/Frameworks/R.framework/Versions/2.11/Resources/bin/R CMD build hgu2beta7 | 
| StartedAt: 2010-09-24 02:00:32 -0700 (Fri, 24 Sep 2010) | 
| EndedAt: 2010-09-24 02:00:36 -0700 (Fri, 24 Sep 2010) | 
| EllapsedTime: 3.8 seconds | 
| RetCode: 0 | 
| Status: OK | 
| PackageFile: hgu2beta7_1.2.2.tar.gz | 
| PackageFileSize: 6.406 MiB | 
* checking for file 'hgu2beta7/DESCRIPTION' ... OK * preparing 'hgu2beta7': * checking DESCRIPTION meta-information ... OK * removing junk files * checking for LF line-endings in source and make files * checking for empty or unneeded directories * building 'hgu2beta7_1.2.2.tar.gz'