| Back to the "Multiple platform build/check report" | 
| Package 16/83 | Hostname | OS / Arch | BUILD | CHECK | BUILD BIN | ||||
| DLBCL 1.3.1 Marcus Dittrich 
 | wilson1 | Linux (openSUSE 11.1) / x86_64 | OK | OK | |||||
| liverpool | Windows Server 2003 R2 (32-bit) / x64 | OK | OK | OK | |||||
| pelham | Mac OS X Leopard (10.5.8) / i386 | OK | OK | [ OK ] | 
| Package: DLBCL | 
| Version: 1.3.1 | 
| Command: /Users/biocbuild/BBS/utils/build-universal.sh DLBCL_1.3.1.tar.gz /Library/Frameworks/R.framework/Versions/2.11/Resources/bin/R DLBCL.buildbin-libdir | 
| StartedAt: 2010-09-24 04:24:06 -0700 (Fri, 24 Sep 2010) | 
| EndedAt: 2010-09-24 04:24:15 -0700 (Fri, 24 Sep 2010) | 
| EllapsedTime: 9.8 seconds | 
| RetCode: 0 | 
| Status: OK | 
| PackageFile: DLBCL_1.3.1.tgz | 
| PackageFileSize: 5.532 MiB | 
                INSTALLATION WITH 'R CMD INSTALL --preclean --library=DLBCL.buildbin-libdir DLBCL_1.3.1.tar.gz'
* installing *source* package ‘DLBCL’ ...
** data
** help
*** installing help indices
** building package indices ...
** testing if installed package can be loaded
* DONE (DLBCL)