| Back to the "Multiple platform build/check report" | 
| Package 56/83 | Hostname | OS / Arch | BUILD | CHECK | BUILD BIN | ||||
| lumiBarnes 1.3.4 Pan Du 
 | wilson1 | Linux (openSUSE 11.1) / x86_64 | OK | OK | |||||
| liverpool | Windows Server 2003 R2 (32-bit) / x64 | OK | OK | OK | |||||
| pelham | Mac OS X Leopard (10.5.8) / i386 | [ OK ] | OK | OK | 
| Package: lumiBarnes | 
| Version: 1.3.4 | 
| Command: /Library/Frameworks/R.framework/Versions/2.11/Resources/bin/R CMD build lumiBarnes | 
| StartedAt: 2010-09-24 02:05:29 -0700 (Fri, 24 Sep 2010) | 
| EndedAt: 2010-09-24 02:05:33 -0700 (Fri, 24 Sep 2010) | 
| EllapsedTime: 3.2 seconds | 
| RetCode: 0 | 
| Status: OK | 
| PackageFile: lumiBarnes_1.3.4.tar.gz | 
| PackageFileSize: 4.985 MiB | 
* checking for file 'lumiBarnes/DESCRIPTION' ... OK * preparing 'lumiBarnes': * checking DESCRIPTION meta-information ... OK * removing junk files * checking for LF line-endings in source and make files * checking for empty or unneeded directories * building 'lumiBarnes_1.3.4.tar.gz'