| gcspikelite 1.0.2 Mark Robinson
 
 | Snapshot Date: 2010-09-24 00:28:34 -0700 (Fri, 24 Sep 2010) |  | URL: https://hedgehog.fhcrc.org/bioc-data/trunk/experiment/pkgs/gcspikelite |  | Last Changed Rev: 793 / Revision: 1309 |  | Last Changed Date: 2009-05-11 11:48:05 -0700 (Mon, 11 May 2009) | 
 | wilson1 | Linux (openSUSE 11.1) / x86_64 | OK | OK |  | 
| liverpool | Windows Server 2003 R2 (32-bit) / x64 | OK | OK | OK | 
| pelham | Mac OS X Leopard (10.5.8) / i386 | OK | OK | [ OK ] | 
                INSTALLATION WITH 'R CMD INSTALL --preclean --library=gcspikelite.buildbin-libdir gcspikelite_1.0.2.tar.gz'
* installing *source* package ‘gcspikelite’ ...
** R
** data
** preparing package for lazy loading
** help
No man pages found in package  ‘gcspikelite’ 
*** installing help indices
** building package indices ...
** testing if installed package can be loaded
* DONE (gcspikelite)