| pumadata 1.0.3 Richard Pearson
 
 | Snapshot Date: 2010-09-24 00:28:34 -0700 (Fri, 24 Sep 2010) |  | URL: https://hedgehog.fhcrc.org/bioc-data/trunk/experiment/pkgs/pumadata |  | Last Changed Rev: 984 / Revision: 1309 |  | Last Changed Date: 2009-09-15 12:24:18 -0700 (Tue, 15 Sep 2009) | 
 | wilson1 | Linux (openSUSE 11.1) / x86_64 | OK | WARNINGS |  | 
| liverpool | Windows Server 2003 R2 (32-bit) / x64 | OK | WARNINGS | OK | 
| pelham | Mac OS X Leopard (10.5.8) / i386 | OK | WARNINGS | [ OK ] | 
                INSTALLATION WITH 'R CMD INSTALL --preclean --library=pumadata.buildbin-libdir pumadata_1.0.3.tar.gz'
* installing *source* package ‘pumadata’ ...
** R
** data
** inst
** preparing package for lazy loading
Loading required package: Biobase
Welcome to Bioconductor
  Vignettes contain introductory material. To view, type
  'openVignette()'. To cite Bioconductor, see
  'citation("Biobase")' and for packages 'citation(pkgname)'.
Loading required package: mclust
by using mclust, invoked on its own or through another package,
you accept the license agreement in the mclust LICENSE file
and at http://www.stat.washington.edu/mclust/license.txt
** help
*** installing help indices
** building package indices ...
** testing if installed package can be loaded
* DONE (pumadata)